| Back to Multiple platform build/check report for BioC 3.15 |
|
This page was generated on 2022-03-18 11:08:41 -0400 (Fri, 18 Mar 2022).
| Hostname | OS | Arch (*) | R version | Installed pkgs |
|---|---|---|---|---|
| nebbiolo1 | Linux (Ubuntu 20.04.4 LTS) | x86_64 | R Under development (unstable) (2022-02-17 r81757) -- "Unsuffered Consequences" | 4334 |
| riesling1 | Windows Server 2019 Standard | x64 | R Under development (unstable) (2021-11-21 r81221) -- "Unsuffered Consequences" | 4097 |
| palomino3 | Windows Server 2022 Datacenter | x64 | R Under development (unstable) (2022-02-17 r81757 ucrt) -- "Unsuffered Consequences" | 4083 |
| merida1 | macOS 10.14.6 Mojave | x86_64 | R Under development (unstable) (2022-03-02 r81842) -- "Unsuffered Consequences" | 4134 |
| Click on any hostname to see more info about the system (e.g. compilers) (*) as reported by 'uname -p', except on Windows and Mac OS X | ||||
|
To the developers/maintainers of the ShortRead package: - Please allow up to 24 hours (and sometimes 48 hours) for your latest push to git@git.bioconductor.org:packages/ShortRead.git to reflect on this report. See How and When does the builder pull? When will my changes propagate? here for more information. - Make sure to use the following settings in order to reproduce any error or warning you see on this page. |
| Package 1791/2090 | Hostname | OS / Arch | INSTALL | BUILD | CHECK | BUILD BIN | ||||||||
| ShortRead 1.53.1 (landing page) Bioconductor Package Maintainer
| nebbiolo1 | Linux (Ubuntu 20.04.4 LTS) / x86_64 | OK | OK | WARNINGS | |||||||||
| riesling1 | Windows Server 2019 Standard / x64 | OK | OK | OK | OK | |||||||||
| palomino3 | Windows Server 2022 Datacenter / x64 | OK | OK | OK | OK | |||||||||
| merida1 | macOS 10.14.6 Mojave / x86_64 | OK | OK | OK | OK | |||||||||
| Package: ShortRead |
| Version: 1.53.1 |
| Command: rm -rf ShortRead.buildbin-libdir && mkdir ShortRead.buildbin-libdir && D:\biocbuild\bbs-3.15-bioc\R\bin\R.exe CMD INSTALL --build --library=ShortRead.buildbin-libdir ShortRead_1.53.1.tar.gz |
| StartedAt: 2022-03-17 21:39:58 -0400 (Thu, 17 Mar 2022) |
| EndedAt: 2022-03-17 21:41:32 -0400 (Thu, 17 Mar 2022) |
| EllapsedTime: 93.6 seconds |
| RetCode: 0 |
| Status: OK |
| PackageFile: ShortRead_1.53.1.zip |
| PackageFileSize: 5.64 MiB |
##############################################################################
##############################################################################
###
### Running command:
###
### rm -rf ShortRead.buildbin-libdir && mkdir ShortRead.buildbin-libdir && D:\biocbuild\bbs-3.15-bioc\R\bin\R.exe CMD INSTALL --build --library=ShortRead.buildbin-libdir ShortRead_1.53.1.tar.gz
###
##############################################################################
##############################################################################
* installing *source* package 'ShortRead' ...
** using staged installation
**********************************************
WARNING: this package has a configure script
It probably needs manual configuration
**********************************************
** libs
"C:/rtools40/mingw64/bin/"gcc -I"D:/biocbuild/bbs-3.15-bioc/R/library/zlibbioc/include" -I"D:/biocbuild/bbs-3.15-bioc/R/include" -DNDEBUG -I'D:/biocbuild/bbs-3.15-bioc/R/library/S4Vectors/include' -I'D:/biocbuild/bbs-3.15-bioc/R/library/IRanges/include' -I'D:/biocbuild/bbs-3.15-bioc/R/library/XVector/include' -I'D:/biocbuild/bbs-3.15-bioc/R/library/Biostrings/include' -I'D:/biocbuild/bbs-3.15-bioc/R/library/Rhtslib/include' -I'D:/biocbuild/bbs-3.15-bioc/R/library/zlibbioc/include' -I"C:/extsoft/include" -O2 -Wall -std=gnu99 -mfpmath=sse -msse2 -mstackrealign -fno-reorder-blocks-and-partition -c Biostrings_stubs.c -o Biostrings_stubs.o
"C:/rtools40/mingw64/bin/"gcc -I"D:/biocbuild/bbs-3.15-bioc/R/library/zlibbioc/include" -I"D:/biocbuild/bbs-3.15-bioc/R/include" -DNDEBUG -I'D:/biocbuild/bbs-3.15-bioc/R/library/S4Vectors/include' -I'D:/biocbuild/bbs-3.15-bioc/R/library/IRanges/include' -I'D:/biocbuild/bbs-3.15-bioc/R/library/XVector/include' -I'D:/biocbuild/bbs-3.15-bioc/R/library/Biostrings/include' -I'D:/biocbuild/bbs-3.15-bioc/R/library/Rhtslib/include' -I'D:/biocbuild/bbs-3.15-bioc/R/library/zlibbioc/include' -I"C:/extsoft/include" -O2 -Wall -std=gnu99 -mfpmath=sse -msse2 -mstackrealign -fno-reorder-blocks-and-partition -c IRanges_stubs.c -o IRanges_stubs.o
"C:/rtools40/mingw64/bin/"gcc -I"D:/biocbuild/bbs-3.15-bioc/R/library/zlibbioc/include" -I"D:/biocbuild/bbs-3.15-bioc/R/include" -DNDEBUG -I'D:/biocbuild/bbs-3.15-bioc/R/library/S4Vectors/include' -I'D:/biocbuild/bbs-3.15-bioc/R/library/IRanges/include' -I'D:/biocbuild/bbs-3.15-bioc/R/library/XVector/include' -I'D:/biocbuild/bbs-3.15-bioc/R/library/Biostrings/include' -I'D:/biocbuild/bbs-3.15-bioc/R/library/Rhtslib/include' -I'D:/biocbuild/bbs-3.15-bioc/R/library/zlibbioc/include' -I"C:/extsoft/include" -O2 -Wall -std=gnu99 -mfpmath=sse -msse2 -mstackrealign -fno-reorder-blocks-and-partition -c R_init_ShortRead.c -o R_init_ShortRead.o
"C:/rtools40/mingw64/bin/"gcc -I"D:/biocbuild/bbs-3.15-bioc/R/library/zlibbioc/include" -I"D:/biocbuild/bbs-3.15-bioc/R/include" -DNDEBUG -I'D:/biocbuild/bbs-3.15-bioc/R/library/S4Vectors/include' -I'D:/biocbuild/bbs-3.15-bioc/R/library/IRanges/include' -I'D:/biocbuild/bbs-3.15-bioc/R/library/XVector/include' -I'D:/biocbuild/bbs-3.15-bioc/R/library/Biostrings/include' -I'D:/biocbuild/bbs-3.15-bioc/R/library/Rhtslib/include' -I'D:/biocbuild/bbs-3.15-bioc/R/library/zlibbioc/include' -I"C:/extsoft/include" -O2 -Wall -std=gnu99 -mfpmath=sse -msse2 -mstackrealign -fno-reorder-blocks-and-partition -c S4Vectors_stubs.c -o S4Vectors_stubs.o
"C:/rtools40/mingw64/bin/"gcc -I"D:/biocbuild/bbs-3.15-bioc/R/library/zlibbioc/include" -I"D:/biocbuild/bbs-3.15-bioc/R/include" -DNDEBUG -I'D:/biocbuild/bbs-3.15-bioc/R/library/S4Vectors/include' -I'D:/biocbuild/bbs-3.15-bioc/R/library/IRanges/include' -I'D:/biocbuild/bbs-3.15-bioc/R/library/XVector/include' -I'D:/biocbuild/bbs-3.15-bioc/R/library/Biostrings/include' -I'D:/biocbuild/bbs-3.15-bioc/R/library/Rhtslib/include' -I'D:/biocbuild/bbs-3.15-bioc/R/library/zlibbioc/include' -I"C:/extsoft/include" -O2 -Wall -std=gnu99 -mfpmath=sse -msse2 -mstackrealign -fno-reorder-blocks-and-partition -c XVector_stubs.c -o XVector_stubs.o
"C:/rtools40/mingw64/bin/"gcc -I"D:/biocbuild/bbs-3.15-bioc/R/library/zlibbioc/include" -I"D:/biocbuild/bbs-3.15-bioc/R/include" -DNDEBUG -I'D:/biocbuild/bbs-3.15-bioc/R/library/S4Vectors/include' -I'D:/biocbuild/bbs-3.15-bioc/R/library/IRanges/include' -I'D:/biocbuild/bbs-3.15-bioc/R/library/XVector/include' -I'D:/biocbuild/bbs-3.15-bioc/R/library/Biostrings/include' -I'D:/biocbuild/bbs-3.15-bioc/R/library/Rhtslib/include' -I'D:/biocbuild/bbs-3.15-bioc/R/library/zlibbioc/include' -I"C:/extsoft/include" -O2 -Wall -std=gnu99 -mfpmath=sse -msse2 -mstackrealign -fno-reorder-blocks-and-partition -c alphabet.c -o alphabet.o
"C:/rtools40/mingw64/bin/"gcc -I"D:/biocbuild/bbs-3.15-bioc/R/library/zlibbioc/include" -I"D:/biocbuild/bbs-3.15-bioc/R/include" -DNDEBUG -I'D:/biocbuild/bbs-3.15-bioc/R/library/S4Vectors/include' -I'D:/biocbuild/bbs-3.15-bioc/R/library/IRanges/include' -I'D:/biocbuild/bbs-3.15-bioc/R/library/XVector/include' -I'D:/biocbuild/bbs-3.15-bioc/R/library/Biostrings/include' -I'D:/biocbuild/bbs-3.15-bioc/R/library/Rhtslib/include' -I'D:/biocbuild/bbs-3.15-bioc/R/library/zlibbioc/include' -I"C:/extsoft/include" -O2 -Wall -std=gnu99 -mfpmath=sse -msse2 -mstackrealign -fno-reorder-blocks-and-partition -c count.c -o count.o
"C:/rtools40/mingw64/bin/"gcc -I"D:/biocbuild/bbs-3.15-bioc/R/library/zlibbioc/include" -I"D:/biocbuild/bbs-3.15-bioc/R/include" -DNDEBUG -I'D:/biocbuild/bbs-3.15-bioc/R/library/S4Vectors/include' -I'D:/biocbuild/bbs-3.15-bioc/R/library/IRanges/include' -I'D:/biocbuild/bbs-3.15-bioc/R/library/XVector/include' -I'D:/biocbuild/bbs-3.15-bioc/R/library/Biostrings/include' -I'D:/biocbuild/bbs-3.15-bioc/R/library/Rhtslib/include' -I'D:/biocbuild/bbs-3.15-bioc/R/library/zlibbioc/include' -I"C:/extsoft/include" -O2 -Wall -std=gnu99 -mfpmath=sse -msse2 -mstackrealign -fno-reorder-blocks-and-partition -c io.c -o io.o
"C:/rtools40/mingw64/bin/"gcc -I"D:/biocbuild/bbs-3.15-bioc/R/library/zlibbioc/include" -I"D:/biocbuild/bbs-3.15-bioc/R/include" -DNDEBUG -I'D:/biocbuild/bbs-3.15-bioc/R/library/S4Vectors/include' -I'D:/biocbuild/bbs-3.15-bioc/R/library/IRanges/include' -I'D:/biocbuild/bbs-3.15-bioc/R/library/XVector/include' -I'D:/biocbuild/bbs-3.15-bioc/R/library/Biostrings/include' -I'D:/biocbuild/bbs-3.15-bioc/R/library/Rhtslib/include' -I'D:/biocbuild/bbs-3.15-bioc/R/library/zlibbioc/include' -I"C:/extsoft/include" -O2 -Wall -std=gnu99 -mfpmath=sse -msse2 -mstackrealign -fno-reorder-blocks-and-partition -c io_bowtie.c -o io_bowtie.o
"C:/rtools40/mingw64/bin/"gcc -I"D:/biocbuild/bbs-3.15-bioc/R/library/zlibbioc/include" -I"D:/biocbuild/bbs-3.15-bioc/R/include" -DNDEBUG -I'D:/biocbuild/bbs-3.15-bioc/R/library/S4Vectors/include' -I'D:/biocbuild/bbs-3.15-bioc/R/library/IRanges/include' -I'D:/biocbuild/bbs-3.15-bioc/R/library/XVector/include' -I'D:/biocbuild/bbs-3.15-bioc/R/library/Biostrings/include' -I'D:/biocbuild/bbs-3.15-bioc/R/library/Rhtslib/include' -I'D:/biocbuild/bbs-3.15-bioc/R/library/zlibbioc/include' -I"C:/extsoft/include" -O2 -Wall -std=gnu99 -mfpmath=sse -msse2 -mstackrealign -fno-reorder-blocks-and-partition -c io_soap.c -o io_soap.o
"C:/rtools40/mingw64/bin/"g++ -std=gnu++11 -I"D:/biocbuild/bbs-3.15-bioc/R/library/zlibbioc/include" -I"D:/biocbuild/bbs-3.15-bioc/R/include" -DNDEBUG -I'D:/biocbuild/bbs-3.15-bioc/R/library/S4Vectors/include' -I'D:/biocbuild/bbs-3.15-bioc/R/library/IRanges/include' -I'D:/biocbuild/bbs-3.15-bioc/R/library/XVector/include' -I'D:/biocbuild/bbs-3.15-bioc/R/library/Biostrings/include' -I'D:/biocbuild/bbs-3.15-bioc/R/library/Rhtslib/include' -I'D:/biocbuild/bbs-3.15-bioc/R/library/zlibbioc/include' -I"C:/extsoft/include" -O2 -Wall -mfpmath=sse -msse2 -mstackrealign -fno-reorder-blocks-and-partition -c readBfaToc.cc -o readBfaToc.o
"C:/rtools40/mingw64/bin/"g++ -std=gnu++11 -I"D:/biocbuild/bbs-3.15-bioc/R/library/zlibbioc/include" -I"D:/biocbuild/bbs-3.15-bioc/R/include" -DNDEBUG -I'D:/biocbuild/bbs-3.15-bioc/R/library/S4Vectors/include' -I'D:/biocbuild/bbs-3.15-bioc/R/library/IRanges/include' -I'D:/biocbuild/bbs-3.15-bioc/R/library/XVector/include' -I'D:/biocbuild/bbs-3.15-bioc/R/library/Biostrings/include' -I'D:/biocbuild/bbs-3.15-bioc/R/library/Rhtslib/include' -I'D:/biocbuild/bbs-3.15-bioc/R/library/zlibbioc/include' -I"C:/extsoft/include" -O2 -Wall -mfpmath=sse -msse2 -mstackrealign -fno-reorder-blocks-and-partition -c read_maq_map.cc -o read_maq_map.o
"C:/rtools40/mingw64/bin/"gcc -I"D:/biocbuild/bbs-3.15-bioc/R/library/zlibbioc/include" -I"D:/biocbuild/bbs-3.15-bioc/R/include" -DNDEBUG -I'D:/biocbuild/bbs-3.15-bioc/R/library/S4Vectors/include' -I'D:/biocbuild/bbs-3.15-bioc/R/library/IRanges/include' -I'D:/biocbuild/bbs-3.15-bioc/R/library/XVector/include' -I'D:/biocbuild/bbs-3.15-bioc/R/library/Biostrings/include' -I'D:/biocbuild/bbs-3.15-bioc/R/library/Rhtslib/include' -I'D:/biocbuild/bbs-3.15-bioc/R/library/zlibbioc/include' -I"C:/extsoft/include" -O2 -Wall -std=gnu99 -mfpmath=sse -msse2 -mstackrealign -fno-reorder-blocks-and-partition -c sampler.c -o sampler.o
"C:/rtools40/mingw64/bin/"gcc -I"D:/biocbuild/bbs-3.15-bioc/R/library/zlibbioc/include" -I"D:/biocbuild/bbs-3.15-bioc/R/include" -DNDEBUG -I'D:/biocbuild/bbs-3.15-bioc/R/library/S4Vectors/include' -I'D:/biocbuild/bbs-3.15-bioc/R/library/IRanges/include' -I'D:/biocbuild/bbs-3.15-bioc/R/library/XVector/include' -I'D:/biocbuild/bbs-3.15-bioc/R/library/Biostrings/include' -I'D:/biocbuild/bbs-3.15-bioc/R/library/Rhtslib/include' -I'D:/biocbuild/bbs-3.15-bioc/R/library/zlibbioc/include' -I"C:/extsoft/include" -O2 -Wall -std=gnu99 -mfpmath=sse -msse2 -mstackrealign -fno-reorder-blocks-and-partition -c trim.c -o trim.o
"C:/rtools40/mingw64/bin/"gcc -I"D:/biocbuild/bbs-3.15-bioc/R/library/zlibbioc/include" -I"D:/biocbuild/bbs-3.15-bioc/R/include" -DNDEBUG -I'D:/biocbuild/bbs-3.15-bioc/R/library/S4Vectors/include' -I'D:/biocbuild/bbs-3.15-bioc/R/library/IRanges/include' -I'D:/biocbuild/bbs-3.15-bioc/R/library/XVector/include' -I'D:/biocbuild/bbs-3.15-bioc/R/library/Biostrings/include' -I'D:/biocbuild/bbs-3.15-bioc/R/library/Rhtslib/include' -I'D:/biocbuild/bbs-3.15-bioc/R/library/zlibbioc/include' -I"C:/extsoft/include" -O2 -Wall -std=gnu99 -mfpmath=sse -msse2 -mstackrealign -fno-reorder-blocks-and-partition -c util.c -o util.o
"C:/rtools40/mingw64/bin/"gcc -I"D:/biocbuild/bbs-3.15-bioc/R/library/zlibbioc/include" -I"D:/biocbuild/bbs-3.15-bioc/R/include" -DNDEBUG -I'D:/biocbuild/bbs-3.15-bioc/R/library/S4Vectors/include' -I'D:/biocbuild/bbs-3.15-bioc/R/library/IRanges/include' -I'D:/biocbuild/bbs-3.15-bioc/R/library/XVector/include' -I'D:/biocbuild/bbs-3.15-bioc/R/library/Biostrings/include' -I'D:/biocbuild/bbs-3.15-bioc/R/library/Rhtslib/include' -I'D:/biocbuild/bbs-3.15-bioc/R/library/zlibbioc/include' -I"C:/extsoft/include" -O2 -Wall -std=gnu99 -mfpmath=sse -msse2 -mstackrealign -fno-reorder-blocks-and-partition -c xsnap.c -o xsnap.o
C:/rtools40/mingw64/bin/g++ -std=gnu++11 -shared -s -static-libgcc -o ShortRead.dll tmp.def Biostrings_stubs.o IRanges_stubs.o R_init_ShortRead.o S4Vectors_stubs.o XVector_stubs.o alphabet.o count.o io.o io_bowtie.o io_soap.o readBfaToc.o read_maq_map.o sampler.o trim.o util.o xsnap.o -LD:/biocbuild/bbs-3.15-bioc/R/library/zlibbioc/libs/x64 -lzlib1bioc -LC:/extsoft/lib/x64 -LC:/extsoft/lib -LD:/biocbuild/bbs-3.15-bioc/R/bin/x64 -lR
installing to D:/biocbuild/bbs-3.15-bioc/meat/ShortRead.buildbin-libdir/00LOCK-ShortRead/00new/ShortRead/libs/x64
** R
** inst
** byte-compile and prepare package for lazy loading
** help
*** installing help indices
converting help for package 'ShortRead'
finding HTML links ... done
AlignedDataFrame-class html
AlignedDataFrame html
AlignedRead-class html
AlignedRead html
BowtieQA-class html
ExperimentPath-class html
FastqQA-class html
Intensity-class html
MAQMapQA-class html
QA-class html
QualityScore-class html
QualityScore html
RochePath-class html
RocheSet-class html
RtaIntensity-class html
RtaIntensity html
SRFilter-class html
SRFilterResult-class html
SRSet-class html
finding level-2 HTML links ... done
SRUtil-class html
REDIRECT:topic Previous alias or file overwritten by alias: D:/biocbuild/bbs-3.15-bioc/meat/ShortRead.buildbin-libdir/00LOCK-ShortRead/00new/ShortRead/help/srlist.html
Sampler-class html
ShortRead-class html
ShortRead-deprecated html
ShortRead-package html
ShortReadQ-class html
Snapshot-class html
SnapshotFunction-class html
SolexaExportQA-class html
SolexaIntensity-class html
SolexaIntensity html
SolexaPath-class html
SolexaSet-class html
SpTrellis-class html
accessors html
REDIRECT:topic Previous alias or file overwritten by alias: D:/biocbuild/bbs-3.15-bioc/meat/ShortRead.buildbin-libdir/00LOCK-ShortRead/00new/ShortRead/help/experimentPath.html
REDIRECT:topic Previous alias or file overwritten by alias: D:/biocbuild/bbs-3.15-bioc/meat/ShortRead.buildbin-libdir/00LOCK-ShortRead/00new/ShortRead/help/solexaPath.html
alphabetByCycle html
alphabetScore html
clean html
countLines html
deprecated html
dotQA-class html
dustyScore html
filterFastq html
polyn html
qa html
qa2 html
REDIRECT:topic Previous alias or file overwritten by alias: D:/biocbuild/bbs-3.15-bioc/meat/ShortRead.buildbin-libdir/00LOCK-ShortRead/00new/ShortRead/help/QA.html
readAligned html
readBaseQuality html
readBfaToc html
readFasta html
readFastq html
readIntensities html
readPrb html
readQseq html
readXStringColumns html
renew html
report html
spViewPerFeature html
srFilter html
srdistance html
srduplicated html
tables html
trimTails html
** building package indices
** installing vignettes
** testing if installed package can be loaded from temporary location
** testing if installed package can be loaded from final location
** testing if installed package keeps a record of temporary installation path
* MD5 sums
packaged installation of 'ShortRead' as ShortRead_1.53.1.zip
* DONE (ShortRead)