| Back to Multiple platform build/check report for BioC 3.15 |
|
This page was generated on 2022-10-19 13:22:17 -0400 (Wed, 19 Oct 2022).
| Hostname | OS | Arch (*) | R version | Installed pkgs |
|---|---|---|---|---|
| nebbiolo1 | Linux (Ubuntu 20.04.5 LTS) | x86_64 | 4.2.1 (2022-06-23) -- "Funny-Looking Kid" | 4386 |
| palomino3 | Windows Server 2022 Datacenter | x64 | 4.2.1 (2022-06-23 ucrt) -- "Funny-Looking Kid" | 4138 |
| merida1 | macOS 10.14.6 Mojave | x86_64 | 4.2.1 (2022-06-23) -- "Funny-Looking Kid" | 4205 |
| Click on any hostname to see more info about the system (e.g. compilers) (*) as reported by 'uname -p', except on Windows and Mac OS X | ||||
|
To the developers/maintainers of the SharedObject package: - Please allow up to 24 hours (and sometimes 48 hours) for your latest push to git@git.bioconductor.org:packages/SharedObject.git to reflect on this report. See How and When does the builder pull? When will my changes propagate? for more information. - Make sure to use the following settings in order to reproduce any error or warning you see on this page. |
| Package 1828/2140 | Hostname | OS / Arch | INSTALL | BUILD | CHECK | BUILD BIN | ||||||||
| SharedObject 1.10.0 (landing page) Jiefei Wang
| nebbiolo1 | Linux (Ubuntu 20.04.5 LTS) / x86_64 | OK | OK | OK | |||||||||
| palomino3 | Windows Server 2022 Datacenter / x64 | OK | OK | OK | OK | |||||||||
| merida1 | macOS 10.14.6 Mojave / x86_64 | OK | OK | OK | OK | |||||||||
| Package: SharedObject |
| Version: 1.10.0 |
| Command: F:\biocbuild\bbs-3.15-bioc\R\bin\R.exe CMD INSTALL SharedObject |
| StartedAt: 2022-10-18 15:45:31 -0400 (Tue, 18 Oct 2022) |
| EndedAt: 2022-10-18 15:46:19 -0400 (Tue, 18 Oct 2022) |
| EllapsedTime: 48.5 seconds |
| RetCode: 0 |
| Status: OK |
##############################################################################
##############################################################################
###
### Running command:
###
### F:\biocbuild\bbs-3.15-bioc\R\bin\R.exe CMD INSTALL SharedObject
###
##############################################################################
##############################################################################
* installing to library 'F:/biocbuild/bbs-3.15-bioc/R/library'
* installing *source* package 'SharedObject' ...
** using staged installation
**********************************************
WARNING: this package has a configure script
It probably needs manual configuration
**********************************************
** libs
mkdir -p ../inst/include&&\
mkdir -p ../inst/include/SharedObject&&\
mkdir -p ../inst/usrlib/x64
g++ -std=gnu++11 -I"F:/biocbuild/bbs-3.15-bioc/R/include" -DNDEBUG -I'F:/biocbuild/bbs-3.15-bioc/R/library/BH/include' -I'F:/biocbuild/bbs-3.15-bioc/R/library/Rcpp/include' -I"C:/rtools42/x86_64-w64-mingw32.static.posix/include" -O2 -Wall -mfpmath=sse -msse2 -mstackrealign -c C_interface.cpp -o C_interface.o
g++ -std=gnu++11 -I"F:/biocbuild/bbs-3.15-bioc/R/include" -DNDEBUG -I'F:/biocbuild/bbs-3.15-bioc/R/library/BH/include' -I'F:/biocbuild/bbs-3.15-bioc/R/library/Rcpp/include' -I"C:/rtools42/x86_64-w64-mingw32.static.posix/include" -O2 -Wall -mfpmath=sse -msse2 -mstackrealign -c RcppExports.cpp -o RcppExports.o
g++ -std=gnu++11 -I"F:/biocbuild/bbs-3.15-bioc/R/include" -DNDEBUG -I'F:/biocbuild/bbs-3.15-bioc/R/library/BH/include' -I'F:/biocbuild/bbs-3.15-bioc/R/library/Rcpp/include' -I"C:/rtools42/x86_64-w64-mingw32.static.posix/include" -O2 -Wall -mfpmath=sse -msse2 -mstackrealign -c altrep.cpp -o altrep.o
g++ -std=gnu++11 -I"F:/biocbuild/bbs-3.15-bioc/R/include" -DNDEBUG -I'F:/biocbuild/bbs-3.15-bioc/R/library/BH/include' -I'F:/biocbuild/bbs-3.15-bioc/R/library/Rcpp/include' -I"C:/rtools42/x86_64-w64-mingw32.static.posix/include" -O2 -Wall -mfpmath=sse -msse2 -mstackrealign -c altrepRegistration.cpp -o altrepRegistration.o
g++ -std=gnu++11 -I"F:/biocbuild/bbs-3.15-bioc/R/include" -DNDEBUG -I'F:/biocbuild/bbs-3.15-bioc/R/library/BH/include' -I'F:/biocbuild/bbs-3.15-bioc/R/library/Rcpp/include' -I"C:/rtools42/x86_64-w64-mingw32.static.posix/include" -O2 -Wall -mfpmath=sse -msse2 -mstackrealign -c numericAltrepOperations.cpp -o numericAltrepOperations.o
g++ -std=gnu++11 -I"F:/biocbuild/bbs-3.15-bioc/R/include" -DNDEBUG -I'F:/biocbuild/bbs-3.15-bioc/R/library/BH/include' -I'F:/biocbuild/bbs-3.15-bioc/R/library/Rcpp/include' -I"C:/rtools42/x86_64-w64-mingw32.static.posix/include" -O2 -Wall -mfpmath=sse -msse2 -mstackrealign -c sharedMemory.cpp -o sharedMemory.o
g++ -std=gnu++11 -I"F:/biocbuild/bbs-3.15-bioc/R/include" -DNDEBUG -I'F:/biocbuild/bbs-3.15-bioc/R/library/BH/include' -I'F:/biocbuild/bbs-3.15-bioc/R/library/Rcpp/include' -I"C:/rtools42/x86_64-w64-mingw32.static.posix/include" -O2 -Wall -mfpmath=sse -msse2 -mstackrealign -c sharedObjectClass.cpp -o sharedObjectClass.o
g++ -std=gnu++11 -I"F:/biocbuild/bbs-3.15-bioc/R/include" -DNDEBUG -I'F:/biocbuild/bbs-3.15-bioc/R/library/BH/include' -I'F:/biocbuild/bbs-3.15-bioc/R/library/Rcpp/include' -I"C:/rtools42/x86_64-w64-mingw32.static.posix/include" -O2 -Wall -mfpmath=sse -msse2 -mstackrealign -c stringAltrepOperations.cpp -o stringAltrepOperations.o
g++ -std=gnu++11 -I"F:/biocbuild/bbs-3.15-bioc/R/include" -DNDEBUG -I'F:/biocbuild/bbs-3.15-bioc/R/library/BH/include' -I'F:/biocbuild/bbs-3.15-bioc/R/library/Rcpp/include' -I"C:/rtools42/x86_64-w64-mingw32.static.posix/include" -O2 -Wall -mfpmath=sse -msse2 -mstackrealign -c utils.cpp -o utils.o
g++ -shared -s -static-libgcc -o SharedObject.dll tmp.def C_interface.o RcppExports.o altrep.o altrepRegistration.o numericAltrepOperations.o sharedMemory.o sharedObjectClass.o stringAltrepOperations.o utils.o -LC:/rtools42/x86_64-w64-mingw32.static.posix/lib/x64 -LC:/rtools42/x86_64-w64-mingw32.static.posix/lib -LF:/biocbuild/bbs-3.15-bioc/R/bin/x64 -lR
ar -crv SharedObject.a *.o
a - C_interface.o
a - RcppExports.o
a - altrep.o
a - altrepRegistration.o
a - numericAltrepOperations.o
a - sharedMemory.o
a - sharedObjectClass.o
a - stringAltrepOperations.o
a - utils.o
cp "sharedMemory.h" "../inst/include/SharedObject/"&&\
cp "SharedObject.a" "../inst/usrlib/x64/"
installing to F:/biocbuild/bbs-3.15-bioc/R/library/00LOCK-SharedObject/00new/SharedObject/libs/x64
** R
** inst
** byte-compile and prepare package for lazy loading
** help
*** installing help indices
** building package indices
** installing vignettes
** testing if installed package can be loaded from temporary location
** testing if installed package can be loaded from final location
** testing if installed package keeps a record of temporary installation path
* DONE (SharedObject)