| Back to Multiple platform build/check report for BioC 3.15 | 
 | 
This page was generated on 2022-10-19 13:20:52 -0400 (Wed, 19 Oct 2022).
| Hostname | OS | Arch (*) | R version | Installed pkgs | 
|---|---|---|---|---|
| nebbiolo1 | Linux (Ubuntu 20.04.5 LTS) | x86_64 | 4.2.1 (2022-06-23) -- "Funny-Looking Kid" | 4386 | 
| palomino3 | Windows Server 2022 Datacenter | x64 | 4.2.1 (2022-06-23 ucrt) -- "Funny-Looking Kid" | 4138 | 
| merida1 | macOS 10.14.6 Mojave | x86_64 | 4.2.1 (2022-06-23) -- "Funny-Looking Kid" | 4205 | 
| Click on any hostname to see more info about the system (e.g. compilers) (*) as reported by 'uname -p', except on Windows and Mac OS X | ||||
| To the developers/maintainers of the SeqVarTools package: - Please allow up to 24 hours (and sometimes 48 hours) for your latest push to git@git.bioconductor.org:packages/SeqVarTools.git to reflect on this report. See How and When does the builder pull? When will my changes propagate? for more information. - Make sure to use the following settings in order to reproduce any error or warning you see on this page. | 
| Package 1822/2140 | Hostname | OS / Arch | INSTALL | BUILD | CHECK | BUILD BIN | ||||||||
| SeqVarTools 1.34.0  (landing page) Stephanie M. Gogarten 
 | nebbiolo1 | Linux (Ubuntu 20.04.5 LTS) / x86_64 | OK | OK | OK |  | ||||||||
| palomino3 | Windows Server 2022 Datacenter / x64 | OK | OK | OK | OK |  | ||||||||
| merida1 | macOS 10.14.6 Mojave / x86_64 | OK | OK | OK | OK |  | ||||||||
| Package: SeqVarTools | 
| Version: 1.34.0 | 
| Command: /home/biocbuild/bbs-3.15-bioc/R/bin/R CMD check --install=check:SeqVarTools.install-out.txt --library=/home/biocbuild/bbs-3.15-bioc/R/library --no-vignettes --timings SeqVarTools_1.34.0.tar.gz | 
| StartedAt: 2022-10-18 21:48:31 -0400 (Tue, 18 Oct 2022) | 
| EndedAt: 2022-10-18 21:51:02 -0400 (Tue, 18 Oct 2022) | 
| EllapsedTime: 150.4 seconds | 
| RetCode: 0 | 
| Status: OK | 
| CheckDir: SeqVarTools.Rcheck | 
| Warnings: 0 | 
############################################################################## ############################################################################## ### ### Running command: ### ### /home/biocbuild/bbs-3.15-bioc/R/bin/R CMD check --install=check:SeqVarTools.install-out.txt --library=/home/biocbuild/bbs-3.15-bioc/R/library --no-vignettes --timings SeqVarTools_1.34.0.tar.gz ### ############################################################################## ############################################################################## * using log directory ‘/home/biocbuild/bbs-3.15-bioc/meat/SeqVarTools.Rcheck’ * using R version 4.2.1 (2022-06-23) * using platform: x86_64-pc-linux-gnu (64-bit) * using session charset: UTF-8 * using option ‘--no-vignettes’ * checking for file ‘SeqVarTools/DESCRIPTION’ ... OK * checking extension type ... Package * this is package ‘SeqVarTools’ version ‘1.34.0’ * checking package namespace information ... OK * checking package dependencies ... OK * checking if this is a source package ... OK * checking if there is a namespace ... OK * checking for hidden files and directories ... OK * checking for portable file names ... OK * checking for sufficient/correct file permissions ... OK * checking whether package ‘SeqVarTools’ can be installed ... OK * checking installed package size ... OK * checking package directory ... OK * checking ‘build’ directory ... OK * checking DESCRIPTION meta-information ... OK * checking top-level files ... OK * checking for left-over files ... OK * checking index information ... OK * checking package subdirectories ... OK * checking R files for non-ASCII characters ... OK * checking R files for syntax errors ... OK * checking whether the package can be loaded ... OK * checking whether the package can be loaded with stated dependencies ... OK * checking whether the package can be unloaded cleanly ... OK * checking whether the namespace can be loaded with stated dependencies ... OK * checking whether the namespace can be unloaded cleanly ... OK * checking dependencies in R code ... OK * checking S3 generic/method consistency ... OK * checking replacement functions ... OK * checking foreign function calls ... OK * checking R code for possible problems ... OK * checking Rd files ... OK * checking Rd metadata ... OK * checking Rd cross-references ... OK * checking for missing documentation entries ... OK * checking for code/documentation mismatches ... OK * checking Rd \usage sections ... OK * checking Rd contents ... OK * checking for unstated dependencies in examples ... OK * checking contents of ‘data’ directory ... OK * checking data for non-ASCII characters ... OK * checking LazyData ... OK * checking data for ASCII and uncompressed saves ... OK * checking files in ‘vignettes’ ... OK * checking examples ... OK * checking for unstated dependencies in ‘tests’ ... OK * checking tests ... Running ‘test.R’ OK * checking for unstated dependencies in vignettes ... OK * checking package vignettes in ‘inst/doc’ ... OK * checking running R code from vignettes ... SKIPPED * checking re-building of vignette outputs ... SKIPPED * checking PDF version of manual ... OK * DONE Status: OK
SeqVarTools.Rcheck/00install.out
############################################################################## ############################################################################## ### ### Running command: ### ### /home/biocbuild/bbs-3.15-bioc/R/bin/R CMD INSTALL SeqVarTools ### ############################################################################## ############################################################################## * installing to library ‘/home/biocbuild/bbs-3.15-bioc/R/library’ * installing *source* package ‘SeqVarTools’ ... ** using staged installation ** R ** data *** moving datasets to lazyload DB ** inst ** byte-compile and prepare package for lazy loading ** help *** installing help indices ** building package indices ** installing vignettes ** testing if installed package can be loaded from temporary location ** testing if installed package can be loaded from final location ** testing if installed package keeps a record of temporary installation path * DONE (SeqVarTools)
SeqVarTools.Rcheck/tests/test.Rout
R version 4.2.1 (2022-06-23) -- "Funny-Looking Kid"
Copyright (C) 2022 The R Foundation for Statistical Computing
Platform: x86_64-pc-linux-gnu (64-bit)
R is free software and comes with ABSOLUTELY NO WARRANTY.
You are welcome to redistribute it under certain conditions.
Type 'license()' or 'licence()' for distribution details.
R is a collaborative project with many contributors.
Type 'contributors()' for more information and
'citation()' on how to cite R or R packages in publications.
Type 'demo()' for some demos, 'help()' for on-line help, or
'help.start()' for an HTML browser interface to help.
Type 'q()' to quit R.
> library(GenomicRanges)
Loading required package: stats4
Loading required package: BiocGenerics
Attaching package: 'BiocGenerics'
The following objects are masked from 'package:stats':
    IQR, mad, sd, var, xtabs
The following objects are masked from 'package:base':
    Filter, Find, Map, Position, Reduce, anyDuplicated, append,
    as.data.frame, basename, cbind, colnames, dirname, do.call,
    duplicated, eval, evalq, get, grep, grepl, intersect, is.unsorted,
    lapply, mapply, match, mget, order, paste, pmax, pmax.int, pmin,
    pmin.int, rank, rbind, rownames, sapply, setdiff, sort, table,
    tapply, union, unique, unsplit, which.max, which.min
Loading required package: S4Vectors
Attaching package: 'S4Vectors'
The following objects are masked from 'package:base':
    I, expand.grid, unname
Loading required package: IRanges
Loading required package: GenomeInfoDb
> BiocGenerics:::testPackage("SeqVarTools")
Loading required package: Biobase
Welcome to Bioconductor
    Vignettes contain introductory material; view with
    'browseVignettes()'. To cite Bioconductor, see
    'citation("Biobase")', and for packages 'citation("pkgname")'.
# of selected samples: 5
# of selected variants: 5
# of selected samples: 5
# of selected variants: 10
# of selected samples: 90
# of selected variants: 1,348
# of selected samples: 90
# of selected variants: 1,348
# of selected samples: 3
# of selected samples: 3
matching samples... 2 pairs identified!
matching variants... 1346 non-overlapping variant matches identified!
# of selected samples: 2
# of selected variants: 1,346
# of selected samples: 90
# of selected variants: 1,348
# of selected samples: 90
# of selected variants: 1,348
# of selected samples: 2
# of selected variants: 50
# of selected samples: 2
# of selected variants: 51
matching samples... 2 pairs identified!
matching variants... 26 non-overlapping variant matches identified!
# of selected variants: 26
# of selected samples: 90
# of selected variants: 1,348
# of selected samples: 5
# of selected variants: 10
# of selected samples: 5
# of selected variants: 10
File: /home/biocbuild/bbs-3.15-bioc/R/library/SeqArray/extdata/CEU_Exon.gds (287.6K)
+    [  ] *
|--+ description   [  ] *
|--+ sample.id   { Str8 90 LZMA_ra(34.7%), 257B } *
|--+ variant.id   { Int32 1348 LZMA_ra(16.7%), 905B } *
|--+ position   { Int32 1348 LZMA_ra(64.4%), 3.4K } *
|--+ chromosome   { Str8 1348 LZMA_ra(4.39%), 157B } *
|--+ allele   { Str8 1348 LZMA_ra(16.6%), 901B } *
|--+ genotype   [  ] *
|  |--+ data   { Bit2 2x90x1348 LZMA_ra(26.3%), 15.6K } *
|  |--+ ~data   { Bit2 2x1348x90 LZMA_ra(29.2%), 17.3K } *
|  |--+ extra.index   { Int32 3x0 LZMA_ra, 18B } *
|  \--+ extra   { Int16 0 LZMA_ra, 18B }
|--+ phase   [  ]
|  |--+ data   { Bit1 90x1348 LZMA_ra(0.86%), 137B } *
|  |--+ ~data   { Bit1 1348x90 LZMA_ra(0.86%), 137B } *
|  |--+ extra.index   { Int32 3x0 LZMA_ra, 18B } *
|  \--+ extra   { Bit1 0 LZMA_ra, 18B }
|--+ annotation   [  ]
|  |--+ id   { Str8 1348 LZMA_ra(38.3%), 5.5K } *
|  |--+ qual   { Float32 1348 LZMA_ra(2.11%), 121B } *
|  |--+ filter   { Int32,factor 1348 LZMA_ra(2.11%), 121B } *
|  |--+ info   [  ]
|  |  |--+ AA   { Str8 1328 LZMA_ra(22.1%), 593B } *
|  |  |--+ AC   { Int32 1348 LZMA_ra(24.1%), 1.3K } *
|  |  |--+ AN   { Int32 1348 LZMA_ra(19.6%), 1.0K } *
|  |  |--+ DP   { Int32 1348 LZMA_ra(47.7%), 2.5K } *
|  |  |--+ HM2   { Bit1 1348 LZMA_ra(145.6%), 253B } *
|  |  |--+ HM3   { Bit1 1348 LZMA_ra(145.6%), 253B } *
|  |  |--+ OR   { Str8 1348 LZMA_ra(19.6%), 341B } *
|  |  |--+ GP   { Str8 1348 LZMA_ra(24.3%), 3.8K } *
|  |  \--+ BN   { Int32 1348 LZMA_ra(20.7%), 1.1K } *
|  \--+ format   [  ]
|     \--+ DP   [  ] *
|        |--+ data   { VL_Int 90x1348 LZMA_ra(70.8%), 115.2K } *
|        \--+ ~data   { VL_Int 1348x90 LZMA_ra(65.1%), 105.9K } *
\--+ sample.annotation   [  ]
   \--+ family   { Str8 90 LZMA_ra(55.0%), 221B } *
# of selected variants: 142
# of selected samples: 90
# of selected variants: 1,348
# of selected variants: 5
# of selected samples: 90
# of selected variants: 1,348
# of selected samples: 5
# of selected variants: 5
# of selected samples: 90
# of selected variants: 1,348
# of selected samples: 90
# of selected variants: 1,348
# of selected samples: 3
# of selected samples: 3
matching samples... 2 pairs identified!
matching variants... 1346 variant matches identified!
matching samples... 2 pairs identified!
matching variants... 1346 variant matches identified!
# of selected samples: 90
# of selected variants: 1,348
# of selected samples: 90
# of selected variants: 1,348
# of selected samples: 2
# of selected variants: 50
# of selected samples: 2
# of selected variants: 51
matching samples... 2 pairs identified!
matching variants... 26 variant matches identified!
matching samples... 2 pairs identified!
matching variants... 26 variant matches identified!
# of selected variants: 26
# of selected samples: 90
# of selected variants: 1,348
# of selected samples: 90
# of selected variants: 1,348
# of selected samples: 3
# of selected samples: 3
matching samples... 2 pairs identified!
matching variants... 1346 variant matches identified!
matching samples... 2 pairs identified!
matching variants... 1346 variant matches identified!
matching samples... 2 pairs identified!
matching variants... 1346 variant matches identified!
matching samples... 2 pairs identified!
matching variants... 1346 variant matches identified!
# of selected samples: 90
# of selected variants: 1,348
# of selected samples: 90
# of selected variants: 1,348
# of selected samples: 2
# of selected variants: 50
# of selected samples: 2
# of selected variants: 51
matching samples... 2 pairs identified!
matching variants... 26 variant matches identified!
matching samples... 2 pairs identified!
matching variants... 26 variant matches identified!
# of selected variants: 26
Warning in SeqVarTools:::.samplePairs1(samples) :
  More than two samples for subject 4
Selecting first two samples: samp7, samp8
# of selected samples: 5
# of selected variants: 10
# of selected samples: 5
# of selected variants: 10
# of selected samples: 5
# of selected variants: 10
# of selected samples: 5
# of selected variants: 10
# of selected samples: 5
# of selected variants: 10
# of selected samples: 90
# of selected variants: 1,348
# of selected samples: 5
# of selected variants: 10
# of selected samples: 5
# of selected variants: 10
# of selected samples: 5
# of selected variants: 10
# of selected samples: 90
# of selected variants: 1,348
# of selected samples: 5
# of selected variants: 10
# of selected samples: 5
# of selected variants: 10
# of selected variants: 1,346
# of selected variants: 1,330
# of selected samples: 5
# of selected variants: 10
# of selected samples: 90
# of selected variants: 1,348
# of selected samples: 5
# of selected variants: 10
# of selected samples: 5
# of selected variants: 10
# of selected samples: 5
# of selected variants: 10
# of selected samples: 90
# of selected variants: 1,348
# of selected samples: 5
# of selected variants: 10
# of selected samples: 3
# of selected variants: 10
# of selected samples: 3
# of selected samples: 90
# of selected variants: 1,348
# of selected variants: 10
# of selected samples: 3
# of selected samples: 5
# of selected variants: 10
# of selected samples: 90
# of selected variants: 1,348
# of selected samples: 5
# of selected variants: 10
# of selected samples: 5
# of selected variants: 10
# of selected samples: 5
# of selected variants: 10
# of selected samples: 90
# of selected variants: 1,348
# of selected samples: 5
# of selected variants: 10
# of selected variants: 903
# of selected samples: 59
# of selected samples: 58
# of selected samples: 32
# of selected samples: 5
# of selected variants: 10
# of selected samples: 90
# of selected variants: 1,348
# of selected samples: 5
# of selected variants: 10
# of selected samples: 5
# of selected variants: 10
# of selected samples: 90
# of selected variants: 1,348
# of selected samples: 5
# of selected variants: 10
# of selected samples: 10
# of selected samples: 10
# of selected variants: 10
# of selected samples: 10
RUNIT TEST PROTOCOL -- Tue Oct 18 21:50:58 2022 
*********************************************** 
Number of test functions: 152 
Number of errors: 0 
Number of failures: 0 
 
1 Test Suite : 
SeqVarTools RUnit Tests - 152 test functions, 0 errors, 0 failures
Number of test functions: 152 
Number of errors: 0 
Number of failures: 0 
> 
> proc.time()
   user  system elapsed 
 23.549  18.213  27.839 
SeqVarTools.Rcheck/SeqVarTools-Ex.timings
| name | user | system | elapsed | |
| Iterator-class | 0.522 | 0.028 | 0.550 | |
| SeqVarData-class | 0.071 | 0.000 | 0.071 | |
| allele-methods | 0.006 | 0.004 | 0.010 | |
| alleleFrequency | 0.013 | 0.004 | 0.017 | |
| alternateAlleleDetection | 0 | 0 | 0 | |
| applyMethod | 0.160 | 0.008 | 0.168 | |
| countSingletons | 0.017 | 0.003 | 0.021 | |
| duplicateDiscordance | 0.137 | 0.002 | 0.139 | |
| getGenotype | 0.028 | 0.011 | 0.038 | |
| getVariableLengthData | 0.005 | 0.002 | 0.007 | |
| heterozygosity | 0.216 | 0.015 | 0.230 | |
| hwe | 0.051 | 0.006 | 0.056 | |
| imputedDosage | 0.074 | 0.005 | 0.080 | |
| inbreedCoeff | 0.104 | 0.004 | 0.109 | |
| isSNV | 0.000 | 0.003 | 0.004 | |
| isVariant | 0.006 | 0.000 | 0.005 | |
| meanBySample | 0.025 | 0.000 | 0.026 | |
| mendelErr | 0.009 | 0.004 | 0.012 | |
| missingGenotypeRate | 0.012 | 0.000 | 0.012 | |
| pca | 0.713 | 0.094 | 0.808 | |
| pedigree | 0.005 | 0.001 | 0.006 | |
| refFrac | 0.040 | 0.004 | 0.045 | |
| regression | 0.055 | 0.006 | 0.061 | |
| setVariantID | 0.004 | 0.003 | 0.006 | |
| titv | 0.151 | 0.002 | 0.152 | |
| variantInfo | 0.036 | 0.000 | 0.036 | |