| Back to Multiple platform build/check report for BioC 3.15 |
|
This page was generated on 2022-03-18 11:08:35 -0400 (Fri, 18 Mar 2022).
| Hostname | OS | Arch (*) | R version | Installed pkgs |
|---|---|---|---|---|
| nebbiolo1 | Linux (Ubuntu 20.04.4 LTS) | x86_64 | R Under development (unstable) (2022-02-17 r81757) -- "Unsuffered Consequences" | 4334 |
| riesling1 | Windows Server 2019 Standard | x64 | R Under development (unstable) (2021-11-21 r81221) -- "Unsuffered Consequences" | 4097 |
| palomino3 | Windows Server 2022 Datacenter | x64 | R Under development (unstable) (2022-02-17 r81757 ucrt) -- "Unsuffered Consequences" | 4083 |
| merida1 | macOS 10.14.6 Mojave | x86_64 | R Under development (unstable) (2022-03-02 r81842) -- "Unsuffered Consequences" | 4134 |
| Click on any hostname to see more info about the system (e.g. compilers) (*) as reported by 'uname -p', except on Windows and Mac OS X | ||||
|
To the developers/maintainers of the SamSPECTRAL package: - Please allow up to 24 hours (and sometimes 48 hours) for your latest push to git@git.bioconductor.org:packages/SamSPECTRAL.git to reflect on this report. See How and When does the builder pull? When will my changes propagate? here for more information. - Make sure to use the following settings in order to reproduce any error or warning you see on this page. |
| Package 1698/2090 | Hostname | OS / Arch | INSTALL | BUILD | CHECK | BUILD BIN | ||||||||
| SamSPECTRAL 1.49.0 (landing page) Habil
| nebbiolo1 | Linux (Ubuntu 20.04.4 LTS) / x86_64 | OK | OK | WARNINGS | |||||||||
| riesling1 | Windows Server 2019 Standard / x64 | OK | OK | WARNINGS | OK | |||||||||
| palomino3 | Windows Server 2022 Datacenter / x64 | OK | OK | WARNINGS | OK | |||||||||
| merida1 | macOS 10.14.6 Mojave / x86_64 | OK | OK | WARNINGS | OK | |||||||||
| Package: SamSPECTRAL |
| Version: 1.49.0 |
| Command: rm -rf SamSPECTRAL.buildbin-libdir && mkdir SamSPECTRAL.buildbin-libdir && D:\biocbuild\bbs-3.15-bioc\R\bin\R.exe CMD INSTALL --build --library=SamSPECTRAL.buildbin-libdir SamSPECTRAL_1.49.0.tar.gz |
| StartedAt: 2022-03-17 21:36:47 -0400 (Thu, 17 Mar 2022) |
| EndedAt: 2022-03-17 21:38:19 -0400 (Thu, 17 Mar 2022) |
| EllapsedTime: 92.6 seconds |
| RetCode: 0 |
| Status: OK |
| PackageFile: SamSPECTRAL_1.49.0.zip |
| PackageFileSize: 921.2 KiB |
##############################################################################
##############################################################################
###
### Running command:
###
### rm -rf SamSPECTRAL.buildbin-libdir && mkdir SamSPECTRAL.buildbin-libdir && D:\biocbuild\bbs-3.15-bioc\R\bin\R.exe CMD INSTALL --build --library=SamSPECTRAL.buildbin-libdir SamSPECTRAL_1.49.0.tar.gz
###
##############################################################################
##############################################################################
* installing *source* package 'SamSPECTRAL' ...
** using staged installation
** libs
"C:/rtools40/mingw64/bin/"gcc -I"D:/biocbuild/bbs-3.15-bioc/R/include" -DNDEBUG -I"C:/extsoft/include" -O2 -Wall -std=gnu99 -mfpmath=sse -msse2 -mstackrealign -fno-reorder-blocks-and-partition -c Rinit.c -o Rinit.o
"C:/rtools40/mingw64/bin/"gcc -I"D:/biocbuild/bbs-3.15-bioc/R/include" -DNDEBUG -I"C:/extsoft/include" -O2 -Wall -std=gnu99 -mfpmath=sse -msse2 -mstackrealign -fno-reorder-blocks-and-partition -c conductance_computation.c -o conductance_computation.o
conductance_computation.c: In function 'conductance_computation':
conductance_computation.c:155:17: warning: variable 'repres_ind' set but not used [-Wunused-but-set-variable]
int *density, *repres_ind;
^~~~~~~~~~
conductance_computation.c:155:7: warning: variable 'density' set but not used [-Wunused-but-set-variable]
int *density, *repres_ind;
^~~~~~~
"C:/rtools40/mingw64/bin/"gcc -I"D:/biocbuild/bbs-3.15-bioc/R/include" -DNDEBUG -I"C:/extsoft/include" -O2 -Wall -std=gnu99 -mfpmath=sse -msse2 -mstackrealign -fno-reorder-blocks-and-partition -c maximum_of_rows.c -o maximum_of_rows.o
C:/rtools40/mingw64/bin/gcc -shared -s -static-libgcc -o SamSPECTRAL.dll tmp.def Rinit.o conductance_computation.o maximum_of_rows.o -LC:/extsoft/lib/x64 -LC:/extsoft/lib -LD:/biocbuild/bbs-3.15-bioc/R/bin/x64 -lR
installing to D:/biocbuild/bbs-3.15-bioc/meat/SamSPECTRAL.buildbin-libdir/00LOCK-SamSPECTRAL/00new/SamSPECTRAL/libs/x64
** R
** data
** inst
** byte-compile and prepare package for lazy loading
** help
*** installing help indices
converting help for package 'SamSPECTRAL'
finding HTML links ... done
Building_Communities html
Civilized_Spectral_Clustering html
Conductance_Calculation html
Connecting html
SamSPECTRAL-package html
SamSPECTRAL html
check.SamSPECTRAL.input html
eigen.values.10 html
eigen.values.1000 html
kneepointDetection html
small html
stmFSC html
** building package indices
** installing vignettes
** testing if installed package can be loaded from temporary location
** testing if installed package can be loaded from final location
** testing if installed package keeps a record of temporary installation path
* MD5 sums
packaged installation of 'SamSPECTRAL' as SamSPECTRAL_1.49.0.zip
* DONE (SamSPECTRAL)