| Back to Multiple platform build/check report for BioC 3.15 |
|
This page was generated on 2022-03-18 11:08:43 -0400 (Fri, 18 Mar 2022).
| Hostname | OS | Arch (*) | R version | Installed pkgs |
|---|---|---|---|---|
| nebbiolo1 | Linux (Ubuntu 20.04.4 LTS) | x86_64 | R Under development (unstable) (2022-02-17 r81757) -- "Unsuffered Consequences" | 4334 |
| riesling1 | Windows Server 2019 Standard | x64 | R Under development (unstable) (2021-11-21 r81221) -- "Unsuffered Consequences" | 4097 |
| palomino3 | Windows Server 2022 Datacenter | x64 | R Under development (unstable) (2022-02-17 r81757 ucrt) -- "Unsuffered Consequences" | 4083 |
| merida1 | macOS 10.14.6 Mojave | x86_64 | R Under development (unstable) (2022-03-02 r81842) -- "Unsuffered Consequences" | 4134 |
| Click on any hostname to see more info about the system (e.g. compilers) (*) as reported by 'uname -p', except on Windows and Mac OS X | ||||
|
To the developers/maintainers of the SLGI package: - Please allow up to 24 hours (and sometimes 48 hours) for your latest push to git@git.bioconductor.org:packages/SLGI.git to reflect on this report. See How and When does the builder pull? When will my changes propagate? here for more information. - Make sure to use the following settings in order to reproduce any error or warning you see on this page. |
| Package 1825/2090 | Hostname | OS / Arch | INSTALL | BUILD | CHECK | BUILD BIN | ||||||||
Nolwenn Le Meur
| nebbiolo1 | Linux (Ubuntu 20.04.4 LTS) / x86_64 | OK | OK | WARNINGS | |||||||||
| riesling1 | Windows Server 2019 Standard / x64 | OK | OK | WARNINGS | OK | |||||||||
| palomino3 | Windows Server 2022 Datacenter / x64 | OK | OK | WARNINGS | OK | |||||||||
| merida1 | macOS 10.14.6 Mojave / x86_64 | OK | OK | WARNINGS | OK | |||||||||
| Package: SLGI |
| Version: 1.55.1 |
| Command: rm -rf SLGI.buildbin-libdir && mkdir SLGI.buildbin-libdir && D:\biocbuild\bbs-3.15-bioc\R\bin\R.exe CMD INSTALL --build --library=SLGI.buildbin-libdir SLGI_1.55.1.tar.gz |
| StartedAt: 2022-03-17 21:41:03 -0400 (Thu, 17 Mar 2022) |
| EndedAt: 2022-03-17 21:42:23 -0400 (Thu, 17 Mar 2022) |
| EllapsedTime: 79.6 seconds |
| RetCode: 0 |
| Status: OK |
| PackageFile: SLGI_1.55.1.zip |
| PackageFileSize: 8.462 MiB |
##############################################################################
##############################################################################
###
### Running command:
###
### rm -rf SLGI.buildbin-libdir && mkdir SLGI.buildbin-libdir && D:\biocbuild\bbs-3.15-bioc\R\bin\R.exe CMD INSTALL --build --library=SLGI.buildbin-libdir SLGI_1.55.1.tar.gz
###
##############################################################################
##############################################################################
* installing *source* package 'SLGI' ...
** using staged installation
** R
** data
** inst
** byte-compile and prepare package for lazy loading
Warning messages:
1: Package 'RpsiXML' is deprecated and will be removed from Bioconductor
version 3.16
2: Package 'ScISI' is deprecated and will be removed from Bioconductor
version 3.16
No methods found in package 'BiocGenerics' for request: 'plot' when loading 'SLGI'
** help
*** installing help indices
converting help for package 'SLGI'
finding HTML links ... done
Atong html
AtongFnDomain html
AtongPair html
Boeke html
SDL html
SGA html
SGD.SL html
TFmat html
byComplex html
comemberIn html
compare html
congruence html
createSquareMatrix html
dSLAM.GPL1444 html
domainDist html
essglist html
getInteraction html
getSharedDomains html
getSharedInteraction html
getTestedPairs html
getUniquePairs html
gi2005 html
gi2007 html
gi2Interactome html
hyperG html
iSummary html
modelSLGI html
normInteraction html
plot html
seqMatcherAlign html
sharedBy html
sharedInt html
siResult-class html
test2Interact html
topInteraction html
twoWayTable html
withinComplex html
** building package indices
** installing vignettes
** testing if installed package can be loaded from temporary location
Warning: Package 'RpsiXML' is deprecated and will be removed from Bioconductor
version 3.16
Warning: Package 'ScISI' is deprecated and will be removed from Bioconductor
version 3.16
No methods found in package 'BiocGenerics' for request: 'plot' when loading 'SLGI'
Warning: Package 'SLGI' is deprecated and will be removed from Bioconductor
version 3.16
** testing if installed package can be loaded from final location
Warning: Package 'RpsiXML' is deprecated and will be removed from Bioconductor
version 3.16
Warning: Package 'ScISI' is deprecated and will be removed from Bioconductor
version 3.16
No methods found in package 'BiocGenerics' for request: 'plot' when loading 'SLGI'
Warning: Package 'SLGI' is deprecated and will be removed from Bioconductor
version 3.16
** testing if installed package keeps a record of temporary installation path
* MD5 sums
packaged installation of 'SLGI' as SLGI_1.55.1.zip
* DONE (SLGI)