| Back to Multiple platform build/check report for BioC 3.15 |
|
This page was generated on 2022-03-18 11:08:36 -0400 (Fri, 18 Mar 2022).
| Hostname | OS | Arch (*) | R version | Installed pkgs |
|---|---|---|---|---|
| nebbiolo1 | Linux (Ubuntu 20.04.4 LTS) | x86_64 | R Under development (unstable) (2022-02-17 r81757) -- "Unsuffered Consequences" | 4334 |
| riesling1 | Windows Server 2019 Standard | x64 | R Under development (unstable) (2021-11-21 r81221) -- "Unsuffered Consequences" | 4097 |
| palomino3 | Windows Server 2022 Datacenter | x64 | R Under development (unstable) (2022-02-17 r81757 ucrt) -- "Unsuffered Consequences" | 4083 |
| merida1 | macOS 10.14.6 Mojave | x86_64 | R Under development (unstable) (2022-03-02 r81842) -- "Unsuffered Consequences" | 4134 |
| Click on any hostname to see more info about the system (e.g. compilers) (*) as reported by 'uname -p', except on Windows and Mac OS X | ||||
|
To the developers/maintainers of the SCATE package: - Please allow up to 24 hours (and sometimes 48 hours) for your latest push to git@git.bioconductor.org:packages/SCATE.git to reflect on this report. See How and When does the builder pull? When will my changes propagate? here for more information. - Make sure to use the following settings in order to reproduce any error or warning you see on this page. |
| Package 1717/2090 | Hostname | OS / Arch | INSTALL | BUILD | CHECK | BUILD BIN | ||||||||
| SCATE 1.5.0 (landing page) Wenpin Hou
| nebbiolo1 | Linux (Ubuntu 20.04.4 LTS) / x86_64 | OK | OK | OK | |||||||||
| riesling1 | Windows Server 2019 Standard / x64 | OK | OK | OK | OK | |||||||||
| palomino3 | Windows Server 2022 Datacenter / x64 | OK | OK | OK | OK | |||||||||
| merida1 | macOS 10.14.6 Mojave / x86_64 | OK | TIMEOUT | skipped | skipped | |||||||||
| Package: SCATE |
| Version: 1.5.0 |
| Command: D:\biocbuild\bbs-3.15-bioc\R\bin\R.exe CMD check --no-multiarch --install=check:SCATE.install-out.txt --library=D:\biocbuild\bbs-3.15-bioc\R\library --no-vignettes --timings SCATE_1.5.0.tar.gz |
| StartedAt: 2022-03-17 20:11:29 -0400 (Thu, 17 Mar 2022) |
| EndedAt: 2022-03-17 20:19:42 -0400 (Thu, 17 Mar 2022) |
| EllapsedTime: 492.8 seconds |
| RetCode: 0 |
| Status: OK |
| CheckDir: SCATE.Rcheck |
| Warnings: 0 |
##############################################################################
##############################################################################
###
### Running command:
###
### D:\biocbuild\bbs-3.15-bioc\R\bin\R.exe CMD check --no-multiarch --install=check:SCATE.install-out.txt --library=D:\biocbuild\bbs-3.15-bioc\R\library --no-vignettes --timings SCATE_1.5.0.tar.gz
###
##############################################################################
##############################################################################
* using log directory 'D:/biocbuild/bbs-3.15-bioc/meat/SCATE.Rcheck'
* using R Under development (unstable) (2021-11-21 r81221)
* using platform: x86_64-w64-mingw32 (64-bit)
* using session charset: ISO8859-1
* using option '--no-vignettes'
* checking for file 'SCATE/DESCRIPTION' ... OK
* this is package 'SCATE' version '1.5.0'
* package encoding: UTF-8
* checking package namespace information ... OK
* checking package dependencies ... NOTE
Depends: includes the non-default packages:
'parallel', 'preprocessCore', 'splines', 'splines2', 'xgboost',
'SCATEData', 'Rtsne', 'mclust'
Adding so many packages to the search path is excessive and importing
selectively is preferable.
* checking if this is a source package ... OK
* checking if there is a namespace ... OK
* checking for hidden files and directories ... OK
* checking for portable file names ... OK
* checking whether package 'SCATE' can be installed ... OK
* checking installed package size ... OK
* checking package directory ... OK
* checking 'build' directory ... OK
* checking DESCRIPTION meta-information ... OK
* checking top-level files ... OK
* checking for left-over files ... OK
* checking index information ... OK
* checking package subdirectories ... OK
* checking R files for non-ASCII characters ... OK
* checking R files for syntax errors ... OK
* checking whether the package can be loaded ... OK
* checking whether the package can be loaded with stated dependencies ... OK
* checking whether the package can be unloaded cleanly ... OK
* checking whether the namespace can be loaded with stated dependencies ... OK
* checking whether the namespace can be unloaded cleanly ... OK
* checking dependencies in R code ... NOTE
Package in Depends field not imported from: 'SCATEData'
These packages need to be imported from (in the NAMESPACE file)
for when this namespace is loaded but not attached.
* checking S3 generic/method consistency ... OK
* checking replacement functions ... OK
* checking foreign function calls ... OK
* checking R code for possible problems ... NOTE
SCATE : SCATEsingle: no visible global function definition for
'IRanges'
cellcluster : <anonymous>: no visible global function definition for
'IRanges'
extractfeature: no visible global function definition for 'IRanges'
makedatabase: no visible global function definition for 'IRanges'
makedatabase: no visible global function definition for 'seqlevels'
peakcall: no visible global function definition for 'IRanges'
Undefined global functions or variables:
IRanges seqlevels
* checking Rd files ... OK
* checking Rd metadata ... OK
* checking Rd cross-references ... OK
* checking for missing documentation entries ... OK
* checking for code/documentation mismatches ... OK
* checking Rd \usage sections ... OK
* checking Rd contents ... OK
* checking for unstated dependencies in examples ... OK
* checking files in 'vignettes' ... OK
* checking examples ... OK
Examples with CPU (user + system) or elapsed time > 5s
user system elapsed
SCATEpipeline 110.64 4.77 97.84
SCATE 104.38 4.97 95.06
peakcall 93.28 7.29 93.97
cellcluster 12.35 2.24 14.58
* checking for unstated dependencies in vignettes ... OK
* checking package vignettes in 'inst/doc' ... OK
* checking running R code from vignettes ... SKIPPED
* checking re-building of vignette outputs ... SKIPPED
* checking PDF version of manual ... OK
* DONE
Status: 3 NOTEs
See
'D:/biocbuild/bbs-3.15-bioc/meat/SCATE.Rcheck/00check.log'
for details.
SCATE.Rcheck/00install.out
##############################################################################
##############################################################################
###
### Running command:
###
### D:\biocbuild\bbs-3.15-bioc\R\bin\R.exe CMD INSTALL SCATE
###
##############################################################################
##############################################################################
* installing to library 'D:/biocbuild/bbs-3.15-bioc/R/library'
* installing *source* package 'SCATE' ...
** using staged installation
** R
** inst
** byte-compile and prepare package for lazy loading
snapshotDate(): 2022-03-16
** help
*** installing help indices
converting help for package 'SCATE'
finding HTML links ... done
SCATE html
SCATEpipeline html
cellcluster html
extractfeature html
makedatabase html
peakcall html
satacprocess html
** building package indices
** installing vignettes
** testing if installed package can be loaded from temporary location
snapshotDate(): 2022-03-16
** testing if installed package can be loaded from final location
snapshotDate(): 2022-03-16
** testing if installed package keeps a record of temporary installation path
* DONE (SCATE)
Making 'packages.html' ... done
SCATE.Rcheck/SCATE-Ex.timings
| name | user | system | elapsed | |
| SCATE | 104.38 | 4.97 | 95.06 | |
| SCATEpipeline | 110.64 | 4.77 | 97.84 | |
| cellcluster | 12.35 | 2.24 | 14.58 | |
| extractfeature | 0.01 | 0.00 | 0.02 | |
| peakcall | 93.28 | 7.29 | 93.97 | |
| satacprocess | 0.07 | 0.03 | 0.09 | |