Back to Multiple platform build/check report for BioC 3.15 |
|
This page was generated on 2022-10-19 13:22:08 -0400 (Wed, 19 Oct 2022).
Hostname | OS | Arch (*) | R version | Installed pkgs |
---|---|---|---|---|
nebbiolo1 | Linux (Ubuntu 20.04.5 LTS) | x86_64 | 4.2.1 (2022-06-23) -- "Funny-Looking Kid" | 4386 |
palomino3 | Windows Server 2022 Datacenter | x64 | 4.2.1 (2022-06-23 ucrt) -- "Funny-Looking Kid" | 4138 |
merida1 | macOS 10.14.6 Mojave | x86_64 | 4.2.1 (2022-06-23) -- "Funny-Looking Kid" | 4205 |
Click on any hostname to see more info about the system (e.g. compilers) (*) as reported by 'uname -p', except on Windows and Mac OS X |
To the developers/maintainers of the Rfastp package: - Please allow up to 24 hours (and sometimes 48 hours) for your latest push to git@git.bioconductor.org:packages/Rfastp.git to reflect on this report. See How and When does the builder pull? When will my changes propagate? for more information. - Make sure to use the following settings in order to reproduce any error or warning you see on this page. |
Package 1630/2140 | Hostname | OS / Arch | INSTALL | BUILD | CHECK | BUILD BIN | ||||||||
Rfastp 1.6.0 (landing page) Thomas Carroll
| nebbiolo1 | Linux (Ubuntu 20.04.5 LTS) / x86_64 | OK | OK | OK | ![]() | ||||||||
palomino3 | Windows Server 2022 Datacenter / x64 | OK | OK | OK | OK | ![]() | ||||||||
merida1 | macOS 10.14.6 Mojave / x86_64 | OK | OK | OK | OK | ![]() | ||||||||
Package: Rfastp |
Version: 1.6.0 |
Command: chmod a+r Rfastp -R && F:\biocbuild\bbs-3.15-bioc\R\bin\R.exe CMD build --keep-empty-dirs --no-resave-data Rfastp |
StartedAt: 2022-10-18 20:37:34 -0400 (Tue, 18 Oct 2022) |
EndedAt: 2022-10-18 20:39:58 -0400 (Tue, 18 Oct 2022) |
EllapsedTime: 143.2 seconds |
RetCode: 0 |
Status: OK |
PackageFile: Rfastp_1.6.0.tar.gz |
PackageFileSize: 2.421 MiB |
############################################################################## ############################################################################## ### ### Running command: ### ### chmod a+r Rfastp -R && F:\biocbuild\bbs-3.15-bioc\R\bin\R.exe CMD build --keep-empty-dirs --no-resave-data Rfastp ### ############################################################################## ############################################################################## * checking for file 'Rfastp/DESCRIPTION' ... OK * preparing 'Rfastp': * checking DESCRIPTION meta-information ... OK * cleaning src * running 'cleanup.win' * installing the package to build vignettes * creating vignettes ... OK * cleaning src * running 'cleanup.win' * checking for LF line-endings in source and make files and shell scripts * checking for empty or unneeded directories Omitted 'LazyData' from DESCRIPTION * building 'Rfastp_1.6.0.tar.gz' Warning: file 'Rfastp/cleanup' did not have execute permissions: corrected