| Back to Multiple platform build/check report for BioC 3.15 |
|
This page was generated on 2022-10-19 13:20:45 -0400 (Wed, 19 Oct 2022).
| Hostname | OS | Arch (*) | R version | Installed pkgs |
|---|---|---|---|---|
| nebbiolo1 | Linux (Ubuntu 20.04.5 LTS) | x86_64 | 4.2.1 (2022-06-23) -- "Funny-Looking Kid" | 4386 |
| palomino3 | Windows Server 2022 Datacenter | x64 | 4.2.1 (2022-06-23 ucrt) -- "Funny-Looking Kid" | 4138 |
| merida1 | macOS 10.14.6 Mojave | x86_64 | 4.2.1 (2022-06-23) -- "Funny-Looking Kid" | 4205 |
| Click on any hostname to see more info about the system (e.g. compilers) (*) as reported by 'uname -p', except on Windows and Mac OS X | ||||
|
To the developers/maintainers of the RcisTarget package: - Please allow up to 24 hours (and sometimes 48 hours) for your latest push to git@git.bioconductor.org:packages/RcisTarget.git to reflect on this report. See How and When does the builder pull? When will my changes propagate? for more information. - Make sure to use the following settings in order to reproduce any error or warning you see on this page. |
| Package 1588/2140 | Hostname | OS / Arch | INSTALL | BUILD | CHECK | BUILD BIN | ||||||||
| RcisTarget 1.16.0 (landing page) Sara Aibar
| nebbiolo1 | Linux (Ubuntu 20.04.5 LTS) / x86_64 | OK | OK | OK | |||||||||
| palomino3 | Windows Server 2022 Datacenter / x64 | OK | OK | OK | OK | |||||||||
| merida1 | macOS 10.14.6 Mojave / x86_64 | OK | OK | OK | OK | |||||||||
| Package: RcisTarget |
| Version: 1.16.0 |
| Command: /home/biocbuild/bbs-3.15-bioc/R/bin/R CMD check --install=check:RcisTarget.install-out.txt --library=/home/biocbuild/bbs-3.15-bioc/R/library --no-vignettes --timings RcisTarget_1.16.0.tar.gz |
| StartedAt: 2022-10-18 21:23:01 -0400 (Tue, 18 Oct 2022) |
| EndedAt: 2022-10-18 21:28:33 -0400 (Tue, 18 Oct 2022) |
| EllapsedTime: 332.2 seconds |
| RetCode: 0 |
| Status: OK |
| CheckDir: RcisTarget.Rcheck |
| Warnings: 0 |
##############################################################################
##############################################################################
###
### Running command:
###
### /home/biocbuild/bbs-3.15-bioc/R/bin/R CMD check --install=check:RcisTarget.install-out.txt --library=/home/biocbuild/bbs-3.15-bioc/R/library --no-vignettes --timings RcisTarget_1.16.0.tar.gz
###
##############################################################################
##############################################################################
* using log directory ‘/home/biocbuild/bbs-3.15-bioc/meat/RcisTarget.Rcheck’
* using R version 4.2.1 (2022-06-23)
* using platform: x86_64-pc-linux-gnu (64-bit)
* using session charset: UTF-8
* using option ‘--no-vignettes’
* checking for file ‘RcisTarget/DESCRIPTION’ ... OK
* checking extension type ... Package
* this is package ‘RcisTarget’ version ‘1.16.0’
* checking package namespace information ... OK
* checking package dependencies ... OK
* checking if this is a source package ... OK
* checking if there is a namespace ... OK
* checking for hidden files and directories ... OK
* checking for portable file names ... OK
* checking for sufficient/correct file permissions ... OK
* checking whether package ‘RcisTarget’ can be installed ... OK
* checking installed package size ... NOTE
installed size is 8.9Mb
sub-directories of 1Mb or more:
data 8.3Mb
* checking package directory ... OK
* checking ‘build’ directory ... OK
* checking DESCRIPTION meta-information ... OK
* checking top-level files ... OK
* checking for left-over files ... OK
* checking index information ... OK
* checking package subdirectories ... OK
* checking R files for non-ASCII characters ... OK
* checking R files for syntax errors ... OK
* checking whether the package can be loaded ... OK
* checking whether the package can be loaded with stated dependencies ... OK
* checking whether the package can be unloaded cleanly ... OK
* checking whether the namespace can be loaded with stated dependencies ... OK
* checking whether the namespace can be unloaded cleanly ... OK
* checking dependencies in R code ... OK
* checking S3 generic/method consistency ... OK
* checking replacement functions ... OK
* checking foreign function calls ... OK
* checking R code for possible problems ... OK
* checking Rd files ... OK
* checking Rd metadata ... OK
* checking Rd cross-references ... OK
* checking for missing documentation entries ... OK
* checking for code/documentation mismatches ... OK
* checking Rd \usage sections ... OK
* checking Rd contents ... OK
* checking for unstated dependencies in examples ... OK
* checking contents of ‘data’ directory ... OK
* checking data for non-ASCII characters ... OK
* checking data for ASCII and uncompressed saves ... OK
* checking files in ‘vignettes’ ... OK
* checking examples ... OK
Examples with CPU (user + system) or elapsed time > 5s
user system elapsed
addMotifAnnotation 17.983 0.908 18.835
addSignificantGenes 15.135 1.304 16.427
getMotifAnnotation 8.885 0.358 9.188
aucScores-class 8.017 0.400 8.422
reRank 7.788 0.088 7.876
rankingRcisTarget-class 6.956 0.228 7.185
* checking for unstated dependencies in ‘tests’ ... OK
* checking tests ...
Running ‘testthat.R’
OK
* checking for unstated dependencies in vignettes ... OK
* checking package vignettes in ‘inst/doc’ ... OK
* checking running R code from vignettes ... SKIPPED
* checking re-building of vignette outputs ... SKIPPED
* checking PDF version of manual ... OK
* DONE
Status: 1 NOTE
See
‘/home/biocbuild/bbs-3.15-bioc/meat/RcisTarget.Rcheck/00check.log’
for details.
RcisTarget.Rcheck/00install.out
############################################################################## ############################################################################## ### ### Running command: ### ### /home/biocbuild/bbs-3.15-bioc/R/bin/R CMD INSTALL RcisTarget ### ############################################################################## ############################################################################## * installing to library ‘/home/biocbuild/bbs-3.15-bioc/R/library’ * installing *source* package ‘RcisTarget’ ... ** using staged installation ** R ** data ** inst ** byte-compile and prepare package for lazy loading ** help *** installing help indices ** building package indices ** installing vignettes ** testing if installed package can be loaded from temporary location ** testing if installed package can be loaded from final location ** testing if installed package keeps a record of temporary installation path * DONE (RcisTarget)
RcisTarget.Rcheck/tests/testthat.Rout
R version 4.2.1 (2022-06-23) -- "Funny-Looking Kid"
Copyright (C) 2022 The R Foundation for Statistical Computing
Platform: x86_64-pc-linux-gnu (64-bit)
R is free software and comes with ABSOLUTELY NO WARRANTY.
You are welcome to redistribute it under certain conditions.
Type 'license()' or 'licence()' for distribution details.
R is a collaborative project with many contributors.
Type 'contributors()' for more information and
'citation()' on how to cite R or R packages in publications.
Type 'demo()' for some demos, 'help()' for on-line help, or
'help.start()' for an HTML browser interface to help.
Type 'q()' to quit R.
> library(testthat)
> library(RcisTarget)
>
> test_check("RcisTarget")
[1] 5050
[1] 5050
[1] 5050
[1] 5050
[1] 5050
[1] 5050
[1] 5050
[1] 5050
[1] 5050
[1] 5050
[1] 5050
[ FAIL 0 | WARN 0 | SKIP 0 | PASS 58 ]
>
> proc.time()
user system elapsed
39.482 4.442 43.226
RcisTarget.Rcheck/RcisTarget-Ex.timings
| name | user | system | elapsed | |
| RcisTarget | 0.146 | 0.012 | 0.160 | |
| addLogo | 0.097 | 0.019 | 0.117 | |
| addMotifAnnotation | 17.983 | 0.908 | 18.835 | |
| addSignificantGenes | 15.135 | 1.304 | 16.427 | |
| aucScores-class | 8.017 | 0.400 | 8.422 | |
| calcAUC | 0.001 | 0.000 | 0.000 | |
| convertToTargetRegions | 0 | 0 | 0 | |
| getDbRegionsLoc | 0 | 0 | 0 | |
| getMotifAnnotation | 8.885 | 0.358 | 9.188 | |
| importAnnotations | 0.443 | 0.000 | 0.444 | |
| importRankings | 0.445 | 0.000 | 0.445 | |
| rankingRcisTarget-class | 6.956 | 0.228 | 7.185 | |
| reRank | 7.788 | 0.088 | 7.876 | |
| showLogo | 0.036 | 0.005 | 0.040 | |