Back to Multiple platform build/check report for BioC 3.15 |
|
This page was generated on 2022-03-18 11:08:33 -0400 (Fri, 18 Mar 2022).
Hostname | OS | Arch (*) | R version | Installed pkgs |
---|---|---|---|---|
nebbiolo1 | Linux (Ubuntu 20.04.4 LTS) | x86_64 | R Under development (unstable) (2022-02-17 r81757) -- "Unsuffered Consequences" | 4334 |
riesling1 | Windows Server 2019 Standard | x64 | R Under development (unstable) (2021-11-21 r81221) -- "Unsuffered Consequences" | 4097 |
palomino3 | Windows Server 2022 Datacenter | x64 | R Under development (unstable) (2022-02-17 r81757 ucrt) -- "Unsuffered Consequences" | 4083 |
merida1 | macOS 10.14.6 Mojave | x86_64 | R Under development (unstable) (2022-03-02 r81842) -- "Unsuffered Consequences" | 4134 |
Click on any hostname to see more info about the system (e.g. compilers) (*) as reported by 'uname -p', except on Windows and Mac OS X |
To the developers/maintainers of the RTN package: - Please allow up to 24 hours (and sometimes 48 hours) for your latest push to git@git.bioconductor.org:packages/RTN.git to reflect on this report. See How and When does the builder pull? When will my changes propagate? here for more information. - Make sure to use the following settings in order to reproduce any error or warning you see on this page. |
Package 1678/2090 | Hostname | OS / Arch | INSTALL | BUILD | CHECK | BUILD BIN | ||||||||
RTN 2.19.0 (landing page) Mauro Castro
| nebbiolo1 | Linux (Ubuntu 20.04.4 LTS) / x86_64 | OK | OK | OK | |||||||||
riesling1 | Windows Server 2019 Standard / x64 | OK | OK | OK | OK | |||||||||
palomino3 | Windows Server 2022 Datacenter / x64 | OK | OK | OK | OK | |||||||||
merida1 | macOS 10.14.6 Mojave / x86_64 | OK | OK | OK | OK | |||||||||
Package: RTN |
Version: 2.19.0 |
Command: D:\biocbuild\bbs-3.15-bioc\R\bin\R.exe CMD INSTALL RTN |
StartedAt: 2022-03-17 16:04:38 -0400 (Thu, 17 Mar 2022) |
EndedAt: 2022-03-17 16:06:07 -0400 (Thu, 17 Mar 2022) |
EllapsedTime: 88.8 seconds |
RetCode: 0 |
Status: OK |
############################################################################## ############################################################################## ### ### Running command: ### ### D:\biocbuild\bbs-3.15-bioc\R\bin\R.exe CMD INSTALL RTN ### ############################################################################## ############################################################################## * installing to library 'D:/biocbuild/bbs-3.15-bioc/R/library' * installing *source* package 'RTN' ... ** using staged installation ** R ** data ** inst ** byte-compile and prepare package for lazy loading ** help *** installing help indices converting help for package 'RTN' finding HTML links ... done AVS-class html RTN-package html RTN.data html TNA-class html TNI-class html TNI.data html avs.evse html avs.get html avs.pevse html avs.plot1 html avs.plot2 html avs.rvse html avs.vse html tna.get html tna.gsea1 html tna.gsea2 html tna.mra html tna.plot.gsea1 html tna.plot.gsea2 html tni.alpha.adjust html tni.annotate.regulons html tni.annotate.samples html tni.area3 html finding level-2 HTML links ... done tni.bootstrap html tni.conditional html tni.constructor html tni.dpi.filter html tni.get html tni.graph html tni.gsea2 html tni.overlap.genesets html tni.permutation html tni.plot.checks html tni.plot.sre html tni.preprocess html tni.prune html tni.regulon.summary html tni.replace.samples html tni.sre html tni2tna.preprocess html upgradeTNA html upgradeTNI html ** building package indices ** installing vignettes ** testing if installed package can be loaded from temporary location ** testing if installed package can be loaded from final location ** testing if installed package keeps a record of temporary installation path * DONE (RTN) Making 'packages.html' ... done