| Back to Multiple platform build/check report for BioC 3.15 |
|
This page was generated on 2022-03-18 11:08:32 -0400 (Fri, 18 Mar 2022).
| Hostname | OS | Arch (*) | R version | Installed pkgs |
|---|---|---|---|---|
| nebbiolo1 | Linux (Ubuntu 20.04.4 LTS) | x86_64 | R Under development (unstable) (2022-02-17 r81757) -- "Unsuffered Consequences" | 4334 |
| riesling1 | Windows Server 2019 Standard | x64 | R Under development (unstable) (2021-11-21 r81221) -- "Unsuffered Consequences" | 4097 |
| palomino3 | Windows Server 2022 Datacenter | x64 | R Under development (unstable) (2022-02-17 r81757 ucrt) -- "Unsuffered Consequences" | 4083 |
| merida1 | macOS 10.14.6 Mojave | x86_64 | R Under development (unstable) (2022-03-02 r81842) -- "Unsuffered Consequences" | 4134 |
| Click on any hostname to see more info about the system (e.g. compilers) (*) as reported by 'uname -p', except on Windows and Mac OS X | ||||
|
To the developers/maintainers of the RProtoBufLib package: - Please allow up to 24 hours (and sometimes 48 hours) for your latest push to git@git.bioconductor.org:packages/RProtoBufLib.git to reflect on this report. See How and When does the builder pull? When will my changes propagate? here for more information. - Make sure to use the following settings in order to reproduce any error or warning you see on this page. |
| Package 1658/2090 | Hostname | OS / Arch | INSTALL | BUILD | CHECK | BUILD BIN | ||||||||
| RProtoBufLib 2.7.1 (landing page) Mike Jiang
| nebbiolo1 | Linux (Ubuntu 20.04.4 LTS) / x86_64 | OK | OK | WARNINGS | |||||||||
| riesling1 | Windows Server 2019 Standard / x64 | OK | OK | OK | OK | |||||||||
| palomino3 | Windows Server 2022 Datacenter / x64 | OK | OK | WARNINGS | OK | |||||||||
| merida1 | macOS 10.14.6 Mojave / x86_64 | OK | OK | WARNINGS | OK | |||||||||
| Package: RProtoBufLib |
| Version: 2.7.1 |
| Command: rm -rf RProtoBufLib.buildbin-libdir && mkdir RProtoBufLib.buildbin-libdir && D:\biocbuild\bbs-3.15-bioc\R\bin\R.exe CMD INSTALL --build --library=RProtoBufLib.buildbin-libdir RProtoBufLib_2.7.1.tar.gz |
| StartedAt: 2022-03-17 21:35:02 -0400 (Thu, 17 Mar 2022) |
| EndedAt: 2022-03-17 21:36:53 -0400 (Thu, 17 Mar 2022) |
| EllapsedTime: 111.7 seconds |
| RetCode: 0 |
| Status: OK |
| PackageFile: RProtoBufLib_2.7.1.zip |
| PackageFileSize: 20.15 MiB |
##############################################################################
##############################################################################
###
### Running command:
###
### rm -rf RProtoBufLib.buildbin-libdir && mkdir RProtoBufLib.buildbin-libdir && D:\biocbuild\bbs-3.15-bioc\R\bin\R.exe CMD INSTALL --build --library=RProtoBufLib.buildbin-libdir RProtoBufLib_2.7.1.tar.gz
###
##############################################################################
##############################################################################
* installing *source* package 'RProtoBufLib' ...
** using staged installation
**********************************************
WARNING: this package has a configure script
It probably needs manual configuration
**********************************************
** libs
"D:/biocbuild/bbs-3.15-bioc/R/bin/x64/Rscript.exe" "../tools/downloadlibs.R" 3.13.0
"C:/rtools40/mingw64/bin/"g++ -std=gnu++11 -I"D:/biocbuild/bbs-3.15-bioc/R/include" -DNDEBUG -I../inst/include/ -I../windows/protobuf-3.13.0/include -I"C:/extsoft/include" -O2 -Wall -mfpmath=sse -msse2 -mstackrealign -fno-reorder-blocks-and-partition -c GatingSet_pb_lib/GatingSet.pb.cc -o GatingSet_pb_lib/GatingSet.pb.o
mkdir -p "D:/biocbuild/bbs-3.15-bioc/meat/RProtoBufLib.buildbin-libdir/00LOCK-RProtoBufLib/00new/RProtoBufLib/include"
cp -r ../windows/protobuf-3.13.0/include/google "D:/biocbuild/bbs-3.15-bioc/meat/RProtoBufLib.buildbin-libdir/00LOCK-RProtoBufLib/00new/RProtoBufLib/include"
mkdir -p "D:/biocbuild/bbs-3.15-bioc/meat/RProtoBufLib.buildbin-libdir/00LOCK-RProtoBufLib/00new/RProtoBufLib/lib/x64"
cp ../windows/protobuf-3.13.0/lib/x64/libprotobuf.a "D:/biocbuild/bbs-3.15-bioc/meat/RProtoBufLib.buildbin-libdir/00LOCK-RProtoBufLib/00new/RProtoBufLib/lib/x64/libprotobuf.a"
cp GatingSet_pb_lib/GatingSet.pb.o "D:/biocbuild/bbs-3.15-bioc/meat/RProtoBufLib.buildbin-libdir/00LOCK-RProtoBufLib/00new/RProtoBufLib/lib/x64/GatingSet.pb.o"
"C:/rtools40/mingw64/bin/"g++ -std=gnu++11 -I"D:/biocbuild/bbs-3.15-bioc/R/include" -DNDEBUG -I../inst/include/ -I../windows/protobuf-3.13.0/include -I"C:/extsoft/include" -O2 -Wall -mfpmath=sse -msse2 -mstackrealign -fno-reorder-blocks-and-partition -c dummy.cpp -o dummy.o
C:/rtools40/mingw64/bin/g++ -shared -s -static-libgcc -o RProtoBufLib.dll tmp.def dummy.o -LC:/extsoft/lib/x64 -LC:/extsoft/lib -LD:/biocbuild/bbs-3.15-bioc/R/bin/x64 -lR
installing to D:/biocbuild/bbs-3.15-bioc/meat/RProtoBufLib.buildbin-libdir/00LOCK-RProtoBufLib/00new/RProtoBufLib/libs/x64
** R
** inst
** byte-compile and prepare package for lazy loading
** help
*** installing help indices
converting help for package 'RProtoBufLib'
finding HTML links ... done
LdFlags html
** building package indices
** installing vignettes
** testing if installed package can be loaded from temporary location
** testing if installed package can be loaded from final location
** testing if installed package keeps a record of temporary installation path
* MD5 sums
packaged installation of 'RProtoBufLib' as RProtoBufLib_2.7.1.zip
* DONE (RProtoBufLib)