| Back to Multiple platform build/check report for BioC 3.15 |
|
This page was generated on 2022-10-19 13:20:47 -0400 (Wed, 19 Oct 2022).
| Hostname | OS | Arch (*) | R version | Installed pkgs |
|---|---|---|---|---|
| nebbiolo1 | Linux (Ubuntu 20.04.5 LTS) | x86_64 | 4.2.1 (2022-06-23) -- "Funny-Looking Kid" | 4386 |
| palomino3 | Windows Server 2022 Datacenter | x64 | 4.2.1 (2022-06-23 ucrt) -- "Funny-Looking Kid" | 4138 |
| merida1 | macOS 10.14.6 Mojave | x86_64 | 4.2.1 (2022-06-23) -- "Funny-Looking Kid" | 4205 |
| Click on any hostname to see more info about the system (e.g. compilers) (*) as reported by 'uname -p', except on Windows and Mac OS X | ||||
|
To the developers/maintainers of the RIPAT package: - Please allow up to 24 hours (and sometimes 48 hours) for your latest push to git@git.bioconductor.org:packages/RIPAT.git to reflect on this report. See How and When does the builder pull? When will my changes propagate? for more information. - Make sure to use the following settings in order to reproduce any error or warning you see on this page. |
| Package 1657/2140 | Hostname | OS / Arch | INSTALL | BUILD | CHECK | BUILD BIN | ||||||||
| RIPAT 1.6.0 (landing page) Min-Jeong Baek
| nebbiolo1 | Linux (Ubuntu 20.04.5 LTS) / x86_64 | OK | OK | OK | |||||||||
| palomino3 | Windows Server 2022 Datacenter / x64 | OK | OK | OK | OK | |||||||||
| merida1 | macOS 10.14.6 Mojave / x86_64 | OK | OK | OK | OK | |||||||||
| Package: RIPAT |
| Version: 1.6.0 |
| Command: /home/biocbuild/bbs-3.15-bioc/R/bin/R CMD check --install=check:RIPAT.install-out.txt --library=/home/biocbuild/bbs-3.15-bioc/R/library --no-vignettes --timings RIPAT_1.6.0.tar.gz |
| StartedAt: 2022-10-18 21:29:17 -0400 (Tue, 18 Oct 2022) |
| EndedAt: 2022-10-18 21:30:34 -0400 (Tue, 18 Oct 2022) |
| EllapsedTime: 76.8 seconds |
| RetCode: 0 |
| Status: OK |
| CheckDir: RIPAT.Rcheck |
| Warnings: 0 |
##############################################################################
##############################################################################
###
### Running command:
###
### /home/biocbuild/bbs-3.15-bioc/R/bin/R CMD check --install=check:RIPAT.install-out.txt --library=/home/biocbuild/bbs-3.15-bioc/R/library --no-vignettes --timings RIPAT_1.6.0.tar.gz
###
##############################################################################
##############################################################################
* using log directory ‘/home/biocbuild/bbs-3.15-bioc/meat/RIPAT.Rcheck’
* using R version 4.2.1 (2022-06-23)
* using platform: x86_64-pc-linux-gnu (64-bit)
* using session charset: UTF-8
* using option ‘--no-vignettes’
* checking for file ‘RIPAT/DESCRIPTION’ ... OK
* this is package ‘RIPAT’ version ‘1.6.0’
* package encoding: UTF-8
* checking package namespace information ... OK
* checking package dependencies ... OK
* checking if this is a source package ... OK
* checking if there is a namespace ... OK
* checking for hidden files and directories ... OK
* checking for portable file names ... OK
* checking for sufficient/correct file permissions ... OK
* checking whether package ‘RIPAT’ can be installed ... OK
* checking installed package size ... OK
* checking package directory ... OK
* checking ‘build’ directory ... OK
* checking DESCRIPTION meta-information ... OK
* checking top-level files ... OK
* checking for left-over files ... OK
* checking index information ... OK
* checking package subdirectories ... OK
* checking R files for non-ASCII characters ... OK
* checking R files for syntax errors ... OK
* checking whether the package can be loaded ... OK
* checking whether the package can be loaded with stated dependencies ... OK
* checking whether the package can be unloaded cleanly ... OK
* checking whether the namespace can be loaded with stated dependencies ... OK
* checking whether the namespace can be unloaded cleanly ... OK
* checking dependencies in R code ... OK
* checking S3 generic/method consistency ... OK
* checking replacement functions ... OK
* checking foreign function calls ... OK
* checking R code for possible problems ... NOTE
annoByCpG: no visible global function definition for ‘hist’
annoByCpG: no visible binding for global variable ‘Range’
annoByCpG: no visible binding for global variable ‘Freq’
annoByCpG: no visible binding for global variable ‘Group’
annoByGene: no visible global function definition for ‘hist’
annoByGene: no visible binding for global variable ‘Range’
annoByGene: no visible binding for global variable ‘Freq’
annoByGene: no visible binding for global variable ‘Group’
annoByRepeat: no visible global function definition for ‘hist’
annoByRepeat: no visible binding for global variable ‘all_dist_dup_m’
annoByRepeat: no visible binding for global variable ‘Range’
annoByRepeat: no visible binding for global variable ‘Freq’
annoByRepeat: no visible binding for global variable ‘Group’
annoByVar: no visible global function definition for ‘hist’
annoByVar: no visible binding for global variable ‘Range’
annoByVar: no visible binding for global variable ‘Freq’
annoByVar: no visible binding for global variable ‘Group’
makeDocument : <anonymous>: no visible global function definition for
‘hist’
makeDocument: no visible binding for global variable ‘group’
makeDocument: no visible binding for global variable ‘type’
makeDocument: no visible binding for global variable ‘convert_p’
makeDocument: no visible global function definition for ‘par’
Undefined global functions or variables:
Freq Group Range all_dist_dup_m convert_p group hist par type
Consider adding
importFrom("graphics", "hist", "par")
to your NAMESPACE file.
* checking Rd files ... OK
* checking Rd metadata ... OK
* checking Rd cross-references ... OK
* checking for missing documentation entries ... OK
* checking for code/documentation mismatches ... OK
* checking Rd \usage sections ... OK
* checking Rd contents ... OK
* checking for unstated dependencies in examples ... OK
* checking contents of ‘data’ directory ... OK
* checking data for non-ASCII characters ... OK
* checking data for ASCII and uncompressed saves ... OK
* checking files in ‘vignettes’ ... OK
* checking examples ... OK
Examples with CPU (user + system) or elapsed time > 5s
user system elapsed
drawingKaryo 11.453 0.716 12.170
makeData 7.122 0.596 9.304
* checking for unstated dependencies in vignettes ... OK
* checking package vignettes in ‘inst/doc’ ... OK
* checking running R code from vignettes ... SKIPPED
* checking re-building of vignette outputs ... SKIPPED
* checking PDF version of manual ... OK
* DONE
Status: 1 NOTE
See
‘/home/biocbuild/bbs-3.15-bioc/meat/RIPAT.Rcheck/00check.log’
for details.
RIPAT.Rcheck/00install.out
############################################################################## ############################################################################## ### ### Running command: ### ### /home/biocbuild/bbs-3.15-bioc/R/bin/R CMD INSTALL RIPAT ### ############################################################################## ############################################################################## * installing to library ‘/home/biocbuild/bbs-3.15-bioc/R/library’ * installing *source* package ‘RIPAT’ ... ** using staged installation ** R ** data ** inst ** byte-compile and prepare package for lazy loading ** help *** installing help indices ** building package indices ** installing vignettes ** testing if installed package can be loaded from temporary location ** testing if installed package can be loaded from final location ** testing if installed package keeps a record of temporary installation path * DONE (RIPAT)
RIPAT.Rcheck/RIPAT-Ex.timings
| name | user | system | elapsed | |
| annoByCpG | 4.220 | 0.196 | 4.416 | |
| annoByGene | 1.552 | 0.272 | 1.825 | |
| annoByRepeat | 1.348 | 0.048 | 1.396 | |
| annoByVar | 0.839 | 0.008 | 0.847 | |
| blast_gene | 0.056 | 0.004 | 0.060 | |
| blast_obj | 0.001 | 0.000 | 0.001 | |
| cpg_exam_db | 0.004 | 0.004 | 0.008 | |
| drawingKaryo | 11.453 | 0.716 | 12.170 | |
| gene_exam_db | 0.035 | 0.000 | 0.035 | |
| makeData | 7.122 | 0.596 | 9.304 | |
| makeDocument | 3.208 | 0.284 | 3.492 | |
| makeInputObj | 1.547 | 0.244 | 1.793 | |
| makeInputObj2 | 0.478 | 0.004 | 0.482 | |
| micro_exam_db | 0.005 | 0.000 | 0.005 | |
| repeat_exam_db | 0.007 | 0.000 | 0.007 | |
| tss_exam_db | 0.022 | 0.000 | 0.021 | |
| var_exam_db | 0.066 | 0.000 | 0.067 | |