| Back to Multiple platform build/check report for BioC 3.15 | 
  | 
This page was generated on 2022-03-18 11:08:28 -0400 (Fri, 18 Mar 2022).
| Hostname | OS | Arch (*) | R version | Installed pkgs | 
|---|---|---|---|---|
| nebbiolo1 | Linux (Ubuntu 20.04.4 LTS) | x86_64 | R Under development (unstable) (2022-02-17 r81757) -- "Unsuffered Consequences" | 4334 | 
| riesling1 | Windows Server 2019 Standard | x64 | R Under development (unstable) (2021-11-21 r81221) -- "Unsuffered Consequences" | 4097 | 
| palomino3 | Windows Server 2022 Datacenter | x64 | R Under development (unstable) (2022-02-17 r81757 ucrt) -- "Unsuffered Consequences" | 4083 | 
| merida1 | macOS 10.14.6 Mojave | x86_64 | R Under development (unstable) (2022-03-02 r81842) -- "Unsuffered Consequences" | 4134 | 
| Click on any hostname to see more info about the system (e.g. compilers) (*) as reported by 'uname -p', except on Windows and Mac OS X | ||||
| 
To the developers/maintainers of the REMP package: - Please allow up to 24 hours (and sometimes 48 hours) for your latest push to git@git.bioconductor.org:packages/REMP.git to reflect on this report. See How and When does the builder pull? When will my changes propagate? here for more information. - Make sure to use the following settings in order to reproduce any error or warning you see on this page.  | 
| Package 1585/2090 | Hostname | OS / Arch | INSTALL | BUILD | CHECK | BUILD BIN | ||||||||
| REMP 1.19.1  (landing page) Yinan Zheng 
  | nebbiolo1 | Linux (Ubuntu 20.04.4 LTS) / x86_64 | OK | OK | ERROR | |||||||||
| riesling1 | Windows Server 2019 Standard / x64 | OK | OK | ERROR | OK | |||||||||
| palomino3 | Windows Server 2022 Datacenter / x64 | OK | OK | ERROR | OK | |||||||||
| merida1 | macOS 10.14.6 Mojave / x86_64 | OK | OK | ERROR | OK | |||||||||
| Package: REMP | 
| Version: 1.19.1 | 
| Command: rm -rf REMP.buildbin-libdir && mkdir REMP.buildbin-libdir && D:\biocbuild\bbs-3.15-bioc\R\bin\R.exe CMD INSTALL --build --library=REMP.buildbin-libdir REMP_1.19.1.tar.gz | 
| StartedAt: 2022-03-17 21:33:10 -0400 (Thu, 17 Mar 2022) | 
| EndedAt: 2022-03-17 21:34:27 -0400 (Thu, 17 Mar 2022) | 
| EllapsedTime: 77.4 seconds | 
| RetCode: 0 | 
| Status: OK | 
| PackageFile: REMP_1.19.1.zip | 
| PackageFileSize: 771.4 KiB | 
##############################################################################
##############################################################################
###
### Running command:
###
###   rm -rf REMP.buildbin-libdir && mkdir REMP.buildbin-libdir && D:\biocbuild\bbs-3.15-bioc\R\bin\R.exe CMD INSTALL --build --library=REMP.buildbin-libdir REMP_1.19.1.tar.gz
###
##############################################################################
##############################################################################
* installing *source* package 'REMP' ...
** using staged installation
** R
** data
*** moving datasets to lazyload DB
** inst
** byte-compile and prepare package for lazy loading
** help
*** installing help indices
  converting help for package 'REMP'
    finding HTML links ... done
    Alu.hg19.demo                           html  
    finding level-2 HTML links ... done
    Alu.hg38.demo                           html  
    GRannot                                 html  
    REMP-package                            html  
    REMParcel-class                         html  
    REMProduct-class                        html  
    fetchRMSK                               html  
    fetchRefSeqGene                         html  
    findRECpG                               html  
    getBackend                              html  
    getGM12878                              html  
    grooMethy                               html  
    initREMP                                html  
    options                                 html  
    remp                                    html  
REDIRECT:topic	 Previous alias or file overwritten by alias: D:/biocbuild/bbs-3.15-bioc/meat/REMP.buildbin-libdir/00LOCK-REMP/00new/REMP/help/remp.html
    rempTemplate                            html  
    remprofile                              html  
** building package indices
** installing vignettes
** testing if installed package can be loaded from temporary location
** testing if installed package can be loaded from final location
** testing if installed package keeps a record of temporary installation path
* MD5 sums
packaged installation of 'REMP' as REMP_1.19.1.zip
* DONE (REMP)