| Back to Multiple platform build/check report for BioC 3.15 |
|
This page was generated on 2022-03-18 11:08:24 -0400 (Fri, 18 Mar 2022).
| Hostname | OS | Arch (*) | R version | Installed pkgs |
|---|---|---|---|---|
| nebbiolo1 | Linux (Ubuntu 20.04.4 LTS) | x86_64 | R Under development (unstable) (2022-02-17 r81757) -- "Unsuffered Consequences" | 4334 |
| riesling1 | Windows Server 2019 Standard | x64 | R Under development (unstable) (2021-11-21 r81221) -- "Unsuffered Consequences" | 4097 |
| palomino3 | Windows Server 2022 Datacenter | x64 | R Under development (unstable) (2022-02-17 r81757 ucrt) -- "Unsuffered Consequences" | 4083 |
| merida1 | macOS 10.14.6 Mojave | x86_64 | R Under development (unstable) (2022-03-02 r81842) -- "Unsuffered Consequences" | 4134 |
| Click on any hostname to see more info about the system (e.g. compilers) (*) as reported by 'uname -p', except on Windows and Mac OS X | ||||
|
To the developers/maintainers of the R4RNA package: - Please allow up to 24 hours (and sometimes 48 hours) for your latest push to git@git.bioconductor.org:packages/R4RNA.git to reflect on this report. See How and When does the builder pull? When will my changes propagate? here for more information. - Make sure to use the following settings in order to reproduce any error or warning you see on this page. |
| Package 1525/2090 | Hostname | OS / Arch | INSTALL | BUILD | CHECK | BUILD BIN | ||||||||
| R4RNA 1.23.0 (landing page) Daniel Lai
| nebbiolo1 | Linux (Ubuntu 20.04.4 LTS) / x86_64 | OK | OK | OK | |||||||||
| riesling1 | Windows Server 2019 Standard / x64 | OK | OK | OK | OK | |||||||||
| palomino3 | Windows Server 2022 Datacenter / x64 | OK | OK | OK | OK | |||||||||
| merida1 | macOS 10.14.6 Mojave / x86_64 | OK | OK | OK | OK | |||||||||
| Package: R4RNA |
| Version: 1.23.0 |
| Command: rm -rf R4RNA.buildbin-libdir && mkdir R4RNA.buildbin-libdir && D:\biocbuild\bbs-3.15-bioc\R\bin\R.exe CMD INSTALL --build --library=R4RNA.buildbin-libdir R4RNA_1.23.0.tar.gz |
| StartedAt: 2022-03-17 21:31:13 -0400 (Thu, 17 Mar 2022) |
| EndedAt: 2022-03-17 21:32:50 -0400 (Thu, 17 Mar 2022) |
| EllapsedTime: 96.2 seconds |
| RetCode: 0 |
| Status: OK |
| PackageFile: R4RNA_1.23.0.zip |
| PackageFileSize: 1008 KiB |
##############################################################################
##############################################################################
###
### Running command:
###
### rm -rf R4RNA.buildbin-libdir && mkdir R4RNA.buildbin-libdir && D:\biocbuild\bbs-3.15-bioc\R\bin\R.exe CMD INSTALL --build --library=R4RNA.buildbin-libdir R4RNA_1.23.0.tar.gz
###
##############################################################################
##############################################################################
* installing *source* package 'R4RNA' ...
** using staged installation
** R
** data
** inst
** byte-compile and prepare package for lazy loading
** help
*** installing help indices
converting help for package 'R4RNA'
finding HTML links ... done
R4RNA-package html
alignmentStatistics html
as.helix html
basepairFrequency html
blankPlot html
colourHelices html
expandCollapseHelix html
helix html
logicalHelix html
logseq html
plotCovariance html
plotHelix html
readStructure html
structureMismatchScore html
unknottedGroups html
viennaToHelix html
writeHelix html
** building package indices
** installing vignettes
** testing if installed package can be loaded from temporary location
** testing if installed package can be loaded from final location
** testing if installed package keeps a record of temporary installation path
* MD5 sums
packaged installation of 'R4RNA' as R4RNA_1.23.0.zip
* DONE (R4RNA)