| Back to Multiple platform build/check report for BioC 3.15 |
|
This page was generated on 2022-03-18 11:08:24 -0400 (Fri, 18 Mar 2022).
| Hostname | OS | Arch (*) | R version | Installed pkgs |
|---|---|---|---|---|
| nebbiolo1 | Linux (Ubuntu 20.04.4 LTS) | x86_64 | R Under development (unstable) (2022-02-17 r81757) -- "Unsuffered Consequences" | 4334 |
| riesling1 | Windows Server 2019 Standard | x64 | R Under development (unstable) (2021-11-21 r81221) -- "Unsuffered Consequences" | 4097 |
| palomino3 | Windows Server 2022 Datacenter | x64 | R Under development (unstable) (2022-02-17 r81757 ucrt) -- "Unsuffered Consequences" | 4083 |
| merida1 | macOS 10.14.6 Mojave | x86_64 | R Under development (unstable) (2022-03-02 r81842) -- "Unsuffered Consequences" | 4134 |
| Click on any hostname to see more info about the system (e.g. compilers) (*) as reported by 'uname -p', except on Windows and Mac OS X | ||||
|
To the developers/maintainers of the R3CPET package: - Please allow up to 24 hours (and sometimes 48 hours) for your latest push to git@git.bioconductor.org:packages/R3CPET.git to reflect on this report. See How and When does the builder pull? When will my changes propagate? here for more information. - Make sure to use the following settings in order to reproduce any error or warning you see on this page. |
| Package 1522/2090 | Hostname | OS / Arch | INSTALL | BUILD | CHECK | BUILD BIN | ||||||||
| R3CPET 1.27.0 (landing page) Mohamed Nadhir Djekidel
| nebbiolo1 | Linux (Ubuntu 20.04.4 LTS) / x86_64 | OK | OK | OK | |||||||||
| riesling1 | Windows Server 2019 Standard / x64 | OK | OK | OK | OK | |||||||||
| palomino3 | Windows Server 2022 Datacenter / x64 | OK | OK | OK | OK | |||||||||
| merida1 | macOS 10.14.6 Mojave / x86_64 | OK | OK | WARNINGS | OK | |||||||||
| Package: R3CPET |
| Version: 1.27.0 |
| Command: rm -rf R3CPET.buildbin-libdir && mkdir R3CPET.buildbin-libdir && D:\biocbuild\bbs-3.15-bioc\R\bin\R.exe CMD INSTALL --build --library=R3CPET.buildbin-libdir R3CPET_1.27.0.tar.gz |
| StartedAt: 2022-03-17 21:31:09 -0400 (Thu, 17 Mar 2022) |
| EndedAt: 2022-03-17 21:32:46 -0400 (Thu, 17 Mar 2022) |
| EllapsedTime: 96.9 seconds |
| RetCode: 0 |
| Status: OK |
| PackageFile: R3CPET_1.27.0.zip |
| PackageFileSize: 5.462 MiB |
##############################################################################
##############################################################################
###
### Running command:
###
### rm -rf R3CPET.buildbin-libdir && mkdir R3CPET.buildbin-libdir && D:\biocbuild\bbs-3.15-bioc\R\bin\R.exe CMD INSTALL --build --library=R3CPET.buildbin-libdir R3CPET_1.27.0.tar.gz
###
##############################################################################
##############################################################################
* installing *source* package 'R3CPET' ...
** using staged installation
** libs
"C:/rtools40/mingw64/bin/"gcc -I"D:/biocbuild/bbs-3.15-bioc/R/include" -DNDEBUG -I'D:/biocbuild/bbs-3.15-bioc/R/library/Rcpp/include' -I"C:/extsoft/include" -O2 -Wall -std=gnu99 -mfpmath=sse -msse2 -mstackrealign -fno-reorder-blocks-and-partition -c R3CPET_init.c -o R3CPET_init.o
"C:/rtools40/mingw64/bin/"g++ -std=gnu++11 -I"D:/biocbuild/bbs-3.15-bioc/R/include" -DNDEBUG -I'D:/biocbuild/bbs-3.15-bioc/R/library/Rcpp/include' -I"C:/extsoft/include" -O2 -Wall -mfpmath=sse -msse2 -mstackrealign -fno-reorder-blocks-and-partition -c RcppExports.cpp -o RcppExports.o
"C:/rtools40/mingw64/bin/"g++ -std=gnu++11 -I"D:/biocbuild/bbs-3.15-bioc/R/include" -DNDEBUG -I'D:/biocbuild/bbs-3.15-bioc/R/library/Rcpp/include' -I"C:/extsoft/include" -O2 -Wall -mfpmath=sse -msse2 -mstackrealign -fno-reorder-blocks-and-partition -c corpus.cpp -o corpus.o
"C:/rtools40/mingw64/bin/"g++ -std=gnu++11 -I"D:/biocbuild/bbs-3.15-bioc/R/include" -DNDEBUG -I'D:/biocbuild/bbs-3.15-bioc/R/library/Rcpp/include' -I"C:/extsoft/include" -O2 -Wall -mfpmath=sse -msse2 -mstackrealign -fno-reorder-blocks-and-partition -c main.cpp -o main.o
"C:/rtools40/mingw64/bin/"g++ -std=gnu++11 -I"D:/biocbuild/bbs-3.15-bioc/R/include" -DNDEBUG -I'D:/biocbuild/bbs-3.15-bioc/R/library/Rcpp/include' -I"C:/extsoft/include" -O2 -Wall -mfpmath=sse -msse2 -mstackrealign -fno-reorder-blocks-and-partition -c state.cpp -o state.o
state.cpp: In member function 'int HDP::sample_word_assignment(DocState*, int, bool, vct*)':
state.cpp:253:10: warning: 'k' may be used uninitialized in this function [-Wmaybe-uninitialized]
return int(old_k != k);
^~~~~~~~~~~~~~~
"C:/rtools40/mingw64/bin/"g++ -std=gnu++11 -I"D:/biocbuild/bbs-3.15-bioc/R/include" -DNDEBUG -I'D:/biocbuild/bbs-3.15-bioc/R/library/Rcpp/include' -I"C:/extsoft/include" -O2 -Wall -mfpmath=sse -msse2 -mstackrealign -fno-reorder-blocks-and-partition -c stirln.cpp -o stirln.o
"C:/rtools40/mingw64/bin/"g++ -std=gnu++11 -I"D:/biocbuild/bbs-3.15-bioc/R/include" -DNDEBUG -I'D:/biocbuild/bbs-3.15-bioc/R/library/Rcpp/include' -I"C:/extsoft/include" -O2 -Wall -mfpmath=sse -msse2 -mstackrealign -fno-reorder-blocks-and-partition -c utils.cpp -o utils.o
C:/rtools40/mingw64/bin/g++ -std=gnu++11 -shared -s -static-libgcc -o R3CPET.dll tmp.def R3CPET_init.o RcppExports.o corpus.o main.o state.o stirln.o utils.o -LC:/extsoft/lib/x64 -LC:/extsoft/lib -LD:/biocbuild/bbs-3.15-bioc/R/bin/x64 -lR
installing to D:/biocbuild/bbs-3.15-bioc/meat/R3CPET.buildbin-libdir/00LOCK-R3CPET/00new/R3CPET/libs/x64
** R
** data
** inst
** byte-compile and prepare package for lazy loading
NOTE: arguments in definition for validity method for class 'ChromMaintainers' changed from (x) to (object)
NOTE: arguments in definition for validity method for class 'HLDAResult' changed from (x) to (object)
NOTE: arguments in definition for validity method for class 'NetworkCollection' changed from (x) to (object)
** help
*** installing help indices
converting help for package 'R3CPET'
finding HTML links ... done
Biogrid html
finding level-2 HTML links ... done
ChiapetExperimentData-class html
ChromMaintainers-class html
CreateCenteredBED-methods html
EnsemblToHGNC html
EntrezToHGNC html
GOEnrich-methods html
GenerateNetworks-methods html
HLDAResult-class html
HPRD html
InferNetworks-methods html
NetworkCollection-class html
PrepareData-methods html
R3CPET-package html
RPKMS html
annotateExpression-methods html
buildNetworks-methods html
chromosoms html
REDIRECT:topic Previous alias or file overwritten by alias: D:/biocbuild/bbs-3.15-bioc/meat/R3CPET.buildbin-libdir/00LOCK-R3CPET/00new/R3CPET/help/Chromosoms.html
cluesOrSota-class html
clusterInteractions-methods html
createIndexes-methods html
createServer-methods html
geneLocations html
getRegionsInNetwork-methods html
getRegionsIncluster-methods html
loadPETs-methods html
loadPPI-methods html
loadTFBS-methods html
outputGenesPerClusterToDir-methods html
outputGenesPerNetworkToDir-methods html
plotRes-methods html
plotTrack html
updateResults-methods html
visualizeCircos-methods html
visualizeInteractions-methods html
** building package indices
** installing vignettes
** testing if installed package can be loaded from temporary location
** testing if installed package can be loaded from final location
** testing if installed package keeps a record of temporary installation path
* MD5 sums
packaged installation of 'R3CPET' as R3CPET_1.27.0.zip
* DONE (R3CPET)