Back to Multiple platform build/check report for BioC 3.15 |
|
This page was generated on 2022-03-18 11:08:23 -0400 (Fri, 18 Mar 2022).
Hostname | OS | Arch (*) | R version | Installed pkgs |
---|---|---|---|---|
nebbiolo1 | Linux (Ubuntu 20.04.4 LTS) | x86_64 | R Under development (unstable) (2022-02-17 r81757) -- "Unsuffered Consequences" | 4334 |
riesling1 | Windows Server 2019 Standard | x64 | R Under development (unstable) (2021-11-21 r81221) -- "Unsuffered Consequences" | 4097 |
palomino3 | Windows Server 2022 Datacenter | x64 | R Under development (unstable) (2022-02-17 r81757 ucrt) -- "Unsuffered Consequences" | 4083 |
merida1 | macOS 10.14.6 Mojave | x86_64 | R Under development (unstable) (2022-03-02 r81842) -- "Unsuffered Consequences" | 4134 |
Click on any hostname to see more info about the system (e.g. compilers) (*) as reported by 'uname -p', except on Windows and Mac OS X |
To the developers/maintainers of the QSutils package: - Please allow up to 24 hours (and sometimes 48 hours) for your latest push to git@git.bioconductor.org:packages/QSutils.git to reflect on this report. See How and When does the builder pull? When will my changes propagate? here for more information. - Make sure to use the following settings in order to reproduce any error or warning you see on this page. |
Package 1511/2090 | Hostname | OS / Arch | INSTALL | BUILD | CHECK | BUILD BIN | ||||||||
QSutils 1.13.0 (landing page) Mercedes Guerrero-Murillo
| nebbiolo1 | Linux (Ubuntu 20.04.4 LTS) / x86_64 | OK | OK | OK | |||||||||
riesling1 | Windows Server 2019 Standard / x64 | OK | OK | OK | OK | |||||||||
palomino3 | Windows Server 2022 Datacenter / x64 | OK | OK | OK | OK | |||||||||
merida1 | macOS 10.14.6 Mojave / x86_64 | OK | OK | OK | OK | |||||||||
Package: QSutils |
Version: 1.13.0 |
Command: D:\biocbuild\bbs-3.15-bioc\R\bin\R.exe CMD INSTALL QSutils |
StartedAt: 2022-03-17 15:48:59 -0400 (Thu, 17 Mar 2022) |
EndedAt: 2022-03-17 15:49:59 -0400 (Thu, 17 Mar 2022) |
EllapsedTime: 60.2 seconds |
RetCode: 0 |
Status: OK |
############################################################################## ############################################################################## ### ### Running command: ### ### D:\biocbuild\bbs-3.15-bioc\R\bin\R.exe CMD INSTALL QSutils ### ############################################################################## ############################################################################## * installing to library 'D:/biocbuild/bbs-3.15-bioc/R/library' * installing *source* package 'QSutils' ... ** using staged installation ** R ** inst ** byte-compile and prepare package for lazy loading ** help *** installing help indices converting help for package 'QSutils' finding HTML links ... done Collapse html ConsSeq html CorrectGapsAndNs html DBrule html DNA.dist html DSFT html Diverge html DottedAlignment html FAD html FreqMat html GenerateVars html GenotypeStandards_A-H.fas html GetInfProfile html GetQSData html GetRandomSeq html GiniSimpson html HCq html Hill html IntersectStrandHpls html MutationFreq html MutsTbl html NucleotideDiversity html PolyDist html QSutils-package html Rao html ReadAmplSeqs html Renyi html ReportVariants html SegSites html Shannon html SortByMutations html SummaryMuts html TotalMutations html Toy.GapsAndNs.fna html ToyData_10_50_1000.fna html ToyData_FWReads.fna html ToyData_RVReads.fna html UniqueMutations html Unknown-Genotype.fna html fn.ab html geom.series html ** building package indices ** installing vignettes ** testing if installed package can be loaded from temporary location ** testing if installed package can be loaded from final location ** testing if installed package keeps a record of temporary installation path * DONE (QSutils) Making 'packages.html' ... done