| Back to Multiple platform build/check report for BioC 3.15 |
|
This page was generated on 2022-04-12 11:05:45 -0400 (Tue, 12 Apr 2022).
| Hostname | OS | Arch (*) | R version | Installed pkgs |
|---|---|---|---|---|
| nebbiolo1 | Linux (Ubuntu 20.04.4 LTS) | x86_64 | R Under development (unstable) (2022-03-17 r81925) -- "Unsuffered Consequences" | 4379 |
| palomino3 | Windows Server 2022 Datacenter | x64 | R Under development (unstable) (2022-03-17 r81925 ucrt) -- "Unsuffered Consequences" | 4127 |
| merida1 | macOS 10.14.6 Mojave | x86_64 | R Under development (unstable) (2022-03-17 r81925) -- "Unsuffered Consequences" | 4190 |
| Click on any hostname to see more info about the system (e.g. compilers) (*) as reported by 'uname -p', except on Windows and Mac OS X | ||||
|
To the developers/maintainers of the PrecisionTrialDrawer package: - Please allow up to 24 hours (and sometimes 48 hours) for your latest push to git@git.bioconductor.org:packages/PrecisionTrialDrawer.git to reflect on this report. See How and When does the builder pull? When will my changes propagate? for more information. - Make sure to use the following settings in order to reproduce any error or warning you see on this page. |
| Package 1472/2113 | Hostname | OS / Arch | INSTALL | BUILD | CHECK | BUILD BIN | ||||||||
| PrecisionTrialDrawer 1.11.0 (landing page) Giorgio Melloni
| nebbiolo1 | Linux (Ubuntu 20.04.4 LTS) / x86_64 | OK | OK | OK | |||||||||
| palomino3 | Windows Server 2022 Datacenter / x64 | OK | OK | OK | OK | |||||||||
| merida1 | macOS 10.14.6 Mojave / x86_64 | OK | OK | OK | OK | |||||||||
| Package: PrecisionTrialDrawer |
| Version: 1.11.0 |
| Command: /home/biocbuild/bbs-3.15-bioc/R/bin/R CMD check --install=check:PrecisionTrialDrawer.install-out.txt --library=/home/biocbuild/bbs-3.15-bioc/R/library --no-vignettes --timings PrecisionTrialDrawer_1.11.0.tar.gz |
| StartedAt: 2022-04-11 21:00:35 -0400 (Mon, 11 Apr 2022) |
| EndedAt: 2022-04-11 21:03:45 -0400 (Mon, 11 Apr 2022) |
| EllapsedTime: 189.5 seconds |
| RetCode: 0 |
| Status: OK |
| CheckDir: PrecisionTrialDrawer.Rcheck |
| Warnings: 0 |
##############################################################################
##############################################################################
###
### Running command:
###
### /home/biocbuild/bbs-3.15-bioc/R/bin/R CMD check --install=check:PrecisionTrialDrawer.install-out.txt --library=/home/biocbuild/bbs-3.15-bioc/R/library --no-vignettes --timings PrecisionTrialDrawer_1.11.0.tar.gz
###
##############################################################################
##############################################################################
* using log directory ‘/home/biocbuild/bbs-3.15-bioc/meat/PrecisionTrialDrawer.Rcheck’
* using R Under development (unstable) (2022-03-17 r81925)
* using platform: x86_64-pc-linux-gnu (64-bit)
* using session charset: UTF-8
* using option ‘--no-vignettes’
* checking for file ‘PrecisionTrialDrawer/DESCRIPTION’ ... OK
* checking extension type ... Package
* this is package ‘PrecisionTrialDrawer’ version ‘1.11.0’
* checking package namespace information ... OK
* checking package dependencies ... OK
* checking if this is a source package ... OK
* checking if there is a namespace ... OK
* checking for hidden files and directories ... OK
* checking for portable file names ... OK
* checking for sufficient/correct file permissions ... OK
* checking whether package ‘PrecisionTrialDrawer’ can be installed ... OK
* checking installed package size ... OK
* checking package directory ... OK
* checking ‘build’ directory ... OK
* checking DESCRIPTION meta-information ... OK
* checking top-level files ... OK
* checking for left-over files ... OK
* checking index information ... OK
* checking package subdirectories ... OK
* checking R files for non-ASCII characters ... OK
* checking R files for syntax errors ... OK
* checking whether the package can be loaded ... OK
* checking whether the package can be loaded with stated dependencies ... OK
* checking whether the package can be unloaded cleanly ... OK
* checking whether the namespace can be loaded with stated dependencies ... OK
* checking whether the namespace can be unloaded cleanly ... OK
* checking dependencies in R code ... OK
* checking S3 generic/method consistency ... OK
* checking replacement functions ... OK
* checking foreign function calls ... OK
* checking R code for possible problems ... OK
* checking Rd files ... OK
* checking Rd metadata ... OK
* checking Rd cross-references ... OK
* checking for missing documentation entries ... OK
* checking for code/documentation mismatches ... OK
* checking Rd \usage sections ... OK
* checking Rd contents ... OK
* checking for unstated dependencies in examples ... OK
* checking contents of ‘data’ directory ... OK
* checking data for non-ASCII characters ... OK
* checking data for ASCII and uncompressed saves ... OK
* checking files in ‘vignettes’ ... OK
* checking examples ... OK
Examples with CPU (user + system) or elapsed time > 5s
user system elapsed
panelDesigner 3.783 0.318 10.272
newCancerPanel 3.287 0.205 10.132
* checking for unstated dependencies in vignettes ... OK
* checking package vignettes in ‘inst/doc’ ... OK
* checking running R code from vignettes ... SKIPPED
* checking re-building of vignette outputs ... SKIPPED
* checking PDF version of manual ... OK
* DONE
Status: OK
PrecisionTrialDrawer.Rcheck/00install.out
############################################################################## ############################################################################## ### ### Running command: ### ### /home/biocbuild/bbs-3.15-bioc/R/bin/R CMD INSTALL PrecisionTrialDrawer ### ############################################################################## ############################################################################## * installing to library ‘/home/biocbuild/bbs-3.15-bioc/R/library’ * installing *source* package ‘PrecisionTrialDrawer’ ... ** using staged installation ** R ** data ** inst ** byte-compile and prepare package for lazy loading Creating a generic function for ‘toJSON’ from package ‘jsonlite’ in package ‘googleVis’ ** help *** installing help indices ** building package indices ** installing vignettes ** testing if installed package can be loaded from temporary location Creating a generic function for ‘toJSON’ from package ‘jsonlite’ in package ‘googleVis’ ** testing if installed package can be loaded from final location Creating a generic function for ‘toJSON’ from package ‘jsonlite’ in package ‘googleVis’ ** testing if installed package keeps a record of temporary installation path * DONE (PrecisionTrialDrawer)
PrecisionTrialDrawer.Rcheck/PrecisionTrialDrawer-Ex.timings
| name | user | system | elapsed | |
| CancerPanel-class | 0.002 | 0.000 | 0.002 | |
| PrecisionTrialDrawer-package | 0.186 | 0.000 | 0.185 | |
| appendRepo | 0.776 | 0.099 | 0.875 | |
| coocMutexPlot | 1.413 | 0.021 | 1.432 | |
| coveragePlot | 0.160 | 0.008 | 0.168 | |
| coverageStackPlot | 0.200 | 0.016 | 0.217 | |
| cpArguments | 0.011 | 0.004 | 0.015 | |
| cpData | 0.012 | 0.004 | 0.016 | |
| cpDataSubset | 0.009 | 0.000 | 0.010 | |
| cpDesign | 0.015 | 0.003 | 0.019 | |
| cpFreq | 0.195 | 0.036 | 0.231 | |
| cpObj | 0.162 | 0.004 | 0.166 | |
| cpObj2 | 0.037 | 0.000 | 0.036 | |
| dataExtractor | 0.339 | 0.012 | 0.351 | |
| filterFusions | 0.323 | 0.007 | 0.330 | |
| filterMutations | 0.776 | 0.024 | 0.800 | |
| getAlterations | 0.200 | 0.019 | 0.643 | |
| newCancerPanel | 3.287 | 0.205 | 10.132 | |
| panelDesigner | 3.783 | 0.318 | 10.272 | |
| panelOptimizer | 0.000 | 0.001 | 0.001 | |
| panelexample | 0.003 | 0.004 | 0.006 | |
| propPowerSampleSize | 0.687 | 0.084 | 0.770 | |
| saturationPlot | 1.316 | 0.052 | 1.368 | |
| showCancerStudy | 0.018 | 0.005 | 0.060 | |
| showTumorType | 0.036 | 0.000 | 0.090 | |
| subsetAlterations | 0.430 | 0.016 | 0.446 | |
| survPowerSampleSize | 0.511 | 0.048 | 0.560 | |
| survPowerSampleSize1Arm | 0.587 | 0.016 | 0.604 | |