Back to Multiple platform build/check report for BioC 3.15 |
|
This page was generated on 2022-03-18 11:08:17 -0400 (Fri, 18 Mar 2022).
Hostname | OS | Arch (*) | R version | Installed pkgs |
---|---|---|---|---|
nebbiolo1 | Linux (Ubuntu 20.04.4 LTS) | x86_64 | R Under development (unstable) (2022-02-17 r81757) -- "Unsuffered Consequences" | 4334 |
riesling1 | Windows Server 2019 Standard | x64 | R Under development (unstable) (2021-11-21 r81221) -- "Unsuffered Consequences" | 4097 |
palomino3 | Windows Server 2022 Datacenter | x64 | R Under development (unstable) (2022-02-17 r81757 ucrt) -- "Unsuffered Consequences" | 4083 |
merida1 | macOS 10.14.6 Mojave | x86_64 | R Under development (unstable) (2022-03-02 r81842) -- "Unsuffered Consequences" | 4134 |
Click on any hostname to see more info about the system (e.g. compilers) (*) as reported by 'uname -p', except on Windows and Mac OS X |
To the developers/maintainers of the PhosR package: - Please allow up to 24 hours (and sometimes 48 hours) for your latest push to git@git.bioconductor.org:packages/PhosR.git to reflect on this report. See How and When does the builder pull? When will my changes propagate? here for more information. - Make sure to use the following settings in order to reproduce any error or warning you see on this page. |
Package 1421/2090 | Hostname | OS / Arch | INSTALL | BUILD | CHECK | BUILD BIN | ||||||||
PhosR 1.5.1 (landing page) Taiyun Kim
| nebbiolo1 | Linux (Ubuntu 20.04.4 LTS) / x86_64 | OK | OK | OK | ![]() | ||||||||
riesling1 | Windows Server 2019 Standard / x64 | OK | OK | OK | OK | |||||||||
palomino3 | Windows Server 2022 Datacenter / x64 | OK | OK | OK | OK | ![]() | ||||||||
merida1 | macOS 10.14.6 Mojave / x86_64 | OK | OK | OK | OK | ![]() | ||||||||
Package: PhosR |
Version: 1.5.1 |
Command: rm -rf PhosR.buildbin-libdir && mkdir PhosR.buildbin-libdir && D:\biocbuild\bbs-3.15-bioc\R\bin\R.exe CMD INSTALL --build --library=PhosR.buildbin-libdir PhosR_1.5.1.tar.gz |
StartedAt: 2022-03-17 21:28:16 -0400 (Thu, 17 Mar 2022) |
EndedAt: 2022-03-17 21:29:39 -0400 (Thu, 17 Mar 2022) |
EllapsedTime: 83.0 seconds |
RetCode: 0 |
Status: OK |
PackageFile: PhosR_1.5.1.zip |
PackageFileSize: 4.846 MiB |
############################################################################## ############################################################################## ### ### Running command: ### ### rm -rf PhosR.buildbin-libdir && mkdir PhosR.buildbin-libdir && D:\biocbuild\bbs-3.15-bioc\R\bin\R.exe CMD INSTALL --build --library=PhosR.buildbin-libdir PhosR_1.5.1.tar.gz ### ############################################################################## ############################################################################## * installing *source* package 'PhosR' ... ** using staged installation ** R ** data ** inst ** byte-compile and prepare package for lazy loading ** help *** installing help indices converting help for package 'PhosR' finding HTML links ... done KinaseFamily html PhosphoExperiment-methods html PhosphoExperiment-operate html finding level-2 HTML links ... done PhosphoExperiment html PhosphoSite.human html PhosphoSite.mouse html PhosphoSite.rat html RUVphospho html SPSs html Signalomes html createFrequencyMat html frequencyScoring html getSPS html hSEGs html kinaseSubstrateHeatmap html kinaseSubstratePred html kinaseSubstrateProfile html kinaseSubstrateScore html mIntersect html mSEGs html matANOVA html meanAbundance html medianScaling html minmax html motif.human.list html motif.mouse.list html motif.rat.list html pathwayOverrepresent html pathwayRankBasedEnrichment html phosCollapse html phospho.L6.ratio html phospho.L6.ratio.pe html phospho.cells.Ins html phospho.liver.Ins.TC.ratio.RUV html phospho.liver.Ins.TC.ratio.RUV.pe html plotKinaseNetwork html plotQC html plotSignalomeMap html ptImpute html scImpute html selectGrps html selectLocalisedSites html selectOverallPercent html selectTimes html siteAnnotate html standardise html tImpute html *** copying figures ** building package indices ** installing vignettes ** testing if installed package can be loaded from temporary location ** testing if installed package can be loaded from final location ** testing if installed package keeps a record of temporary installation path * MD5 sums packaged installation of 'PhosR' as PhosR_1.5.1.zip * DONE (PhosR)