| Back to Multiple platform build/check report for BioC 3.15 |
|
This page was generated on 2022-10-19 13:20:39 -0400 (Wed, 19 Oct 2022).
| Hostname | OS | Arch (*) | R version | Installed pkgs |
|---|---|---|---|---|
| nebbiolo1 | Linux (Ubuntu 20.04.5 LTS) | x86_64 | 4.2.1 (2022-06-23) -- "Funny-Looking Kid" | 4386 |
| palomino3 | Windows Server 2022 Datacenter | x64 | 4.2.1 (2022-06-23 ucrt) -- "Funny-Looking Kid" | 4138 |
| merida1 | macOS 10.14.6 Mojave | x86_64 | 4.2.1 (2022-06-23) -- "Funny-Looking Kid" | 4205 |
| Click on any hostname to see more info about the system (e.g. compilers) (*) as reported by 'uname -p', except on Windows and Mac OS X | ||||
|
To the developers/maintainers of the PathoStat package: - Please allow up to 24 hours (and sometimes 48 hours) for your latest push to git@git.bioconductor.org:packages/PathoStat.git to reflect on this report. See How and When does the builder pull? When will my changes propagate? for more information. - Make sure to use the following settings in order to reproduce any error or warning you see on this page. |
| Package 1415/2140 | Hostname | OS / Arch | INSTALL | BUILD | CHECK | BUILD BIN | ||||||||
| PathoStat 1.22.0 (landing page) Solaiappan Manimaran
| nebbiolo1 | Linux (Ubuntu 20.04.5 LTS) / x86_64 | OK | OK | OK | |||||||||
| palomino3 | Windows Server 2022 Datacenter / x64 | OK | OK | OK | OK | |||||||||
| merida1 | macOS 10.14.6 Mojave / x86_64 | OK | OK | OK | OK | |||||||||
| Package: PathoStat |
| Version: 1.22.0 |
| Command: /home/biocbuild/bbs-3.15-bioc/R/bin/R CMD check --install=check:PathoStat.install-out.txt --library=/home/biocbuild/bbs-3.15-bioc/R/library --no-vignettes --timings PathoStat_1.22.0.tar.gz |
| StartedAt: 2022-10-18 21:02:03 -0400 (Tue, 18 Oct 2022) |
| EndedAt: 2022-10-18 21:08:36 -0400 (Tue, 18 Oct 2022) |
| EllapsedTime: 392.1 seconds |
| RetCode: 0 |
| Status: OK |
| CheckDir: PathoStat.Rcheck |
| Warnings: 0 |
##############################################################################
##############################################################################
###
### Running command:
###
### /home/biocbuild/bbs-3.15-bioc/R/bin/R CMD check --install=check:PathoStat.install-out.txt --library=/home/biocbuild/bbs-3.15-bioc/R/library --no-vignettes --timings PathoStat_1.22.0.tar.gz
###
##############################################################################
##############################################################################
* using log directory ‘/home/biocbuild/bbs-3.15-bioc/meat/PathoStat.Rcheck’
* using R version 4.2.1 (2022-06-23)
* using platform: x86_64-pc-linux-gnu (64-bit)
* using session charset: UTF-8
* using option ‘--no-vignettes’
* checking for file ‘PathoStat/DESCRIPTION’ ... OK
* checking extension type ... Package
* this is package ‘PathoStat’ version ‘1.22.0’
* package encoding: UTF-8
* checking package namespace information ... OK
* checking package dependencies ... OK
* checking if this is a source package ... OK
* checking if there is a namespace ... OK
* checking for hidden files and directories ... OK
* checking for portable file names ... OK
* checking for sufficient/correct file permissions ... OK
* checking whether package ‘PathoStat’ can be installed ... OK
* checking installed package size ... OK
* checking package directory ... OK
* checking ‘build’ directory ... OK
* checking DESCRIPTION meta-information ... OK
* checking top-level files ... OK
* checking for left-over files ... OK
* checking index information ... OK
* checking package subdirectories ... OK
* checking R files for non-ASCII characters ... OK
* checking R files for syntax errors ... OK
* checking whether the package can be loaded ... OK
* checking whether the package can be loaded with stated dependencies ... OK
* checking whether the package can be unloaded cleanly ... OK
* checking whether the namespace can be loaded with stated dependencies ... OK
* checking whether the namespace can be unloaded cleanly ... OK
* checking dependencies in R code ... NOTE
Namespaces in Imports field not imported from:
‘ComplexHeatmap’ ‘RColorBrewer’
All declared Imports should be used.
* checking S3 generic/method consistency ... OK
* checking replacement functions ... OK
* checking foreign function calls ... OK
* checking R code for possible problems ... OK
* checking Rd files ... OK
* checking Rd metadata ... OK
* checking Rd cross-references ... OK
* checking for missing documentation entries ... OK
* checking for code/documentation mismatches ... OK
* checking Rd \usage sections ... OK
* checking Rd contents ... OK
* checking for unstated dependencies in examples ... OK
* checking contents of ‘data’ directory ... OK
* checking data for non-ASCII characters ... OK
* checking data for ASCII and uncompressed saves ... OK
* checking files in ‘vignettes’ ... OK
* checking examples ... OK
Examples with CPU (user + system) or elapsed time > 5s
user system elapsed
getSignatureFromMultipleGlmnet 9.004 0.206 9.211
Bootstrap_LOOCV_LR_AUC 8.464 0.232 8.696
* checking for unstated dependencies in ‘tests’ ... OK
* checking tests ...
Running ‘testthat.R’
OK
* checking for unstated dependencies in vignettes ... OK
* checking package vignettes in ‘inst/doc’ ... OK
* checking running R code from vignettes ... SKIPPED
* checking re-building of vignette outputs ... SKIPPED
* checking PDF version of manual ... OK
* DONE
Status: 1 NOTE
See
‘/home/biocbuild/bbs-3.15-bioc/meat/PathoStat.Rcheck/00check.log’
for details.
PathoStat.Rcheck/00install.out
############################################################################## ############################################################################## ### ### Running command: ### ### /home/biocbuild/bbs-3.15-bioc/R/bin/R CMD INSTALL PathoStat ### ############################################################################## ############################################################################## * installing to library ‘/home/biocbuild/bbs-3.15-bioc/R/library’ * installing *source* package ‘PathoStat’ ... ** using staged installation ** R ** data ** inst ** byte-compile and prepare package for lazy loading ** help *** installing help indices ** building package indices ** installing vignettes ** testing if installed package can be loaded from temporary location ** testing if installed package can be loaded from final location ** testing if installed package keeps a record of temporary installation path * DONE (PathoStat)
PathoStat.Rcheck/tests/testthat.Rout
R version 4.2.1 (2022-06-23) -- "Funny-Looking Kid"
Copyright (C) 2022 The R Foundation for Statistical Computing
Platform: x86_64-pc-linux-gnu (64-bit)
R is free software and comes with ABSOLUTELY NO WARRANTY.
You are welcome to redistribute it under certain conditions.
Type 'license()' or 'licence()' for distribution details.
R is a collaborative project with many contributors.
Type 'contributors()' for more information and
'citation()' on how to cite R or R packages in publications.
Type 'demo()' for some demos, 'help()' for on-line help, or
'help.start()' for an HTML browser interface to help.
Type 'q()' to quit R.
> library(testthat)
> library(PathoStat)
>
> test_check("PathoStat")
[ FAIL 0 | WARN 0 | SKIP 0 | PASS 1 ]
>
> proc.time()
user system elapsed
12.744 0.708 13.439
PathoStat.Rcheck/PathoStat-Ex.timings
| name | user | system | elapsed | |
| Bootstrap_LOOCV_LR_AUC | 8.464 | 0.232 | 8.696 | |
| Chisq_Test_Pam | 0.001 | 0.003 | 0.004 | |
| Fisher_Test_Pam | 0.005 | 0.000 | 0.005 | |
| GET_PAM | 0.000 | 0.002 | 0.003 | |
| LOOAUC_simple_multiple_noplot_one_df | 2.043 | 0.016 | 2.060 | |
| LOOAUC_simple_multiple_one_df | 2.067 | 0.012 | 2.079 | |
| PathoStat-class | 0.068 | 0.009 | 0.076 | |
| TranslateIdToTaxLevel | 0.002 | 0.000 | 0.003 | |
| Wilcox_Test_df | 0.011 | 0.000 | 0.011 | |
| findRAfromCount | 0.147 | 0.000 | 0.146 | |
| findTaxonMat | 0.076 | 0.008 | 0.087 | |
| findTaxonomy | 0.067 | 0.000 | 0.067 | |
| findTaxonomy300 | 0.069 | 0.000 | 0.069 | |
| getShinyInput | 0 | 0 | 0 | |
| getShinyInputCombat | 0 | 0 | 0 | |
| getShinyInputOrig | 0.000 | 0.001 | 0.000 | |
| getSignatureFromMultipleGlmnet | 9.004 | 0.206 | 9.211 | |
| grepTid | 0.000 | 0.000 | 0.001 | |
| loadPathoscopeReports | 0.001 | 0.000 | 0.001 | |
| loadPstat | 0.001 | 0.000 | 0.002 | |
| log2CPM | 0.001 | 0.000 | 0.001 | |
| percent | 0.001 | 0.000 | 0.000 | |
| phyloseq_to_edgeR | 0.061 | 0.000 | 0.061 | |
| plotPCAPlotly | 0.195 | 0.040 | 0.235 | |
| plotPCoAPlotly | 0.120 | 0.004 | 0.123 | |
| readPathoscopeData | 0.033 | 0.004 | 0.037 | |
| runPathoStat | 0.069 | 0.000 | 0.069 | |
| savePstat | 0.002 | 0.003 | 0.004 | |
| setShinyInput | 0 | 0 | 0 | |
| setShinyInputCombat | 0 | 0 | 0 | |
| setShinyInputOrig | 0.000 | 0.000 | 0.001 | |
| summarizeTable | 0.000 | 0.002 | 0.003 | |