| Back to Multiple platform build/check report for BioC 3.15 |
|
This page was generated on 2022-03-18 11:08:22 -0400 (Fri, 18 Mar 2022).
| Hostname | OS | Arch (*) | R version | Installed pkgs |
|---|---|---|---|---|
| nebbiolo1 | Linux (Ubuntu 20.04.4 LTS) | x86_64 | R Under development (unstable) (2022-02-17 r81757) -- "Unsuffered Consequences" | 4334 |
| riesling1 | Windows Server 2019 Standard | x64 | R Under development (unstable) (2021-11-21 r81221) -- "Unsuffered Consequences" | 4097 |
| palomino3 | Windows Server 2022 Datacenter | x64 | R Under development (unstable) (2022-02-17 r81757 ucrt) -- "Unsuffered Consequences" | 4083 |
| merida1 | macOS 10.14.6 Mojave | x86_64 | R Under development (unstable) (2022-03-02 r81842) -- "Unsuffered Consequences" | 4134 |
| Click on any hostname to see more info about the system (e.g. compilers) (*) as reported by 'uname -p', except on Windows and Mac OS X | ||||
|
To the developers/maintainers of the PWMEnrich package: - Please allow up to 24 hours (and sometimes 48 hours) for your latest push to git@git.bioconductor.org:packages/PWMEnrich.git to reflect on this report. See How and When does the builder pull? When will my changes propagate? here for more information. - Make sure to use the following settings in order to reproduce any error or warning you see on this page. |
| Package 1498/2090 | Hostname | OS / Arch | INSTALL | BUILD | CHECK | BUILD BIN | ||||||||
| PWMEnrich 4.31.0 (landing page) Diego Diez
| nebbiolo1 | Linux (Ubuntu 20.04.4 LTS) / x86_64 | OK | OK | OK | |||||||||
| riesling1 | Windows Server 2019 Standard / x64 | OK | OK | OK | OK | |||||||||
| palomino3 | Windows Server 2022 Datacenter / x64 | OK | OK | OK | OK | |||||||||
| merida1 | macOS 10.14.6 Mojave / x86_64 | OK | OK | OK | OK | |||||||||
| Package: PWMEnrich |
| Version: 4.31.0 |
| Command: rm -rf PWMEnrich.buildbin-libdir && mkdir PWMEnrich.buildbin-libdir && D:\biocbuild\bbs-3.15-bioc\R\bin\R.exe CMD INSTALL --build --library=PWMEnrich.buildbin-libdir PWMEnrich_4.31.0.tar.gz |
| StartedAt: 2022-03-17 21:30:18 -0400 (Thu, 17 Mar 2022) |
| EndedAt: 2022-03-17 21:31:42 -0400 (Thu, 17 Mar 2022) |
| EllapsedTime: 83.8 seconds |
| RetCode: 0 |
| Status: OK |
| PackageFile: PWMEnrich_4.31.0.zip |
| PackageFileSize: 2.068 MiB |
##############################################################################
##############################################################################
###
### Running command:
###
### rm -rf PWMEnrich.buildbin-libdir && mkdir PWMEnrich.buildbin-libdir && D:\biocbuild\bbs-3.15-bioc\R\bin\R.exe CMD INSTALL --build --library=PWMEnrich.buildbin-libdir PWMEnrich_4.31.0.tar.gz
###
##############################################################################
##############################################################################
* installing *source* package 'PWMEnrich' ...
** using staged installation
** R
** inst
** byte-compile and prepare package for lazy loading
** help
*** installing help indices
converting help for package 'PWMEnrich'
finding HTML links ... done
DNAStringSetToList html
MotifEnrichmentReport-class html
MotifEnrichmentResults-class html
PFMtoPWM html
PWM-class html
PWMCutoffBackground-class html
PWMEmpiricalBackground-class html
PWMEnrich-package html
PWMGEVBackground-class html
PWMLognBackground-class html
PWMUnscaled html
affinitySequenceSet html
as.data.frame-MotifEnrichmentReport-method
html
cloverPvalue1seq html
cloverScore html
colMedians html
colSds html
concatenateSequences html
cutoffZscore html
cutoffZscoreSequenceSet html
divideRows html
dot-inputPFMfromMatrixOrPWM html
dot-inputParamMotifs html
dot-inputParamSequences html
dot-normalize.bg.seq html
dot-normargPfm html
dot-normargPriorParams html
empiricalPvalue html
empiricalPvalueSequenceSet html
getBackgroundFrequencies html
getPromoters html
gevPerSequence html
groupReport-MotifEnrichmentResults-method
html
keepFinite html
logNormPval html
logNormPvalSequenceSet html
makeBackground html
makePWMCutoffBackground html
makePWMEmpiricalBackground html
makePWMGEVBackground html
makePWMLognBackground html
makePWMPvalCutoffBackground html
makePWMPvalCutoffBackgroundFromSeq html
makePriors html
makeStartEndPos html
matrixShuffleZscorePerSequence html
maxAligned html
motifDiffEnrichment html
motifEcdf html
motifEnrichment html
motifIC html
motifPrAUC html
motifRankingForGroup-MotifEnrichmentResults-method
html
motifRankingForSequence-MotifEnrichmentResults-method
html
motifRecoveryAUC html
motifScores html
motifScoresBigMemory html
motifSimilarity html
operators-MotifEnrichmentReport html
operators-MotifEnrichmentResults html
operators-PWM html
operators-PWMCutoffBackground html
operators-PWMEmpiricalBackground html
operators-PWMGEVBackground html
operators-PWMLognBackground html
plot-MotifEnrichmentReport-missing-method
html
plot-PWM-missing-method html
plotMotifScores html
plotMultipleMotifs html
plotPFM html
plotTopMotifsGroup-MotifEnrichmentResults-method
html
plotTopMotifsSequence-MotifEnrichmentResults-method
html
rankingProcessAndReturn html
readJASPAR html
readMotifs html
readTRANSFAC html
registerCoresPWMEnrich html
reverseComplement-PWM-method html
scanWithPWM html
seqLogoGrid html
sequenceReport-MotifEnrichmentResults-method
html
show-MotifEnrichmentReport-method html
show-MotifEnrichmentResults-method html
show-PWM-method html
show-PWMCutoffBackground-method html
show-PWMEmpiricalBackground-method html
show-PWMGEVBackground-method html
show-PWMLognBackground-method html
subsetting-PWMCutoffBackground html
subsetting-PWMEmpiricalBackground html
subsetting-PWMGEVBackground html
subsetting-PWMLognBackground html
toPWM html
tryAllMotifAlignments html
useBigMemoryPWMEnrich html
** building package indices
** installing vignettes
** testing if installed package can be loaded from temporary location
** testing if installed package can be loaded from final location
** testing if installed package keeps a record of temporary installation path
* MD5 sums
packaged installation of 'PWMEnrich' as PWMEnrich_4.31.0.zip
* DONE (PWMEnrich)