| Back to Multiple platform build/check report for BioC 3.15 | 
  | 
This page was generated on 2022-03-18 11:08:18 -0400 (Fri, 18 Mar 2022).
| Hostname | OS | Arch (*) | R version | Installed pkgs | 
|---|---|---|---|---|
| nebbiolo1 | Linux (Ubuntu 20.04.4 LTS) | x86_64 | R Under development (unstable) (2022-02-17 r81757) -- "Unsuffered Consequences" | 4334 | 
| riesling1 | Windows Server 2019 Standard | x64 | R Under development (unstable) (2021-11-21 r81221) -- "Unsuffered Consequences" | 4097 | 
| palomino3 | Windows Server 2022 Datacenter | x64 | R Under development (unstable) (2022-02-17 r81757 ucrt) -- "Unsuffered Consequences" | 4083 | 
| merida1 | macOS 10.14.6 Mojave | x86_64 | R Under development (unstable) (2022-03-02 r81842) -- "Unsuffered Consequences" | 4134 | 
| Click on any hostname to see more info about the system (e.g. compilers) (*) as reported by 'uname -p', except on Windows and Mac OS X | ||||
| 
To the developers/maintainers of the PING package: - Please allow up to 24 hours (and sometimes 48 hours) for your latest push to git@git.bioconductor.org:packages/PING.git to reflect on this report. See How and When does the builder pull? When will my changes propagate? here for more information. - Make sure to use the following settings in order to reproduce any error or warning you see on this page.  | 
| Package 1429/2090 | Hostname | OS / Arch | INSTALL | BUILD | CHECK | BUILD BIN | ||||||||
| PING 2.39.0  (landing page) Renan Sauteraud 
  | nebbiolo1 | Linux (Ubuntu 20.04.4 LTS) / x86_64 | OK | OK | WARNINGS | |||||||||
| riesling1 | Windows Server 2019 Standard / x64 | OK | OK | WARNINGS | OK | |||||||||
| palomino3 | Windows Server 2022 Datacenter / x64 | OK | OK | WARNINGS | OK | |||||||||
| merida1 | macOS 10.14.6 Mojave / x86_64 | OK | OK | WARNINGS | OK | |||||||||
| Package: PING | 
| Version: 2.39.0 | 
| Command: rm -rf PING.buildbin-libdir && mkdir PING.buildbin-libdir && D:\biocbuild\bbs-3.15-bioc\R\bin\R.exe CMD INSTALL --build --library=PING.buildbin-libdir PING_2.39.0.tar.gz | 
| StartedAt: 2022-03-17 21:28:26 -0400 (Thu, 17 Mar 2022) | 
| EndedAt: 2022-03-17 21:29:49 -0400 (Thu, 17 Mar 2022) | 
| EllapsedTime: 82.9 seconds | 
| RetCode: 0 | 
| Status: OK | 
| PackageFile: PING_2.39.0.zip | 
| PackageFileSize: 5.493 MiB | 
##############################################################################
##############################################################################
###
### Running command:
###
###   rm -rf PING.buildbin-libdir && mkdir PING.buildbin-libdir && D:\biocbuild\bbs-3.15-bioc\R\bin\R.exe CMD INSTALL --build --library=PING.buildbin-libdir PING_2.39.0.tar.gz
###
##############################################################################
##############################################################################
* installing *source* package 'PING' ...
** using staged installation
   **********************************************
   WARNING: this package has a configure script
         It probably needs manual configuration
   **********************************************
** libs
"C:/rtools40/mingw64/bin/"gcc  -I"D:/biocbuild/bbs-3.15-bioc/R/include" -DNDEBUG -Ifusion_sdk -D_USE_MEM_MAPPING_ -I/src/include -I/x64/include    -I"C:/extsoft/include"     -O2 -Wall  -std=gnu99 -mfpmath=sse -msse2 -mstackrealign -fno-reorder-blocks-and-partition  -c init.c -o init.o
"C:/rtools40/mingw64/bin/"gcc  -I"D:/biocbuild/bbs-3.15-bioc/R/include" -DNDEBUG -Ifusion_sdk -D_USE_MEM_MAPPING_ -I/src/include -I/x64/include    -I"C:/extsoft/include"     -O2 -Wall  -std=gnu99 -mfpmath=sse -msse2 -mstackrealign -fno-reorder-blocks-and-partition  -c ping.c -o ping.o
ping.c: In function 'fitModelAllk':
ping.c:145:40: warning: suggest parentheses around comparison in operand of '&' [-Wparentheses]
   if( REAL(VECTOR_ELT(paraPrior, 5))[0]>0 & REAL(VECTOR_ELT(paraEM, 0))[0]==0) // automatically decide minK and maxKK for histone data, when minK=0
       ~~~~~~~~~~~~~~~~~~~~~~~~~~~~~~~~~^~
ping.c: In function 'ECM2':
ping.c:1536:9: warning: variable 'chiSum' set but not used [-Wunused-but-set-variable]
  double chiSum = 0, etaF, etaR, dd, cc;
         ^~~~~~
ping.c: In function 'mergePeak':
ping.c:3280:20: warning: variable 'tstatMax' set but not used [-Wunused-but-set-variable]
   double tstat=0.0,tstatMax=0.0;
                    ^~~~~~~~
ping.c: In function 'fitModelK':
ping.c:477:18: warning: 'firstFit' may be used uninitialized in this function [-Wmaybe-uninitialized]
  SEXP ans, temp, firstFit;
                  ^~~~~~~~
C:/rtools40/mingw64/bin/gcc -shared -s -static-libgcc -o PING.dll tmp.def init.o ping.o -lws2_32 -L/x64/lib -lgsl -lgslcblas -lm -LC:/extsoft/lib/x64 -LC:/extsoft/lib -LD:/biocbuild/bbs-3.15-bioc/R/bin/x64 -lR
installing to D:/biocbuild/bbs-3.15-bioc/meat/PING.buildbin-libdir/00LOCK-PING/00new/PING/libs/x64
** R
** inst
** byte-compile and prepare package for lazy loading
** help
*** installing help indices
  converting help for package 'PING'
    finding HTML links ... done
    postPING                                html  
** building package indices
** installing vignettes
** testing if installed package can be loaded from temporary location
** testing if installed package can be loaded from final location
** testing if installed package keeps a record of temporary installation path
* MD5 sums
packaged installation of 'PING' as PING_2.39.0.zip
* DONE (PING)