| Back to Multiple platform build/check report for BioC 3.15 |
|
This page was generated on 2022-10-19 13:20:37 -0400 (Wed, 19 Oct 2022).
| Hostname | OS | Arch (*) | R version | Installed pkgs |
|---|---|---|---|---|
| nebbiolo1 | Linux (Ubuntu 20.04.5 LTS) | x86_64 | 4.2.1 (2022-06-23) -- "Funny-Looking Kid" | 4386 |
| palomino3 | Windows Server 2022 Datacenter | x64 | 4.2.1 (2022-06-23 ucrt) -- "Funny-Looking Kid" | 4138 |
| merida1 | macOS 10.14.6 Mojave | x86_64 | 4.2.1 (2022-06-23) -- "Funny-Looking Kid" | 4205 |
| Click on any hostname to see more info about the system (e.g. compilers) (*) as reported by 'uname -p', except on Windows and Mac OS X | ||||
|
To the developers/maintainers of the OncoSimulR package: - Please allow up to 24 hours (and sometimes 48 hours) for your latest push to git@git.bioconductor.org:packages/OncoSimulR.git to reflect on this report. See How and When does the builder pull? When will my changes propagate? for more information. - Make sure to use the following settings in order to reproduce any error or warning you see on this page. |
| Package 1371/2140 | Hostname | OS / Arch | INSTALL | BUILD | CHECK | BUILD BIN | ||||||||
| OncoSimulR 3.4.0 (landing page) Ramon Diaz-Uriarte
| nebbiolo1 | Linux (Ubuntu 20.04.5 LTS) / x86_64 | OK | OK | OK | |||||||||
| palomino3 | Windows Server 2022 Datacenter / x64 | OK | OK | OK | OK | |||||||||
| merida1 | macOS 10.14.6 Mojave / x86_64 | OK | OK | OK | OK | |||||||||
| Package: OncoSimulR |
| Version: 3.4.0 |
| Command: /home/biocbuild/bbs-3.15-bioc/R/bin/R CMD check --install=check:OncoSimulR.install-out.txt --library=/home/biocbuild/bbs-3.15-bioc/R/library --no-vignettes --timings OncoSimulR_3.4.0.tar.gz |
| StartedAt: 2022-10-18 20:57:11 -0400 (Tue, 18 Oct 2022) |
| EndedAt: 2022-10-18 21:03:05 -0400 (Tue, 18 Oct 2022) |
| EllapsedTime: 354.7 seconds |
| RetCode: 0 |
| Status: OK |
| CheckDir: OncoSimulR.Rcheck |
| Warnings: 0 |
##############################################################################
##############################################################################
###
### Running command:
###
### /home/biocbuild/bbs-3.15-bioc/R/bin/R CMD check --install=check:OncoSimulR.install-out.txt --library=/home/biocbuild/bbs-3.15-bioc/R/library --no-vignettes --timings OncoSimulR_3.4.0.tar.gz
###
##############################################################################
##############################################################################
* using log directory ‘/home/biocbuild/bbs-3.15-bioc/meat/OncoSimulR.Rcheck’
* using R version 4.2.1 (2022-06-23)
* using platform: x86_64-pc-linux-gnu (64-bit)
* using session charset: UTF-8
* using option ‘--no-vignettes’
* checking for file ‘OncoSimulR/DESCRIPTION’ ... OK
* checking extension type ... Package
* this is package ‘OncoSimulR’ version ‘3.4.0’
* checking package namespace information ... OK
* checking package dependencies ... OK
* checking if this is a source package ... OK
* checking if there is a namespace ... OK
* checking for hidden files and directories ... OK
* checking for portable file names ... OK
* checking for sufficient/correct file permissions ... OK
* checking whether package ‘OncoSimulR’ can be installed ... OK
* checking installed package size ... NOTE
installed size is 24.3Mb
sub-directories of 1Mb or more:
libs 23.1Mb
* checking package directory ... OK
* checking ‘build’ directory ... OK
* checking DESCRIPTION meta-information ... OK
* checking top-level files ... OK
* checking for left-over files ... OK
* checking index information ... OK
* checking package subdirectories ... OK
* checking R files for non-ASCII characters ... OK
* checking R files for syntax errors ... OK
* checking whether the package can be loaded ... OK
* checking whether the package can be loaded with stated dependencies ... OK
* checking whether the package can be unloaded cleanly ... OK
* checking whether the namespace can be loaded with stated dependencies ... OK
* checking whether the namespace can be unloaded cleanly ... OK
* checking dependencies in R code ... OK
* checking S3 generic/method consistency ... OK
* checking replacement functions ... OK
* checking foreign function calls ... OK
* checking R code for possible problems ... OK
* checking Rd files ... OK
* checking Rd metadata ... OK
* checking Rd cross-references ... OK
* checking for missing documentation entries ... OK
* checking for code/documentation mismatches ... OK
* checking Rd \usage sections ... OK
* checking Rd contents ... OK
* checking for unstated dependencies in examples ... OK
* checking contents of ‘data’ directory ... OK
* checking data for non-ASCII characters ... OK
* checking data for ASCII and uncompressed saves ... OK
* checking line endings in C/C++/Fortran sources/headers ... OK
* checking line endings in Makefiles ... OK
* checking compilation flags in Makevars ... OK
* checking for GNU extensions in Makefiles ... OK
* checking for portable use of $(BLAS_LIBS) and $(LAPACK_LIBS) ... OK
* checking use of PKG_*FLAGS in Makefiles ... OK
* checking include directives in Makefiles ... OK
* checking compiled code ... NOTE
Note: information on .o files is not available
* checking files in ‘vignettes’ ... OK
* checking examples ... OK
* checking for unstated dependencies in ‘tests’ ... OK
* checking tests ...
Running ‘testthat.R’
OK
* checking for unstated dependencies in vignettes ... OK
* checking package vignettes in ‘inst/doc’ ... OK
* checking running R code from vignettes ... SKIPPED
* checking re-building of vignette outputs ... SKIPPED
* checking PDF version of manual ... OK
* DONE
Status: 2 NOTEs
See
‘/home/biocbuild/bbs-3.15-bioc/meat/OncoSimulR.Rcheck/00check.log’
for details.
OncoSimulR.Rcheck/00install.out
##############################################################################
##############################################################################
###
### Running command:
###
### /home/biocbuild/bbs-3.15-bioc/R/bin/R CMD INSTALL OncoSimulR
###
##############################################################################
##############################################################################
* installing to library ‘/home/biocbuild/bbs-3.15-bioc/R/library’
* installing *source* package ‘OncoSimulR’ ...
** using staged installation
** libs
gcc -I"/home/biocbuild/bbs-3.15-bioc/R/include" -DNDEBUG -I'/home/biocbuild/bbs-3.15-bioc/R/library/Rcpp/include' -I/usr/local/include -fpic -g -O2 -Wall -c FitnessLandscape/gamma.c -o FitnessLandscape/gamma.o
gcc -I"/home/biocbuild/bbs-3.15-bioc/R/include" -DNDEBUG -I'/home/biocbuild/bbs-3.15-bioc/R/library/Rcpp/include' -I/usr/local/include -fpic -g -O2 -Wall -c FitnessLandscape/landscape.c -o FitnessLandscape/landscape.o
gcc -I"/home/biocbuild/bbs-3.15-bioc/R/include" -DNDEBUG -I'/home/biocbuild/bbs-3.15-bioc/R/library/Rcpp/include' -I/usr/local/include -fpic -g -O2 -Wall -c FitnessLandscape/random.c -o FitnessLandscape/random.o
gcc -I"/home/biocbuild/bbs-3.15-bioc/R/include" -DNDEBUG -I'/home/biocbuild/bbs-3.15-bioc/R/library/Rcpp/include' -I/usr/local/include -fpic -g -O2 -Wall -c FitnessLandscape/sort.c -o FitnessLandscape/sort.o
gcc -I"/home/biocbuild/bbs-3.15-bioc/R/include" -DNDEBUG -I'/home/biocbuild/bbs-3.15-bioc/R/library/Rcpp/include' -I/usr/local/include -fpic -g -O2 -Wall -c FitnessLandscape/chain.c -o FitnessLandscape/chain.o
gcc -I"/home/biocbuild/bbs-3.15-bioc/R/include" -DNDEBUG -I'/home/biocbuild/bbs-3.15-bioc/R/library/Rcpp/include' -I/usr/local/include -fpic -g -O2 -Wall -c FitnessLandscape/input.c -o FitnessLandscape/input.o
gcc -I"/home/biocbuild/bbs-3.15-bioc/R/include" -DNDEBUG -I'/home/biocbuild/bbs-3.15-bioc/R/library/Rcpp/include' -I/usr/local/include -fpic -g -O2 -Wall -c FitnessLandscape/genotypes.c -o FitnessLandscape/genotypes.o
gcc -I"/home/biocbuild/bbs-3.15-bioc/R/include" -DNDEBUG -I'/home/biocbuild/bbs-3.15-bioc/R/library/Rcpp/include' -I/usr/local/include -fpic -g -O2 -Wall -c FitnessLandscape/ordered_pairs.c -o FitnessLandscape/ordered_pairs.o
gcc -I"/home/biocbuild/bbs-3.15-bioc/R/include" -DNDEBUG -I'/home/biocbuild/bbs-3.15-bioc/R/library/Rcpp/include' -I/usr/local/include -fpic -g -O2 -Wall -c FitnessLandscape/calculus.c -o FitnessLandscape/calculus.o
gcc -I"/home/biocbuild/bbs-3.15-bioc/R/include" -DNDEBUG -I'/home/biocbuild/bbs-3.15-bioc/R/library/Rcpp/include' -I/usr/local/include -fpic -g -O2 -Wall -c FitnessLandscape/vector.c -o FitnessLandscape/vector.o
gcc -I"/home/biocbuild/bbs-3.15-bioc/R/include" -DNDEBUG -I'/home/biocbuild/bbs-3.15-bioc/R/library/Rcpp/include' -I/usr/local/include -fpic -g -O2 -Wall -c FitnessLandscape/generalized_chain.c -o FitnessLandscape/generalized_chain.o
gcc -I"/home/biocbuild/bbs-3.15-bioc/R/include" -DNDEBUG -I'/home/biocbuild/bbs-3.15-bioc/R/library/Rcpp/include' -I/usr/local/include -fpic -g -O2 -Wall -c FitnessLandscape/LinearAlgebra.c -o FitnessLandscape/LinearAlgebra.o
FitnessLandscape/LinearAlgebra.c: In function ‘svdcmp’:
FitnessLandscape/LinearAlgebra.c:640:27: warning: ‘l’ may be used uninitialized in this function [-Wmaybe-uninitialized]
640 | v[j][i]=(u[i][j]/u[i][l])/g;
| ^
gcc -I"/home/biocbuild/bbs-3.15-bioc/R/include" -DNDEBUG -I'/home/biocbuild/bbs-3.15-bioc/R/library/Rcpp/include' -I/usr/local/include -fpic -g -O2 -Wall -c FitnessLandscape/summary_statistics.c -o FitnessLandscape/summary_statistics.o
gcc -I"/home/biocbuild/bbs-3.15-bioc/R/include" -DNDEBUG -I'/home/biocbuild/bbs-3.15-bioc/R/library/Rcpp/include' -I/usr/local/include -fpic -g -O2 -Wall -c FitnessLandscape/epistasis_type.c -o FitnessLandscape/epistasis_type.o
gcc -I"/home/biocbuild/bbs-3.15-bioc/R/include" -DNDEBUG -I'/home/biocbuild/bbs-3.15-bioc/R/library/Rcpp/include' -I/usr/local/include -fpic -g -O2 -Wall -c FitnessLandscape/decomposition.c -o FitnessLandscape/decomposition.o
gcc -I"/home/biocbuild/bbs-3.15-bioc/R/include" -DNDEBUG -I'/home/biocbuild/bbs-3.15-bioc/R/library/Rcpp/include' -I/usr/local/include -fpic -g -O2 -Wall -c FitnessLandscape/models.c -o FitnessLandscape/models.o
gcc -I"/home/biocbuild/bbs-3.15-bioc/R/include" -DNDEBUG -I'/home/biocbuild/bbs-3.15-bioc/R/library/Rcpp/include' -I/usr/local/include -fpic -g -O2 -Wall -c FitnessLandscape/verbose.c -o FitnessLandscape/verbose.o
ar -r liblandscape.a FitnessLandscape/gamma.o FitnessLandscape/landscape.o FitnessLandscape/random.o FitnessLandscape/sort.o FitnessLandscape/chain.o FitnessLandscape/input.o FitnessLandscape/genotypes.o FitnessLandscape/ordered_pairs.o FitnessLandscape/calculus.o FitnessLandscape/vector.o FitnessLandscape/generalized_chain.o FitnessLandscape/LinearAlgebra.o FitnessLandscape/summary_statistics.o FitnessLandscape/epistasis_type.o FitnessLandscape/decomposition.o FitnessLandscape/models.o FitnessLandscape/verbose.o ;
ar: creating liblandscape.a
ranlib liblandscape.a;
gcc -O -Wall -o fl_statistics -I/FitnessLandscape/. -L. FitnessLandscape/main_fl_statistics.c -llandscape -lm;
gcc -O -Wall -o fl_generate -I/FitnessLandscape/. -L. FitnessLandscape/main_fl_generate.c -llandscape -lm;
g++ -std=gnu++11 -I"/home/biocbuild/bbs-3.15-bioc/R/include" -DNDEBUG -I'/home/biocbuild/bbs-3.15-bioc/R/library/Rcpp/include' -I/usr/local/include -fpic -g -O2 -Wall -c BNB_nr.cpp -o BNB_nr.o
gcc -I"/home/biocbuild/bbs-3.15-bioc/R/include" -DNDEBUG -I'/home/biocbuild/bbs-3.15-bioc/R/library/Rcpp/include' -I/usr/local/include -fpic -g -O2 -Wall -c OncoSimulR_init.c -o OncoSimulR_init.o
g++ -std=gnu++11 -I"/home/biocbuild/bbs-3.15-bioc/R/include" -DNDEBUG -I'/home/biocbuild/bbs-3.15-bioc/R/library/Rcpp/include' -I/usr/local/include -fpic -g -O2 -Wall -c RcppExports.cpp -o RcppExports.o
g++ -std=gnu++11 -I"/home/biocbuild/bbs-3.15-bioc/R/include" -DNDEBUG -I'/home/biocbuild/bbs-3.15-bioc/R/library/Rcpp/include' -I/usr/local/include -fpic -g -O2 -Wall -c accessible_genotypes.cpp -o accessible_genotypes.o
g++ -std=gnu++11 -I"/home/biocbuild/bbs-3.15-bioc/R/include" -DNDEBUG -I'/home/biocbuild/bbs-3.15-bioc/R/library/Rcpp/include' -I/usr/local/include -fpic -g -O2 -Wall -c bnb_common.cpp -o bnb_common.o
g++ -std=gnu++11 -I"/home/biocbuild/bbs-3.15-bioc/R/include" -DNDEBUG -I'/home/biocbuild/bbs-3.15-bioc/R/library/Rcpp/include' -I/usr/local/include -fpic -g -O2 -Wall -c new_restrict.cpp -o new_restrict.o
g++ -std=gnu++11 -shared -L/home/biocbuild/bbs-3.15-bioc/R/lib -L/usr/local/lib -o OncoSimulR.so BNB_nr.o OncoSimulR_init.o RcppExports.o accessible_genotypes.o bnb_common.o new_restrict.o -L/home/biocbuild/bbs-3.15-bioc/R/lib -lR
installing via 'install.libs.R' to /home/biocbuild/bbs-3.15-bioc/R/library/00LOCK-OncoSimulR/00new/OncoSimulR
[1] ""
Installing fl_statistics fl_generate to /home/biocbuild/bbs-3.15-bioc/R/library/00LOCK-OncoSimulR/00new/OncoSimulR/exec
Installing library OncoSimulR.so to /home/biocbuild/bbs-3.15-bioc/R/library/00LOCK-OncoSimulR/00new/OncoSimulR/libs
** R
** data
** inst
** byte-compile and prepare package for lazy loading
** help
*** installing help indices
** building package indices
** installing vignettes
** testing if installed package can be loaded from temporary location
** checking absolute paths in shared objects and dynamic libraries
** testing if installed package can be loaded from final location
** testing if installed package keeps a record of temporary installation path
* DONE (OncoSimulR)
OncoSimulR.Rcheck/tests/testthat.Rout
R version 4.2.1 (2022-06-23) -- "Funny-Looking Kid"
Copyright (C) 2022 The R Foundation for Statistical Computing
Platform: x86_64-pc-linux-gnu (64-bit)
R is free software and comes with ABSOLUTELY NO WARRANTY.
You are welcome to redistribute it under certain conditions.
Type 'license()' or 'licence()' for distribution details.
R is a collaborative project with many contributors.
Type 'contributors()' for more information and
'citation()' on how to cite R or R packages in publications.
Type 'demo()' for some demos, 'help()' for on-line help, or
'help.start()' for an HTML browser interface to help.
Type 'q()' to quit R.
> library(testthat)
> library(OncoSimulR)
>
> test_check("OncoSimulR")
Starting FDF-letter-fitness-order Tue Oct 18 20:58:19 2022
exprtk parser error:
Error[00] Position: 00 Type: [ Syntax Error] Msg: ERR197 - Undefined symbol: 'n_2_3' Expression: n_2_3
exprtk parser error:
Error[00] Position: 00 Type: [ Syntax Error] Msg: ERR197 - Undefined symbol: 'f_2_3' Expression: f_2_3
Ending FDF-small-fitness-specs Tue Oct 18 20:58:19 2022
Took 0.38
Starting LOD_POM at Tue Oct 18 20:58:19 2022
Ending LOD_POM at Tue Oct 18 20:58:35 2022
Took 15.36
Starting test.Z-all-fitness at Tue Oct 18 20:58:35 2022
Ending test.Z-all-fitness at Tue Oct 18 20:58:35 2022
Took 0.1
Starting test.Z-driver-counts at Tue Oct 18 20:58:35 2022
Ending test.Z-driver-counts at Tue Oct 18 20:58:35 2022
Took 0.15
Starting test.Z-fixation at Tue Oct 18 20:58:35 2022
Ending test.Z-fixation at Tue Oct 18 20:58:36 2022
Took 0.71
Starting test.Z-magellan at Tue Oct 18 20:58:36 2022
Ended test.Z-magellan at Tue Oct 18 20:58:37 2022
Starting test.Z-mutator at Tue Oct 18 20:58:37 2022
Ending test.Z-mutator at Tue Oct 18 20:58:37 2022
Took 0.27
Starting test.Z-mutatorFDF at Tue Oct 18 20:58:37 2022
Ending test.Z-mutatorFDF at Tue Oct 18 20:58:37 2022
Took 0.09
Starting test.Z-oncoSimulIndiv at Tue Oct 18 20:58:37 2022
Ending test.Z-oncoSimulIndiv at Tue Oct 18 20:58:39 2022
Took 1.37
Starting test.Z-oncoSimulIndivFDF at Tue Oct 18 20:58:39 2022
Ending test.Z-oncoSimulIndivFDF at Tue Oct 18 20:58:39 2022
Took 0.11
Starting test.Z-rfitness-landscape at Tue Oct 18 20:58:39 2022
Ending test.Z-rfitness-landscape at Tue Oct 18 20:58:39 2022
Took 0.12
Starting Z-sample-only-last tests Tue Oct 18 20:58:39 2022
Ending Z-sample-only-last tests Tue Oct 18 20:58:39 2022
Took 0
Starting Z-total-present-drivers tests Tue Oct 18 20:58:39 2022
Ending Z-total-present-drivers tests Tue Oct 18 20:58:40 2022
Took 1.08
Dummy empty test Tue Oct 18 20:58:40 2022
Starting accessible_genotypes at Tue Oct 18 20:58:40 2022
Ending accessible_genotypes at Tue Oct 18 20:58:46 2022
Took 5.76
Starting all fitness at Tue Oct 18 20:58:46 2022
Ending all-fitness at Tue Oct 18 20:58:50 2022
Took 4.21
Starting test.allFitnessEffectsFDF at Tue Oct 18 20:58:50 2022
Ending test.allFitnessEffectsFDF at Tue Oct 18 20:58:50 2022
Took 0.1
Starting test.allFitnessEffectsFDF at Tue Oct 18 20:58:50 2022
Ending test.allFitnessEffectsFDF at Tue Oct 18 20:58:51 2022
Took 0.32
Starting driverCounts at Tue Oct 18 20:58:51 2022
Ending driverCounts at Tue Oct 18 20:58:58 2022
Took 7.86
Starting epist-order-modules at Tue Oct 18 20:58:58 2022
Ending epist-order-modules at Tue Oct 18 20:58:59 2022
Took 0.06
Starting test.evaluatingGenotypesFDF at Tue Oct 18 20:58:59 2022
Ending test.evaluatingGenotypesFDF at Tue Oct 18 20:58:59 2022
Took 0.18
Starting exercise-plotting-code at Tue Oct 18 20:58:59 2022
Ending exercise-plotting-code at Tue Oct 18 20:59:05 2022
Took 6.06
Starting exercise-rfitness at Tue Oct 18 20:59:05 2022
Ending exercise-rfitness at Tue Oct 18 20:59:12 2022
Took 7.25
Starting to_Magella at Tue Oct 18 20:59:12 2022
Ending to_Magella at Tue Oct 18 20:59:12 2022
Took 0.02
Starting fitness preds at Tue Oct 18 20:59:12 2022
Observed vs expected, case III
done tries 1
Ending fitness preds long at Tue Oct 18 20:59:22 2022
Took 9.54
Starting fixation at Tue Oct 18 20:59:22 2022
Ending fixation at Tue Oct 18 20:59:49 2022
Took 27.23
Starting test.flfast-additional.R test at Tue Oct 18 20:59:49 2022
Ending test.flfast-additional.R test at Tue Oct 18 20:59:50 2022
Took 1.6
Starting test.flfast-mutator.R test at Tue Oct 18 20:59:50 2022
Finished test.flfast-mutator.R test at Tue Oct 18 20:59:55 2022
Took 4.32
Starting genotFitness at Tue Oct 18 20:59:55 2022
Ending genotFitness at Tue Oct 18 20:59:55 2022
Took 0.11
Starting genot_fitness_to_epistasis at Tue Oct 18 20:59:55 2022
Ending genot_fitness_to_epistasis at Tue Oct 18 20:59:55 2022
Took 0.03
Starting init-mutant tests Tue Oct 18 20:59:55 2022
exprtk parser error:
Error[00] Position: 18 Type: [ Syntax Error] Msg: ERR197 - Undefined symbol: 'f_2' Expression: 1.1 + 0.7*((f_1 + f_2) > 0.3)
Ending init-mutant tests Tue Oct 18 21:00:04 2022
Took 9.08
Starting test.magellan at Tue Oct 18 21:00:04 2022
Ending test.magellan at Tue Oct 18 21:00:04 2022
Took 0.16
Starting test.modules-root-no-root at Tue Oct 18 21:00:04 2022
Ending test.modules-root-no-root at Tue Oct 18 21:00:04 2022
Took 0.05
Starting at mutPropGrowth Tue Oct 18 21:00:04 2022
Ended test.mutPropGrowth: Tue Oct 18 21:00:15 2022
Took 11.05
Starting test.mutator-oncoSimulSample.R test at Tue Oct 18 21:00:15 2022
Finished test.mutator-oncoSimulSample.R test at Tue Oct 18 21:00:25 2022
Took 9.33 seconds
Starting test.mutator.R test at Tue Oct 18 21:00:25 2022[1] 1.65978e-10
[1] 1.535232e-15
Finished test.mutator.R test at Tue Oct 18 21:00:41 2022
Took 16.07
Starting test.mutatorFDF.R test at Tue Oct 18 21:00:41 2022
Starting test.no-v1 at Tue Oct 18 21:00:41 2022
Ending test.no-v1 at Tue Oct 18 21:00:41 2022
Took 0.01
Starting oncoSimulIndiv-miscell tests Tue Oct 18 21:00:41 2022
Ending oncoSimulIndiv-miscell tests Tue Oct 18 21:01:02 2022
Took 20.87
Starting oncoSimulSample-failures tests Tue Oct 18 21:01:02 2022
Ending oncoSimulSample-failures tests Tue Oct 18 21:01:06 2022
Took 3.46
Starting oncoSimulSample-limits tests Tue Oct 18 21:01:06 2022
Ending oncoSimulSample-limits tests Tue Oct 18 21:01:06 2022
Took 0.07
Starting per-gene-mutation rates at Tue Oct 18 21:01:06 2022
Ending per-gene-mutation rates at Tue Oct 18 21:01:38 2022
Took 32.72
Starting plotFitnessLandscape at Tue Oct 18 21:01:38 2022
Ending plotFitnessLandscape at Tue Oct 18 21:01:40 2022
Took 2.05
Starting poset-transformations tests Tue Oct 18 21:01:40 2022
Ending poset-transformations tests Tue Oct 18 21:01:47 2022
Took 6.45
Starting sample-prob Tue Oct 18 21:01:47 2022
[1] 6.840401e-29
[1] 4.028952e-14
[1] 4.185118e-11
[1] 1.037432e-11
[1] 2.404657e-09
[1] 1.61678e-12
[1] 8.854666e-08
[1] 5.628462e-17
[1] 8.207636e-09
[1] 9.828056e-09
[1] 5.749492e-11
[1] 1.169478e-09
Ending sample-prob tests Tue Oct 18 21:01:55 2022
Took 8.57
Starting samplePop tests Tue Oct 18 21:01:55 2022
Ending samplePop tests Tue Oct 18 21:02:07 2022
Took 11.17
Starting simuls-runs-examples tests Tue Oct 18 21:02:07 2022
Ending simuls-runs-examples tests Tue Oct 18 21:02:39 2022
Took 31.93
Starting warning-mutPropGrowth tests Tue Oct 18 21:02:39 2022
Ending warning-mutPropGrowth tests Tue Oct 18 21:02:42 2022
Took 3.79
Starting wide2long tests Tue Oct 18 21:02:42 2022
Ending wide2long tests Tue Oct 18 21:02:44 2022
Took 1.99
[ FAIL 0 | WARN 1 | SKIP 5 | PASS 8186 ]
══ Skipped tests ═══════════════════════════════════════════════════════════════
• empty test (5)
[ FAIL 0 | WARN 1 | SKIP 5 | PASS 8186 ]
>
> proc.time()
user system elapsed
313.506 37.265 272.047
OncoSimulR.Rcheck/OncoSimulR-Ex.timings
| name | user | system | elapsed | |
| OncoSimulWide2Long | 0.400 | 0.028 | 0.432 | |
| POM | 0.794 | 0.055 | 0.679 | |
| allFitnessEffects | 1.352 | 0.032 | 1.388 | |
| benchmarks | 0.004 | 0.008 | 0.012 | |
| evalAllGenotypes | 0.160 | 0.008 | 0.168 | |
| example-missing-drivers | 0.235 | 0.004 | 0.240 | |
| examplePosets | 0.319 | 0.004 | 0.323 | |
| examplesFitnessEffects | 0.044 | 0.000 | 0.044 | |
| freq-dep-simul-examples | 0.007 | 0.003 | 0.010 | |
| mcfLs | 0.000 | 0.000 | 0.001 | |
| oncoSimulIndiv | 2.253 | 0.278 | 2.102 | |
| plot.fitnessEffects | 0.188 | 0.024 | 0.212 | |
| plot.oncosimul | 0.762 | 0.008 | 0.771 | |
| plotClonePhylog | 1.127 | 0.100 | 1.227 | |
| plotFitnessLandscape | 1.024 | 0.008 | 1.032 | |
| plotPoset | 0.108 | 0.000 | 0.109 | |
| poset | 0.132 | 0.000 | 0.131 | |
| rfitness | 0.588 | 0.008 | 0.596 | |
| samplePop | 0.642 | 0.111 | 0.466 | |
| simOGraph | 0.055 | 0.009 | 0.065 | |
| to_Magellan | 0.193 | 0.032 | 0.226 | |