| Back to Multiple platform build/check report for BioC 3.15 | 
  | 
This page was generated on 2022-03-18 11:08:12 -0400 (Fri, 18 Mar 2022).
| Hostname | OS | Arch (*) | R version | Installed pkgs | 
|---|---|---|---|---|
| nebbiolo1 | Linux (Ubuntu 20.04.4 LTS) | x86_64 | R Under development (unstable) (2022-02-17 r81757) -- "Unsuffered Consequences" | 4334 | 
| riesling1 | Windows Server 2019 Standard | x64 | R Under development (unstable) (2021-11-21 r81221) -- "Unsuffered Consequences" | 4097 | 
| palomino3 | Windows Server 2022 Datacenter | x64 | R Under development (unstable) (2022-02-17 r81757 ucrt) -- "Unsuffered Consequences" | 4083 | 
| merida1 | macOS 10.14.6 Mojave | x86_64 | R Under development (unstable) (2022-03-02 r81842) -- "Unsuffered Consequences" | 4134 | 
| Click on any hostname to see more info about the system (e.g. compilers) (*) as reported by 'uname -p', except on Windows and Mac OS X | ||||
| 
To the developers/maintainers of the OmicCircos package: - Please allow up to 24 hours (and sometimes 48 hours) for your latest push to git@git.bioconductor.org:packages/OmicCircos.git to reflect on this report. See How and When does the builder pull? When will my changes propagate? here for more information. - Make sure to use the following settings in order to reproduce any error or warning you see on this page.  | 
| Package 1331/2090 | Hostname | OS / Arch | INSTALL | BUILD | CHECK | BUILD BIN | ||||||||
| OmicCircos 1.33.0  (landing page) Ying Hu 
  | nebbiolo1 | Linux (Ubuntu 20.04.4 LTS) / x86_64 | OK | OK | WARNINGS | |||||||||
| riesling1 | Windows Server 2019 Standard / x64 | OK | OK | WARNINGS | OK | |||||||||
| palomino3 | Windows Server 2022 Datacenter / x64 | OK | OK | WARNINGS | OK | |||||||||
| merida1 | macOS 10.14.6 Mojave / x86_64 | OK | OK | WARNINGS | OK | |||||||||
| Package: OmicCircos | 
| Version: 1.33.0 | 
| Command: rm -rf OmicCircos.buildbin-libdir && mkdir OmicCircos.buildbin-libdir && D:\biocbuild\bbs-3.15-bioc\R\bin\R.exe CMD INSTALL --build --library=OmicCircos.buildbin-libdir OmicCircos_1.33.0.tar.gz | 
| StartedAt: 2022-03-17 21:26:07 -0400 (Thu, 17 Mar 2022) | 
| EndedAt: 2022-03-17 21:27:14 -0400 (Thu, 17 Mar 2022) | 
| EllapsedTime: 66.9 seconds | 
| RetCode: 0 | 
| Status: OK | 
| PackageFile: OmicCircos_1.33.0.zip | 
| PackageFileSize: 3.799 MiB | 
##############################################################################
##############################################################################
###
### Running command:
###
###   rm -rf OmicCircos.buildbin-libdir && mkdir OmicCircos.buildbin-libdir && D:\biocbuild\bbs-3.15-bioc\R\bin\R.exe CMD INSTALL --build --library=OmicCircos.buildbin-libdir OmicCircos_1.33.0.tar.gz
###
##############################################################################
##############################################################################
* installing *source* package 'OmicCircos' ...
** using staged installation
** R
** data
** demo
** inst
** byte-compile and prepare package for lazy loading
** help
*** installing help indices
  converting help for package 'OmicCircos'
    finding HTML links ... done
    OmicCircos                              html  
    TCGA.BC.cnv.2k.60                       html  
    TCGA.BC.fus                             html  
    TCGA.BC.gene.exp.2k.60                  html  
    TCGA.BC.sample60                        html  
    TCGA.BC_Her2_cnv_exp                    html  
    TCGA.PAM50_genefu_hg18                  html  
    UCSC.chr.colors                         html  
    UCSC.hg18                               html  
    UCSC.hg18.chr                           html  
    UCSC.hg19                               html  
    UCSC.hg19.chr                           html  
    UCSC.mm10                               html  
    UCSC.mm10.chr                           html  
    UCSC.mm9                                html  
    UCSC.mm9.chr                            html  
    circos                                  html  
    segAnglePo-methods                      html  
    segAnglePo                              html  
    sim.circos                              html  
** building package indices
** installing vignettes
** testing if installed package can be loaded from temporary location
** testing if installed package can be loaded from final location
** testing if installed package keeps a record of temporary installation path
* MD5 sums
packaged installation of 'OmicCircos' as OmicCircos_1.33.0.zip
* DONE (OmicCircos)