Back to Multiple platform build/check report for BioC 3.15 |
|
This page was generated on 2022-10-19 13:20:37 -0400 (Wed, 19 Oct 2022).
Hostname | OS | Arch (*) | R version | Installed pkgs |
---|---|---|---|---|
nebbiolo1 | Linux (Ubuntu 20.04.5 LTS) | x86_64 | 4.2.1 (2022-06-23) -- "Funny-Looking Kid" | 4386 |
palomino3 | Windows Server 2022 Datacenter | x64 | 4.2.1 (2022-06-23 ucrt) -- "Funny-Looking Kid" | 4138 |
merida1 | macOS 10.14.6 Mojave | x86_64 | 4.2.1 (2022-06-23) -- "Funny-Looking Kid" | 4205 |
Click on any hostname to see more info about the system (e.g. compilers) (*) as reported by 'uname -p', except on Windows and Mac OS X |
To the developers/maintainers of the OCplus package: - Please allow up to 24 hours (and sometimes 48 hours) for your latest push to git@git.bioconductor.org:packages/OCplus.git to reflect on this report. See How and When does the builder pull? When will my changes propagate? for more information. - Make sure to use the following settings in order to reproduce any error or warning you see on this page. |
Package 1348/2140 | Hostname | OS / Arch | INSTALL | BUILD | CHECK | BUILD BIN | ||||||||
OCplus 1.70.0 (landing page) Alexander Ploner
| nebbiolo1 | Linux (Ubuntu 20.04.5 LTS) / x86_64 | OK | OK | OK | |||||||||
palomino3 | Windows Server 2022 Datacenter / x64 | OK | OK | OK | OK | |||||||||
merida1 | macOS 10.14.6 Mojave / x86_64 | OK | OK | OK | OK | |||||||||
Package: OCplus |
Version: 1.70.0 |
Command: /home/biocbuild/bbs-3.15-bioc/R/bin/R CMD check --install=check:OCplus.install-out.txt --library=/home/biocbuild/bbs-3.15-bioc/R/library --no-vignettes --timings OCplus_1.70.0.tar.gz |
StartedAt: 2022-10-18 20:54:16 -0400 (Tue, 18 Oct 2022) |
EndedAt: 2022-10-18 20:55:25 -0400 (Tue, 18 Oct 2022) |
EllapsedTime: 68.7 seconds |
RetCode: 0 |
Status: OK |
CheckDir: OCplus.Rcheck |
Warnings: 0 |
############################################################################## ############################################################################## ### ### Running command: ### ### /home/biocbuild/bbs-3.15-bioc/R/bin/R CMD check --install=check:OCplus.install-out.txt --library=/home/biocbuild/bbs-3.15-bioc/R/library --no-vignettes --timings OCplus_1.70.0.tar.gz ### ############################################################################## ############################################################################## * using log directory ‘/home/biocbuild/bbs-3.15-bioc/meat/OCplus.Rcheck’ * using R version 4.2.1 (2022-06-23) * using platform: x86_64-pc-linux-gnu (64-bit) * using session charset: UTF-8 * using option ‘--no-vignettes’ * checking for file ‘OCplus/DESCRIPTION’ ... OK * this is package ‘OCplus’ version ‘1.70.0’ * checking package namespace information ... OK * checking package dependencies ... OK * checking if this is a source package ... OK * checking if there is a namespace ... OK * checking for hidden files and directories ... OK * checking for portable file names ... OK * checking for sufficient/correct file permissions ... OK * checking whether package ‘OCplus’ can be installed ... OK * checking installed package size ... OK * checking package directory ... OK * checking ‘build’ directory ... OK * checking DESCRIPTION meta-information ... OK * checking top-level files ... OK * checking for left-over files ... OK * checking index information ... OK * checking package subdirectories ... OK * checking R files for non-ASCII characters ... OK * checking R files for syntax errors ... OK * checking whether the package can be loaded ... OK * checking whether the package can be loaded with stated dependencies ... OK * checking whether the package can be unloaded cleanly ... OK * checking whether the namespace can be loaded with stated dependencies ... OK * checking whether the namespace can be unloaded cleanly ... OK * checking dependencies in R code ... OK * checking S3 generic/method consistency ... NOTE Found the following apparent S3 methods exported but not registered: plot.FDR.result plot.fdr1d.result plot.fdr2d.result summary.fdr.result See section ‘Registering S3 methods’ in the ‘Writing R Extensions’ manual. * checking replacement functions ... OK * checking foreign function calls ... OK * checking R code for possible problems ... OK * checking Rd files ... OK * checking Rd metadata ... OK * checking Rd cross-references ... OK * checking for missing documentation entries ... OK * checking for code/documentation mismatches ... OK * checking Rd \usage sections ... OK * checking Rd contents ... OK * checking for unstated dependencies in examples ... OK * checking files in ‘vignettes’ ... OK * checking examples ... OK * checking for unstated dependencies in vignettes ... OK * checking package vignettes in ‘inst/doc’ ... OK * checking running R code from vignettes ... SKIPPED * checking re-building of vignette outputs ... SKIPPED * checking PDF version of manual ... OK * DONE Status: 1 NOTE See ‘/home/biocbuild/bbs-3.15-bioc/meat/OCplus.Rcheck/00check.log’ for details.
OCplus.Rcheck/00install.out
############################################################################## ############################################################################## ### ### Running command: ### ### /home/biocbuild/bbs-3.15-bioc/R/bin/R CMD INSTALL OCplus ### ############################################################################## ############################################################################## * installing to library ‘/home/biocbuild/bbs-3.15-bioc/R/library’ * installing *source* package ‘OCplus’ ... ** using staged installation ** R ** byte-compile and prepare package for lazy loading ** help *** installing help indices ** building package indices ** installing vignettes ** testing if installed package can be loaded from temporary location ** testing if installed package can be loaded from final location ** testing if installed package keeps a record of temporary installation path * DONE (OCplus)
OCplus.Rcheck/OCplus-Ex.timings
name | user | system | elapsed | |
EOC | 0.363 | 0.031 | 0.395 | |
FDR | 0.002 | 0.000 | 0.002 | |
MAsim.smyth | 1.219 | 0.017 | 1.236 | |
OCshow | 0.951 | 0.041 | 0.993 | |
TOC | 0.154 | 0.036 | 0.189 | |
average.fdr | 1.698 | 0.164 | 1.863 | |
fdr1d | 0.562 | 0.134 | 0.695 | |
fdr2d | 0.564 | 0.005 | 0.569 | |
plot.FDR.result | 1.040 | 0.012 | 1.052 | |
plot.fdr1d.result | 0.841 | 0.008 | 0.849 | |
plot.fdr2d.result | 1.457 | 0.020 | 1.478 | |
samplesize | 3.165 | 0.604 | 3.768 | |
smooth1d | 0.018 | 0.016 | 0.034 | |
summary.fdr.result | 0.753 | 0.012 | 0.765 | |
tMixture | 1.264 | 0.440 | 1.704 | |