| Back to Multiple platform build/check report for BioC 3.15 |
|
This page was generated on 2022-03-18 11:08:09 -0400 (Fri, 18 Mar 2022).
| Hostname | OS | Arch (*) | R version | Installed pkgs |
|---|---|---|---|---|
| nebbiolo1 | Linux (Ubuntu 20.04.4 LTS) | x86_64 | R Under development (unstable) (2022-02-17 r81757) -- "Unsuffered Consequences" | 4334 |
| riesling1 | Windows Server 2019 Standard | x64 | R Under development (unstable) (2021-11-21 r81221) -- "Unsuffered Consequences" | 4097 |
| palomino3 | Windows Server 2022 Datacenter | x64 | R Under development (unstable) (2022-02-17 r81757 ucrt) -- "Unsuffered Consequences" | 4083 |
| merida1 | macOS 10.14.6 Mojave | x86_64 | R Under development (unstable) (2022-03-02 r81842) -- "Unsuffered Consequences" | 4134 |
| Click on any hostname to see more info about the system (e.g. compilers) (*) as reported by 'uname -p', except on Windows and Mac OS X | ||||
|
To the developers/maintainers of the NanoStringNCTools package: - Please allow up to 24 hours (and sometimes 48 hours) for your latest push to git@git.bioconductor.org:packages/NanoStringNCTools.git to reflect on this report. See How and When does the builder pull? When will my changes propagate? here for more information. - Make sure to use the following settings in order to reproduce any error or warning you see on this page. |
| Package 1272/2090 | Hostname | OS / Arch | INSTALL | BUILD | CHECK | BUILD BIN | ||||||||
| NanoStringNCTools 1.3.1 (landing page) Nicole Ortogero
| nebbiolo1 | Linux (Ubuntu 20.04.4 LTS) / x86_64 | OK | OK | OK | |||||||||
| riesling1 | Windows Server 2019 Standard / x64 | OK | OK | OK | OK | |||||||||
| palomino3 | Windows Server 2022 Datacenter / x64 | OK | OK | OK | OK | |||||||||
| merida1 | macOS 10.14.6 Mojave / x86_64 | OK | OK | OK | OK | |||||||||
| Package: NanoStringNCTools |
| Version: 1.3.1 |
| Command: D:\biocbuild\bbs-3.15-bioc\R\bin\R.exe CMD check --no-multiarch --install=check:NanoStringNCTools.install-out.txt --library=D:\biocbuild\bbs-3.15-bioc\R\library --no-vignettes --timings NanoStringNCTools_1.3.1.tar.gz |
| StartedAt: 2022-03-17 19:43:03 -0400 (Thu, 17 Mar 2022) |
| EndedAt: 2022-03-17 19:44:53 -0400 (Thu, 17 Mar 2022) |
| EllapsedTime: 110.0 seconds |
| RetCode: 0 |
| Status: OK |
| CheckDir: NanoStringNCTools.Rcheck |
| Warnings: 0 |
############################################################################## ############################################################################## ### ### Running command: ### ### D:\biocbuild\bbs-3.15-bioc\R\bin\R.exe CMD check --no-multiarch --install=check:NanoStringNCTools.install-out.txt --library=D:\biocbuild\bbs-3.15-bioc\R\library --no-vignettes --timings NanoStringNCTools_1.3.1.tar.gz ### ############################################################################## ############################################################################## * using log directory 'D:/biocbuild/bbs-3.15-bioc/meat/NanoStringNCTools.Rcheck' * using R Under development (unstable) (2021-11-21 r81221) * using platform: x86_64-w64-mingw32 (64-bit) * using session charset: ISO8859-1 * using option '--no-vignettes' * checking for file 'NanoStringNCTools/DESCRIPTION' ... OK * this is package 'NanoStringNCTools' version '1.3.1' * package encoding: UTF-8 * checking package namespace information ... OK * checking package dependencies ... OK * checking if this is a source package ... OK * checking if there is a namespace ... OK * checking for hidden files and directories ... OK * checking for portable file names ... OK * checking whether package 'NanoStringNCTools' can be installed ... OK * checking installed package size ... OK * checking package directory ... OK * checking 'build' directory ... OK * checking DESCRIPTION meta-information ... NOTE License components which are templates and need '+ file LICENSE': MIT * checking top-level files ... NOTE File LICENSE is not mentioned in the DESCRIPTION file. * checking for left-over files ... OK * checking index information ... OK * checking package subdirectories ... OK * checking R files for non-ASCII characters ... OK * checking R files for syntax errors ... OK * checking whether the package can be loaded ... OK * checking whether the package can be loaded with stated dependencies ... OK * checking whether the package can be unloaded cleanly ... OK * checking whether the namespace can be loaded with stated dependencies ... OK * checking whether the namespace can be unloaded cleanly ... OK * checking dependencies in R code ... OK * checking S3 generic/method consistency ... OK * checking replacement functions ... OK * checking foreign function calls ... OK * checking R code for possible problems ... NOTE autoplot.NanoStringRccSet : <anonymous>: warning in switch(x[2], A = qcCutoffs[["BindingDensity"]][["maximumBD"]], B = qcCutoffs[["BindingDensity"]][["maximumBD"]], C = qcCutoffs[["BindingDensity"]][["maximumBD"]], D = qcCutoffs[["BindingDensity"]][["maximumBD"]], E = qcCutoffs[["BindingDensity"]][["maximumBD"]], G = qcCutoffs[["BindingDensity"]][["maximumBD"]], H = qcCutoffs[["BindingDensity"]][["maximumBD"]], P = qcCutoffs[["BindingDensity"]][["maximumBDSprint"]], default = qcCutoffs[["BindingDensity"]][["maximumBD"]]): partial argument match of 'E' to 'EXPR' setQCFlags,NanoStringRccSet : <anonymous>: warning in switch(x[2], A = maxBindDen, B = maxBindDen, C = maxBindDen, D = maxBindDen, E = maxBindDen, G = maxBindDen, H = maxBindDen, P = maxBindDenSprint, default = maxBindDen): partial argument match of 'E' to 'EXPR' autoplot.NanoStringRccSet: no visible binding for global variable 'xend' autoplot.NanoStringRccSet: no visible binding for global variable 'passingThreshold' autoplot.NanoStringRccSet: no visible binding for global variable 'GeomMean' autoplot.NanoStringRccSet: no visible binding for global variable 'h' autoplot.NanoStringRccSet: no visible binding for global variable 'label' Undefined global functions or variables: GeomMean h label passingThreshold xend * checking Rd files ... OK * checking Rd metadata ... OK * checking Rd cross-references ... OK * checking for missing documentation entries ... OK * checking for code/documentation mismatches ... OK * checking Rd \usage sections ... OK * checking Rd contents ... OK * checking for unstated dependencies in examples ... OK * checking files in 'vignettes' ... OK * checking examples ... OK * checking for unstated dependencies in 'tests' ... OK * checking tests ... Running 'run_unitTests.R' OK * checking for unstated dependencies in vignettes ... OK * checking package vignettes in 'inst/doc' ... OK * checking running R code from vignettes ... SKIPPED * checking re-building of vignette outputs ... SKIPPED * checking PDF version of manual ... OK * DONE Status: 3 NOTEs See 'D:/biocbuild/bbs-3.15-bioc/meat/NanoStringNCTools.Rcheck/00check.log' for details.
NanoStringNCTools.Rcheck/00install.out
##############################################################################
##############################################################################
###
### Running command:
###
### D:\biocbuild\bbs-3.15-bioc\R\bin\R.exe CMD INSTALL NanoStringNCTools
###
##############################################################################
##############################################################################
* installing to library 'D:/biocbuild/bbs-3.15-bioc/R/library'
* installing *source* package 'NanoStringNCTools' ...
** using staged installation
** R
** inst
** byte-compile and prepare package for lazy loading
** help
*** installing help indices
converting help for package 'NanoStringNCTools'
finding HTML links ... done
NanoStringRccSet-autoplot html
NanoStringRccSet-class html
finding level-2 HTML links ... done
SignatureSet html
geom_beeswarm_interactive html
log2t html
normalize html
readNanoStringRccSet html
readRccFile html
readRlfFile html
sScale html
setQCFlags html
writeNanoStringRccSet html
** building package indices
** installing vignettes
** testing if installed package can be loaded from temporary location
** testing if installed package can be loaded from final location
** testing if installed package keeps a record of temporary installation path
* DONE (NanoStringNCTools)
Making 'packages.html' ...Warning in packageDescription(i, lib.loc = lib, fields = "Title", encoding = "UTF-8") :
DESCRIPTION file of package 'TCC' is missing or broken
done
NanoStringNCTools.Rcheck/tests/run_unitTests.Rout
R Under development (unstable) (2021-11-21 r81221) -- "Unsuffered Consequences"
Copyright (C) 2021 The R Foundation for Statistical Computing
Platform: x86_64-w64-mingw32/x64 (64-bit)
R is free software and comes with ABSOLUTELY NO WARRANTY.
You are welcome to redistribute it under certain conditions.
Type 'license()' or 'licence()' for distribution details.
R is a collaborative project with many contributors.
Type 'contributors()' for more information and
'citation()' on how to cite R or R packages in publications.
Type 'demo()' for some demos, 'help()' for on-line help, or
'help.start()' for an HTML browser interface to help.
Type 'q()' to quit R.
> require("NanoStringNCTools") || stop("unable to load NanoStringNCTools package")
Loading required package: NanoStringNCTools
Loading required package: Biobase
Loading required package: BiocGenerics
Attaching package: 'BiocGenerics'
The following objects are masked from 'package:stats':
IQR, mad, sd, var, xtabs
The following objects are masked from 'package:base':
Filter, Find, Map, Position, Reduce, anyDuplicated, append,
as.data.frame, basename, cbind, colnames, dirname, do.call,
duplicated, eval, evalq, get, grep, grepl, intersect, is.unsorted,
lapply, mapply, match, mget, order, paste, pmax, pmax.int, pmin,
pmin.int, rank, rbind, rownames, sapply, setdiff, sort, table,
tapply, union, unique, unsplit, which.max, which.min
Welcome to Bioconductor
Vignettes contain introductory material; view with
'browseVignettes()'. To cite Bioconductor, see
'citation("Biobase")', and for packages 'citation("pkgname")'.
Loading required package: S4Vectors
Loading required package: stats4
Attaching package: 'S4Vectors'
The following objects are masked from 'package:base':
I, expand.grid, unname
Loading required package: ggplot2
[1] TRUE
> BiocGenerics:::testPackage("NanoStringNCTools")
RUNIT TEST PROTOCOL -- Thu Mar 17 19:44:41 2022
***********************************************
Number of test functions: 52
Number of errors: 0
Number of failures: 0
1 Test Suite :
NanoStringNCTools RUnit Tests - 52 test functions, 0 errors, 0 failures
Number of test functions: 52
Number of errors: 0
Number of failures: 0
>
> proc.time()
user system elapsed
9.42 0.40 9.85
NanoStringNCTools.Rcheck/NanoStringNCTools-Ex.timings
| name | user | system | elapsed | |
| NanoStringRccSet-autoplot | 0.41 | 0.00 | 0.41 | |
| NanoStringRccSet-class | 0.85 | 0.06 | 0.91 | |
| SignatureSet | 0.02 | 0.00 | 0.01 | |
| geom_beeswarm_interactive | 0.19 | 0.00 | 0.19 | |
| log2t | 0 | 0 | 0 | |
| normalize | 0.2 | 0.0 | 0.2 | |
| readNanoStringRccSet | 0.63 | 0.00 | 0.63 | |
| readRccFile | 0.06 | 0.00 | 0.06 | |
| readRlfFile | 0.04 | 0.00 | 0.05 | |
| sScale | 0 | 0 | 0 | |
| setQCFlags | 0.46 | 0.00 | 0.45 | |
| writeNanoStringRccSet | 0.42 | 0.00 | 0.42 | |