| Back to Multiple platform build/check report for BioC 3.15 |
|
This page was generated on 2022-03-18 11:08:07 -0400 (Fri, 18 Mar 2022).
| Hostname | OS | Arch (*) | R version | Installed pkgs |
|---|---|---|---|---|
| nebbiolo1 | Linux (Ubuntu 20.04.4 LTS) | x86_64 | R Under development (unstable) (2022-02-17 r81757) -- "Unsuffered Consequences" | 4334 |
| riesling1 | Windows Server 2019 Standard | x64 | R Under development (unstable) (2021-11-21 r81221) -- "Unsuffered Consequences" | 4097 |
| palomino3 | Windows Server 2022 Datacenter | x64 | R Under development (unstable) (2022-02-17 r81757 ucrt) -- "Unsuffered Consequences" | 4083 |
| merida1 | macOS 10.14.6 Mojave | x86_64 | R Under development (unstable) (2022-03-02 r81842) -- "Unsuffered Consequences" | 4134 |
| Click on any hostname to see more info about the system (e.g. compilers) (*) as reported by 'uname -p', except on Windows and Mac OS X | ||||
|
To the developers/maintainers of the MultiAssayExperiment package: - Please allow up to 24 hours (and sometimes 48 hours) for your latest push to git@git.bioconductor.org:packages/MultiAssayExperiment.git to reflect on this report. See How and When does the builder pull? When will my changes propagate? here for more information. - Make sure to use the following settings in order to reproduce any error or warning you see on this page. |
| Package 1244/2090 | Hostname | OS / Arch | INSTALL | BUILD | CHECK | BUILD BIN | ||||||||
| MultiAssayExperiment 1.21.5 (landing page) Marcel Ramos
| nebbiolo1 | Linux (Ubuntu 20.04.4 LTS) / x86_64 | OK | OK | WARNINGS | |||||||||
| riesling1 | Windows Server 2019 Standard / x64 | OK | OK | WARNINGS | OK | |||||||||
| palomino3 | Windows Server 2022 Datacenter / x64 | OK | OK | WARNINGS | OK | |||||||||
| merida1 | macOS 10.14.6 Mojave / x86_64 | OK | OK | WARNINGS | OK | |||||||||
| Package: MultiAssayExperiment |
| Version: 1.21.5 |
| Command: D:\biocbuild\bbs-3.15-bioc\R\bin\R.exe CMD INSTALL MultiAssayExperiment |
| StartedAt: 2022-03-17 15:53:22 -0400 (Thu, 17 Mar 2022) |
| EndedAt: 2022-03-17 15:54:29 -0400 (Thu, 17 Mar 2022) |
| EllapsedTime: 66.8 seconds |
| RetCode: 0 |
| Status: OK |
##############################################################################
##############################################################################
###
### Running command:
###
### D:\biocbuild\bbs-3.15-bioc\R\bin\R.exe CMD INSTALL MultiAssayExperiment
###
##############################################################################
##############################################################################
* installing to library 'D:/biocbuild/bbs-3.15-bioc/R/library'
* installing *source* package 'MultiAssayExperiment' ...
** using staged installation
** R
** data
** inst
** byte-compile and prepare package for lazy loading
** help
*** installing help indices
converting help for package 'MultiAssayExperiment'
finding HTML links ... done
ExperimentList-class html
REDIRECT:topic Previous alias or file overwritten by alias: D:/biocbuild/bbs-3.15-bioc/R/library/00LOCK-MultiAssayExperiment/00new/MultiAssayExperiment/help/coerce+2CList+2CExperimentList-method.html
finding level-2 HTML links ... done
ExperimentList html
HDF5MultiAssayExperiment html
MatchedAssayExperiment-class html
MultiAssayExperiment-class html
REDIRECT:topic Previous alias or file overwritten by alias: D:/biocbuild/bbs-3.15-bioc/R/library/00LOCK-MultiAssayExperiment/00new/MultiAssayExperiment/help/coerce+2CList+2CMultiAssayExperiment-method.html
MultiAssayExperiment-helpers html
MultiAssayExperiment-methods html
REDIRECT:topic Previous alias or file overwritten by alias: D:/biocbuild/bbs-3.15-bioc/R/library/00LOCK-MultiAssayExperiment/00new/MultiAssayExperiment/help/colnames+3C-+2CMultiAssayExperiment+2Clist-method.html
MultiAssayExperiment-package html
MultiAssayExperiment html
MultiAssayExperimentToMAF html
hasAssay html
mapToList html
miniACC html
prepMultiAssay html
reexports html
subsetBy html
REDIRECT:topic Previous alias or file overwritten by alias: D:/biocbuild/bbs-3.15-bioc/R/library/00LOCK-MultiAssayExperiment/00new/MultiAssayExperiment/help/subsetByRow+2CExperimentList+2CList-method.html
REDIRECT:topic Previous alias or file overwritten by alias: D:/biocbuild/bbs-3.15-bioc/R/library/00LOCK-MultiAssayExperiment/00new/MultiAssayExperiment/help/subsetByColumn+2CExperimentList+2CList-method.html
upsetSamples html
** building package indices
** installing vignettes
** testing if installed package can be loaded from temporary location
** testing if installed package can be loaded from final location
** testing if installed package keeps a record of temporary installation path
* DONE (MultiAssayExperiment)
Making 'packages.html' ...Warning in packageDescription(i, lib.loc = lib, fields = "Title", encoding = "UTF-8") :
DESCRIPTION file of package 'SISPA' is missing or broken
done