| Back to Multiple platform build/check report for BioC 3.15 |
|
This page was generated on 2022-03-12 11:07:40 -0500 (Sat, 12 Mar 2022).
| Hostname | OS | Arch (*) | R version | Installed pkgs |
|---|---|---|---|---|
| nebbiolo1 | Linux (Ubuntu 20.04.4 LTS) | x86_64 | R Under development (unstable) (2022-02-17 r81757) -- "Unsuffered Consequences" | 4335 |
| riesling1 | Windows Server 2019 Standard | x64 | R Under development (unstable) (2021-11-21 r81221) -- "Unsuffered Consequences" | 4097 |
| palomino3 | Windows Server 2022 Datacenter | x64 | R Under development (unstable) (2022-02-17 r81757 ucrt) -- "Unsuffered Consequences" | 4073 |
| merida1 | macOS 10.14.6 Mojave | x86_64 | R Under development (unstable) (2022-03-02 r81842) -- "Unsuffered Consequences" | 4134 |
| Click on any hostname to see more info about the system (e.g. compilers) (*) as reported by 'uname -p', except on Windows and Mac OS X | ||||
|
To the developers/maintainers of the MsBackendRawFileReader package: - Please allow up to 24 hours (and sometimes 48 hours) for your latest push to git@git.bioconductor.org:packages/MsBackendRawFileReader.git to reflect on this report. See How and When does the builder pull? When will my changes propagate? here for more information. - Make sure to use the following settings in order to reproduce any error or warning you see on this page. |
| Package 1221/2090 | Hostname | OS / Arch | INSTALL | BUILD | CHECK | BUILD BIN | ||||||||
| MsBackendRawFileReader 1.1.14 (landing page) Christian Panse
| nebbiolo1 | Linux (Ubuntu 20.04.4 LTS) / x86_64 | OK | OK | OK | |||||||||
| riesling1 | Windows Server 2019 Standard / x64 | OK | OK | OK | OK | |||||||||
| palomino3 | Windows Server 2022 Datacenter / x64 | OK | OK | OK | OK | |||||||||
| merida1 | macOS 10.14.6 Mojave / x86_64 | OK | OK | OK | OK | |||||||||
| Package: MsBackendRawFileReader |
| Version: 1.1.14 |
| Command: D:\biocbuild\bbs-3.15-bioc\R\bin\R.exe CMD check --no-multiarch --install=check:MsBackendRawFileReader.install-out.txt --library=D:\biocbuild\bbs-3.15-bioc\R\library --no-vignettes --timings MsBackendRawFileReader_1.1.14.tar.gz |
| StartedAt: 2022-03-11 19:44:11 -0500 (Fri, 11 Mar 2022) |
| EndedAt: 2022-03-11 19:47:01 -0500 (Fri, 11 Mar 2022) |
| EllapsedTime: 170.0 seconds |
| RetCode: 0 |
| Status: OK |
| CheckDir: MsBackendRawFileReader.Rcheck |
| Warnings: 0 |
##############################################################################
##############################################################################
###
### Running command:
###
### D:\biocbuild\bbs-3.15-bioc\R\bin\R.exe CMD check --no-multiarch --install=check:MsBackendRawFileReader.install-out.txt --library=D:\biocbuild\bbs-3.15-bioc\R\library --no-vignettes --timings MsBackendRawFileReader_1.1.14.tar.gz
###
##############################################################################
##############################################################################
* using log directory 'D:/biocbuild/bbs-3.15-bioc/meat/MsBackendRawFileReader.Rcheck'
* using R Under development (unstable) (2021-11-21 r81221)
* using platform: x86_64-w64-mingw32 (64-bit)
* using session charset: ISO8859-1
* using option '--no-vignettes'
* checking for file 'MsBackendRawFileReader/DESCRIPTION' ... OK
* checking extension type ... Package
* this is package 'MsBackendRawFileReader' version '1.1.14'
* package encoding: UTF-8
* checking package namespace information ... OK
* checking package dependencies ... OK
* checking if this is a source package ... OK
* checking if there is a namespace ... OK
* checking for hidden files and directories ... OK
* checking for portable file names ... OK
* checking whether package 'MsBackendRawFileReader' can be installed ... OK
* checking installed package size ... OK
* checking package directory ... OK
* checking 'build' directory ... OK
* checking DESCRIPTION meta-information ... OK
* checking top-level files ... OK
* checking for left-over files ... OK
* checking index information ... OK
* checking package subdirectories ... OK
* checking R files for non-ASCII characters ... OK
* checking R files for syntax errors ... OK
* checking whether the package can be loaded ... OK
* checking whether the package can be loaded with stated dependencies ... OK
* checking whether the package can be unloaded cleanly ... OK
* checking whether the namespace can be loaded with stated dependencies ... OK
* checking whether the namespace can be unloaded cleanly ... OK
* checking dependencies in R code ... OK
* checking S3 generic/method consistency ... OK
* checking replacement functions ... OK
* checking foreign function calls ... OK
* checking R code for possible problems ... OK
* checking Rd files ... OK
* checking Rd metadata ... OK
* checking Rd cross-references ... OK
* checking for missing documentation entries ... OK
* checking for code/documentation mismatches ... OK
* checking Rd \usage sections ... OK
* checking Rd contents ... OK
* checking for unstated dependencies in examples ... OK
* checking files in 'vignettes' ... OK
* checking examples ... OK
Examples with CPU (user + system) or elapsed time > 5s
user system elapsed
ioBenchmark 7.64 1.42 42.86
MsBackendRawFileReader 0.61 0.04 11.81
* checking for unstated dependencies in 'tests' ... OK
* checking tests ...
Running 'testthat.R'
OK
* checking for unstated dependencies in vignettes ... OK
* checking package vignettes in 'inst/doc' ... OK
* checking running R code from vignettes ... SKIPPED
* checking re-building of vignette outputs ... SKIPPED
* checking PDF version of manual ... OK
* DONE
Status: OK
MsBackendRawFileReader.Rcheck/00install.out
##############################################################################
##############################################################################
###
### Running command:
###
### D:\biocbuild\bbs-3.15-bioc\R\bin\R.exe CMD INSTALL MsBackendRawFileReader
###
##############################################################################
##############################################################################
* installing to library 'D:/biocbuild/bbs-3.15-bioc/R/library'
* installing *source* package 'MsBackendRawFileReader' ...
** using staged installation
** R
** inst
** byte-compile and prepare package for lazy loading
** help
*** installing help indices
converting help for package 'MsBackendRawFileReader'
finding HTML links ... done
MsBackendRawFileReader-class html
MsBackendRawFileReader html
hidden_aliases html
ioBenchmark html
** building package indices
** installing vignettes
** testing if installed package can be loaded from temporary location
** testing if installed package can be loaded from final location
** testing if installed package keeps a record of temporary installation path
* DONE (MsBackendRawFileReader)
Making 'packages.html' ... done
MsBackendRawFileReader.Rcheck/tests/testthat.Rout
R Under development (unstable) (2021-11-21 r81221) -- "Unsuffered Consequences"
Copyright (C) 2021 The R Foundation for Statistical Computing
Platform: x86_64-w64-mingw32/x64 (64-bit)
R is free software and comes with ABSOLUTELY NO WARRANTY.
You are welcome to redistribute it under certain conditions.
Type 'license()' or 'licence()' for distribution details.
R is a collaborative project with many contributors.
Type 'contributors()' for more information and
'citation()' on how to cite R or R packages in publications.
Type 'demo()' for some demos, 'help()' for on-line help, or
'help.start()' for an HTML browser interface to help.
Type 'q()' to quit R.
> library("testthat")
> library("MsBackendRawFileReader")
Loading required package: Spectra
Loading required package: S4Vectors
Loading required package: stats4
Loading required package: BiocGenerics
Attaching package: 'BiocGenerics'
The following objects are masked from 'package:stats':
IQR, mad, sd, var, xtabs
The following objects are masked from 'package:base':
Filter, Find, Map, Position, Reduce, anyDuplicated, append,
as.data.frame, basename, cbind, colnames, dirname, do.call,
duplicated, eval, evalq, get, grep, grepl, intersect, is.unsorted,
lapply, mapply, match, mget, order, paste, pmax, pmax.int, pmin,
pmin.int, rank, rbind, rownames, sapply, setdiff, sort, table,
tapply, union, unique, unsplit, which.max, which.min
Attaching package: 'S4Vectors'
The following objects are masked from 'package:base':
I, expand.grid, unname
Loading required package: BiocParallel
Loading required package: ProtGenerics
Attaching package: 'ProtGenerics'
The following object is masked from 'package:stats':
smooth
Attaching package: 'Spectra'
The following object is masked from 'package:ProtGenerics':
addProcessing
> library("Spectra")
>
>
> sample_raw_file <- file.path(system.file(package = "rawrr"),
+ 'extdata', 'sample.raw')
>
> sample_mzXML_file <- file.path(path.package(package = 'MsBackendRawFileReader'),
+ 'extdata', 'sample.mzXML')
>
>
> sample_raw <- backendInitialize(MsBackendRawFileReader::MsBackendRawFileReader(), files = sample_raw_file)
>
>
> #sample_mzr <- backendInitialize(MsBackendMzR(), files = sample_mzXML_file)
>
>
> mgf_file <- file.path(system.file(package = "MsBackendRawFileReader"),
+ 'extdata', '3159619b11ed_4590_9594.mgf')
>
>
> rv <- lapply(1:2, function(x){
+ file.copy(from = sample_raw_file, to = tempfile(fileext='.raw'))})
>
>
> register(SnowParam(workers = 1, type = "SOCK") , default = TRUE);
> sample_raw_2 <- backendInitialize(MsBackendRawFileReader(),
+ files = file.path(tempdir(),
+ list.files(path = tempdir(), pattern = 'raw$')))
>
>
> test_check("MsBackendRawFileReader")
[ FAIL 0 | WARN 1 | SKIP 2 | PASS 9 ]
== Skipped tests ===============================================================
* isFALSE(file.exists(sample_mzXML_file)) is TRUE (1)
* isFALSE(require(MsBackendRawMgf)) is TRUE (1)
[ FAIL 0 | WARN 1 | SKIP 2 | PASS 9 ]
>
>
> be <- Spectra::backendInitialize(MsBackendRawFileReader::MsBackendRawFileReader(),
+ files = c(sample_raw_file))
>
> ## Run the MsBackend spectra variable test suite
> test_suite <- system.file("test_backends", "test_MsBackend",
+ package = "Spectra")
>
> #res <- test_file(paste0(test_suite, "/test_spectra_variables.R"),
> # reporter = check_reporter(), stop_on_failure = TRUE)
>
>
> ## Run the whole suite.
> res <- test_dir(test_suite, stop_on_failure = TRUE)
v | F W S OK | Context
/ | 0 | spectra_variables
/ | 12 | spectra_variables
\ | 14 | spectra_variables
/ | 16 | spectra_variables
| | 43 | spectra_variables
v | 1 59 | spectra_variables [11.6s]
--------------------------------------------------------------------------------
Skip (test_spectra_variables.R:262:1): spectraNames
Reason: empty test
--------------------------------------------------------------------------------
== Results =====================================================================
Duration: 11.6 s
-- Skipped tests --------------------------------------------------------------
* empty test (1)
[ FAIL 0 | WARN 0 | SKIP 1 | PASS 59 ]
>
> proc.time()
user system elapsed
8.84 0.56 43.48
MsBackendRawFileReader.Rcheck/MsBackendRawFileReader-Ex.timings
| name | user | system | elapsed | |
| MsBackendRawFileReader-class | 0.49 | 0.01 | 3.88 | |
| MsBackendRawFileReader | 0.61 | 0.04 | 11.81 | |
| hidden_aliases | 0.24 | 0.01 | 3.56 | |
| ioBenchmark | 7.64 | 1.42 | 42.86 | |