| Back to Multiple platform build/check report for BioC 3.15 |
|
This page was generated on 2022-03-18 11:08:02 -0400 (Fri, 18 Mar 2022).
| Hostname | OS | Arch (*) | R version | Installed pkgs |
|---|---|---|---|---|
| nebbiolo1 | Linux (Ubuntu 20.04.4 LTS) | x86_64 | R Under development (unstable) (2022-02-17 r81757) -- "Unsuffered Consequences" | 4334 |
| riesling1 | Windows Server 2019 Standard | x64 | R Under development (unstable) (2021-11-21 r81221) -- "Unsuffered Consequences" | 4097 |
| palomino3 | Windows Server 2022 Datacenter | x64 | R Under development (unstable) (2022-02-17 r81757 ucrt) -- "Unsuffered Consequences" | 4083 |
| merida1 | macOS 10.14.6 Mojave | x86_64 | R Under development (unstable) (2022-03-02 r81842) -- "Unsuffered Consequences" | 4134 |
| Click on any hostname to see more info about the system (e.g. compilers) (*) as reported by 'uname -p', except on Windows and Mac OS X | ||||
|
To the developers/maintainers of the MinimumDistance package: - Please allow up to 24 hours (and sometimes 48 hours) for your latest push to git@git.bioconductor.org:packages/MinimumDistance.git to reflect on this report. See How and When does the builder pull? When will my changes propagate? here for more information. - Make sure to use the following settings in order to reproduce any error or warning you see on this page. |
| Package 1162/2090 | Hostname | OS / Arch | INSTALL | BUILD | CHECK | BUILD BIN | ||||||||
| MinimumDistance 1.39.0 (landing page) Robert Scharpf
| nebbiolo1 | Linux (Ubuntu 20.04.4 LTS) / x86_64 | OK | OK | WARNINGS | |||||||||
| riesling1 | Windows Server 2019 Standard / x64 | OK | OK | WARNINGS | OK | |||||||||
| palomino3 | Windows Server 2022 Datacenter / x64 | OK | OK | WARNINGS | OK | |||||||||
| merida1 | macOS 10.14.6 Mojave / x86_64 | OK | OK | WARNINGS | OK | |||||||||
| Package: MinimumDistance |
| Version: 1.39.0 |
| Command: rm -rf MinimumDistance.buildbin-libdir && mkdir MinimumDistance.buildbin-libdir && D:\biocbuild\bbs-3.15-bioc\R\bin\R.exe CMD INSTALL --build --library=MinimumDistance.buildbin-libdir MinimumDistance_1.39.0.tar.gz |
| StartedAt: 2022-03-17 21:21:21 -0400 (Thu, 17 Mar 2022) |
| EndedAt: 2022-03-17 21:22:54 -0400 (Thu, 17 Mar 2022) |
| EllapsedTime: 93.1 seconds |
| RetCode: 0 |
| Status: OK |
| PackageFile: MinimumDistance_1.39.0.zip |
| PackageFileSize: 3.647 MiB |
##############################################################################
##############################################################################
###
### Running command:
###
### rm -rf MinimumDistance.buildbin-libdir && mkdir MinimumDistance.buildbin-libdir && D:\biocbuild\bbs-3.15-bioc\R\bin\R.exe CMD INSTALL --build --library=MinimumDistance.buildbin-libdir MinimumDistance_1.39.0.tar.gz
###
##############################################################################
##############################################################################
* installing *source* package 'MinimumDistance' ...
** using staged installation
** R
** data
** inst
** byte-compile and prepare package for lazy loading
No methods found in package 'oligoClasses' for request: 'mean' when loading 'crlmm'
Warning: replacing previous import 'ff::pattern' by 'grid::pattern' when loading 'MinimumDistance'
Creating a new generic function for 'allNames' in package 'MinimumDistance'
in method for 'coerce' with signature '"RangedDataCNV","GRanges"': no definition for class "RangedDataCNV"
in method for 'todf' with signature 'object="TrioSet",rangeData="RangedData"': no definition for class "RangedData"
in method for 'prune' with signature 'object="TrioSet",ranges="RangedDataCNV"': no definition for class "RangedDataCNV"
in method for 'prune' with signature 'object="TrioSetList",ranges="RangedDataCNV"': no definition for class "RangedDataCNV"
** help
*** installing help indices
converting help for package 'MinimumDistance'
finding HTML links ... done
DNAcopyParam html
Defunct html
Deprecated html
FilterParamMD-class html
FilterParamMD html
MAP html
MAP2 html
MDRanges-class html
MinDistExperiment-class html
MinDistExperiment html
MinDistGRanges-class html
MinDistGRanges html
MinDistParam-class html
MinDistParam html
MinDistPosterior-class html
MinimumDistance html
ParentOffspring-class html
ParentOffspringList-class html
Pedigree-class html
Pedigree html
REDIRECT:topic Previous alias or file overwritten by alias: D:/biocbuild/bbs-3.15-bioc/meat/MinimumDistance.buildbin-libdir/00LOCK-MinimumDistance/00new/MinimumDistance/help/Pedigree.html
PennParam html
TrioSet-class html
TrioSet html
TrioSetList-class html
TrioSetList html
TrioSetListLD html
acf2 html
calculateMindist html
coercion-methods html
denovo html
exampleTrioSetList html
REDIRECT:topic Previous alias or file overwritten by alias: D:/biocbuild/bbs-3.15-bioc/meat/MinimumDistance.buildbin-libdir/00LOCK-MinimumDistance/00new/MinimumDistance/help/trioSetList.html
filterExperiment html
mad2 html
mdLegend html
md_exp html
md_gr html
mindist html
nMAD html
pedigreeGrid html
pedigreeName html
pedigreeViewports html
plotDenovo html
range-ILimit-method html
segment2 html
finding level-2 HTML links ... done
** building package indices
** installing vignettes
** testing if installed package can be loaded from temporary location
No methods found in package 'oligoClasses' for request: 'mean' when loading 'crlmm'
Warning: replacing previous import 'ff::pattern' by 'grid::pattern' when loading 'MinimumDistance'
** testing if installed package can be loaded from final location
No methods found in package 'oligoClasses' for request: 'mean' when loading 'crlmm'
Warning: replacing previous import 'ff::pattern' by 'grid::pattern' when loading 'MinimumDistance'
** testing if installed package keeps a record of temporary installation path
* MD5 sums
packaged installation of 'MinimumDistance' as MinimumDistance_1.39.0.zip
* DONE (MinimumDistance)