| Back to Multiple platform build/check report for BioC 3.15 |
|
This page was generated on 2022-10-19 13:23:16 -0400 (Wed, 19 Oct 2022).
| Hostname | OS | Arch (*) | R version | Installed pkgs |
|---|---|---|---|---|
| nebbiolo1 | Linux (Ubuntu 20.04.5 LTS) | x86_64 | 4.2.1 (2022-06-23) -- "Funny-Looking Kid" | 4386 |
| palomino3 | Windows Server 2022 Datacenter | x64 | 4.2.1 (2022-06-23 ucrt) -- "Funny-Looking Kid" | 4138 |
| merida1 | macOS 10.14.6 Mojave | x86_64 | 4.2.1 (2022-06-23) -- "Funny-Looking Kid" | 4205 |
| Click on any hostname to see more info about the system (e.g. compilers) (*) as reported by 'uname -p', except on Windows and Mac OS X | ||||
|
To the developers/maintainers of the MicrobiotaProcess package: - Please allow up to 24 hours (and sometimes 48 hours) for your latest push to git@git.bioconductor.org:packages/MicrobiotaProcess.git to reflect on this report. See How and When does the builder pull? When will my changes propagate? for more information. - Make sure to use the following settings in order to reproduce any error or warning you see on this page. |
| Package 1176/2140 | Hostname | OS / Arch | INSTALL | BUILD | CHECK | BUILD BIN | ||||||||
| MicrobiotaProcess 1.8.2 (landing page) Shuangbin Xu
| nebbiolo1 | Linux (Ubuntu 20.04.5 LTS) / x86_64 | OK | OK | OK | |||||||||
| palomino3 | Windows Server 2022 Datacenter / x64 | OK | OK | OK | OK | |||||||||
| merida1 | macOS 10.14.6 Mojave / x86_64 | OK | OK | OK | OK | |||||||||
| Package: MicrobiotaProcess |
| Version: 1.8.2 |
| Command: /Library/Frameworks/R.framework/Resources/bin/R CMD check --install=check:MicrobiotaProcess.install-out.txt --library=/Library/Frameworks/R.framework/Resources/library --no-vignettes --timings MicrobiotaProcess_1.8.2.tar.gz |
| StartedAt: 2022-10-19 04:43:01 -0400 (Wed, 19 Oct 2022) |
| EndedAt: 2022-10-19 04:52:05 -0400 (Wed, 19 Oct 2022) |
| EllapsedTime: 544.3 seconds |
| RetCode: 0 |
| Status: OK |
| CheckDir: MicrobiotaProcess.Rcheck |
| Warnings: 0 |
##############################################################################
##############################################################################
###
### Running command:
###
### /Library/Frameworks/R.framework/Resources/bin/R CMD check --install=check:MicrobiotaProcess.install-out.txt --library=/Library/Frameworks/R.framework/Resources/library --no-vignettes --timings MicrobiotaProcess_1.8.2.tar.gz
###
##############################################################################
##############################################################################
* using log directory ‘/Users/biocbuild/bbs-3.15-bioc/meat/MicrobiotaProcess.Rcheck’
* using R version 4.2.1 (2022-06-23)
* using platform: x86_64-apple-darwin17.0 (64-bit)
* using session charset: UTF-8
* using option ‘--no-vignettes’
* checking for file ‘MicrobiotaProcess/DESCRIPTION’ ... OK
* checking extension type ... Package
* this is package ‘MicrobiotaProcess’ version ‘1.8.2’
* package encoding: UTF-8
* checking package namespace information ... OK
* checking package dependencies ... OK
* checking if this is a source package ... OK
* checking if there is a namespace ... OK
* checking for hidden files and directories ... OK
* checking for portable file names ... OK
* checking for sufficient/correct file permissions ... OK
* checking whether package ‘MicrobiotaProcess’ can be installed ... OK
* checking installed package size ... OK
* checking package directory ... OK
* checking ‘build’ directory ... OK
* checking DESCRIPTION meta-information ... OK
* checking top-level files ... OK
* checking for left-over files ... OK
* checking index information ... OK
* checking package subdirectories ... OK
* checking R files for non-ASCII characters ... OK
* checking R files for syntax errors ... OK
* checking whether the package can be loaded ... OK
* checking whether the package can be loaded with stated dependencies ... OK
* checking whether the package can be unloaded cleanly ... OK
* checking whether the namespace can be loaded with stated dependencies ... OK
* checking whether the namespace can be unloaded cleanly ... OK
* checking dependencies in R code ... OK
* checking S3 generic/method consistency ... OK
* checking replacement functions ... OK
* checking foreign function calls ... OK
* checking R code for possible problems ... OK
* checking Rd files ... OK
* checking Rd metadata ... OK
* checking Rd cross-references ... OK
* checking for missing documentation entries ... OK
* checking for code/documentation mismatches ... OK
* checking Rd \usage sections ... OK
* checking Rd contents ... OK
* checking for unstated dependencies in examples ... OK
* checking contents of ‘data’ directory ... OK
* checking data for non-ASCII characters ... OK
* checking data for ASCII and uncompressed saves ... OK
* checking files in ‘vignettes’ ... OK
* checking examples ... OK
Examples with CPU (user + system) or elapsed time > 5s
user system elapsed
mp_cal_abundance-methods 14.258 0.086 14.384
mp_cal_rarecurve-methods 13.059 0.081 13.180
mp_plot_diff_boxplot-methods 11.414 0.050 11.573
mp_diff_analysis-methods 10.500 0.059 10.621
ImportQiime2 8.033 0.164 8.236
mp_import_metaphlan 7.607 0.023 7.648
* checking for unstated dependencies in ‘tests’ ... OK
* checking tests ...
Running ‘testthat.R’
OK
* checking for unstated dependencies in vignettes ... OK
* checking package vignettes in ‘inst/doc’ ... OK
* checking running R code from vignettes ... SKIPPED
* checking re-building of vignette outputs ... SKIPPED
* checking PDF version of manual ... OK
* DONE
Status: OK
MicrobiotaProcess.Rcheck/00install.out
############################################################################## ############################################################################## ### ### Running command: ### ### /Library/Frameworks/R.framework/Resources/bin/R CMD INSTALL MicrobiotaProcess ### ############################################################################## ############################################################################## * installing to library ‘/Library/Frameworks/R.framework/Versions/4.2/Resources/library’ * installing *source* package ‘MicrobiotaProcess’ ... ** using staged installation ** R ** data ** inst ** byte-compile and prepare package for lazy loading in method for ‘taxonomy<-’ with signature ‘x="MPSE",value="taxonomyTable"’: no definition for class “taxonomyTable” Creating a generic function for ‘rownames<-’ from package ‘base’ in package ‘MicrobiotaProcess’ in method for ‘get_alltaxadf’ with signature ‘"phyloseq"’: no definition for class “phyloseq” in method for ‘get_taxadf’ with signature ‘"phyloseq"’: no definition for class “phyloseq” in method for ‘get_alphaindex’ with signature ‘"phyloseq"’: no definition for class “phyloseq” in method for ‘get_NRI_NTI’ with signature ‘"phyloseq"’: no definition for class “phyloseq” in method for ‘get_rarecurve’ with signature ‘"phyloseq"’: no definition for class “phyloseq” in method for ‘get_upset’ with signature ‘"phyloseq"’: no definition for class “phyloseq” in method for ‘get_vennlist’ with signature ‘"phyloseq"’: no definition for class “phyloseq” in method for ‘drop_taxa’ with signature ‘"phyloseq"’: no definition for class “phyloseq” ** help *** installing help indices ** building package indices ** installing vignettes ** testing if installed package can be loaded from temporary location ** testing if installed package can be loaded from final location ** testing if installed package keeps a record of temporary installation path * DONE (MicrobiotaProcess)
MicrobiotaProcess.Rcheck/tests/testthat.Rout
R version 4.2.1 (2022-06-23) -- "Funny-Looking Kid"
Copyright (C) 2022 The R Foundation for Statistical Computing
Platform: x86_64-apple-darwin17.0 (64-bit)
R is free software and comes with ABSOLUTELY NO WARRANTY.
You are welcome to redistribute it under certain conditions.
Type 'license()' or 'licence()' for distribution details.
R is a collaborative project with many contributors.
Type 'contributors()' for more information and
'citation()' on how to cite R or R packages in publications.
Type 'demo()' for some demos, 'help()' for on-line help, or
'help.start()' for an HTML browser interface to help.
Type 'q()' to quit R.
> library("testthat")
> library("MicrobiotaProcess")
MicrobiotaProcess v1.8.2 For help:
https://github.com/YuLab-SMU/MicrobiotaProcess/issues
If you use MicrobiotaProcess in published research, please cite the
paper:
S Xu, L Zhan, W Tang, Z Dai, L Zhou, T Feng, M Chen, S Liu, X Fu, T Wu,
E Hu, G Yu. MicrobiotaProcess: A comprehensive R package for managing
and analyzing microbiome and other ecological data within the tidy
framework. 04 February 2022, PREPRINT (Version 1) available at Research
Square [https://doi.org/10.21203/rs.3.rs-1284357/v1]
This message can be suppressed by:
suppressPackageStartupMessages(library(MicrobiotaProcess))
Attaching package: 'MicrobiotaProcess'
The following object is masked from 'package:stats':
filter
> test_check("MicrobiotaProcess")
[ FAIL 0 | WARN 9 | SKIP 0 | PASS 13 ]
[ FAIL 0 | WARN 9 | SKIP 0 | PASS 13 ]
>
> proc.time()
user system elapsed
24.668 0.931 25.622
MicrobiotaProcess.Rcheck/MicrobiotaProcess-Ex.timings
| name | user | system | elapsed | |
| ImportDada2 | 3.132 | 0.133 | 3.280 | |
| ImportQiime2 | 8.033 | 0.164 | 8.236 | |
| MPSE | 0.179 | 0.001 | 0.181 | |
| as.treedata | 0.000 | 0.000 | 0.001 | |
| build_tree | 0 | 0 | 0 | |
| convert_to_treedata | 0.000 | 0.001 | 0.000 | |
| data-hmp_aerobiosis_small | 0.018 | 0.002 | 0.020 | |
| data-kostic2012crc | 0.058 | 0.004 | 0.062 | |
| data-test_otu_data | 0.003 | 0.001 | 0.004 | |
| diff_analysis | 0 | 0 | 0 | |
| dr_extract | 0.000 | 0.001 | 0.001 | |
| drop_taxa | 0 | 0 | 0 | |
| generalizedFC | 0.030 | 0.001 | 0.031 | |
| get_alltaxadf | 0 | 0 | 0 | |
| get_alphaindex | 0.000 | 0.000 | 0.001 | |
| get_clust | 0 | 0 | 0 | |
| get_coord | 0.000 | 0.000 | 0.001 | |
| get_count | 0 | 0 | 0 | |
| get_dist | 0.001 | 0.001 | 0.000 | |
| get_mean_median | 0.000 | 0.000 | 0.001 | |
| get_pca | 0 | 0 | 0 | |
| get_pcoa | 0 | 0 | 0 | |
| get_pvalue | 0.106 | 0.002 | 0.108 | |
| get_rarecurve | 0.000 | 0.000 | 0.001 | |
| get_sampledflist | 0 | 0 | 0 | |
| get_taxadf | 0.000 | 0.000 | 0.001 | |
| get_upset | 0 | 0 | 0 | |
| get_varct | 0.000 | 0.001 | 0.000 | |
| get_vennlist | 0.001 | 0.000 | 0.001 | |
| ggbartax | 0.001 | 0.000 | 0.000 | |
| ggbox | 0.001 | 0.000 | 0.001 | |
| ggclust | 0 | 0 | 0 | |
| ggdiffbox | 0.000 | 0.000 | 0.001 | |
| ggdiffclade | 0 | 0 | 0 | |
| ggdifftaxbar | 0 | 0 | 0 | |
| ggeffectsize | 0.000 | 0.000 | 0.001 | |
| ggordpoint | 0 | 0 | 0 | |
| ggrarecurve | 0 | 0 | 0 | |
| mp_adonis-methods | 0.206 | 0.004 | 0.211 | |
| mp_aggregate-methods | 0 | 0 | 0 | |
| mp_aggregate_clade-methods | 0 | 0 | 0 | |
| mp_anosim-methods | 2.312 | 0.034 | 2.369 | |
| mp_balance_clade-methods | 0 | 0 | 0 | |
| mp_cal_abundance-methods | 14.258 | 0.086 | 14.384 | |
| mp_cal_alpha-methods | 2.327 | 0.016 | 2.348 | |
| mp_cal_cca-methods | 1.716 | 0.016 | 1.736 | |
| mp_cal_clust-methods | 0.891 | 0.009 | 0.903 | |
| mp_cal_dist-methods | 4.240 | 0.032 | 4.290 | |
| mp_cal_nmds-methods | 0.429 | 0.006 | 0.440 | |
| mp_cal_pca-methods | 2.973 | 0.014 | 3.008 | |
| mp_cal_pcoa-methods | 1.236 | 0.008 | 1.255 | |
| mp_cal_pd_metric-methods | 0.001 | 0.000 | 0.000 | |
| mp_cal_rarecurve-methods | 13.059 | 0.081 | 13.180 | |
| mp_cal_rda-methods | 1.374 | 0.010 | 1.388 | |
| mp_cal_upset-methods | 2.211 | 0.013 | 2.233 | |
| mp_cal_venn-methods | 2.401 | 0.070 | 2.554 | |
| mp_decostand-methods | 0.780 | 0.004 | 0.793 | |
| mp_diff_analysis-methods | 10.500 | 0.059 | 10.621 | |
| mp_diff_clade-methods | 0 | 0 | 0 | |
| mp_envfit-methods | 4.189 | 0.058 | 4.254 | |
| mp_filter_taxa-methods | 2.089 | 0.009 | 2.103 | |
| mp_import_metaphlan | 7.607 | 0.023 | 7.648 | |
| mp_mantel-methods | 0.663 | 0.007 | 0.674 | |
| mp_mrpp-methods | 0.418 | 0.004 | 0.422 | |
| mp_plot_abundance-methods | 0 | 0 | 0 | |
| mp_plot_alpha-methods | 0.000 | 0.000 | 0.001 | |
| mp_plot_diff_boxplot-methods | 11.414 | 0.050 | 11.573 | |
| mp_plot_diff_cladogram | 0.000 | 0.000 | 0.001 | |
| mp_plot_dist-methods | 0 | 0 | 0 | |
| mp_plot_ord-methods | 0.000 | 0.000 | 0.001 | |
| mp_plot_rarecurve-methods | 0 | 0 | 0 | |
| mp_plot_upset-methods | 0 | 0 | 0 | |
| mp_plot_venn-methods | 0.000 | 0.001 | 0.001 | |
| mp_rrarefy-methods | 0.733 | 0.004 | 0.738 | |
| mp_select_as_tip-methods | 0 | 0 | 0 | |
| mp_stat_taxa-methods | 1.535 | 0.008 | 1.546 | |
| multi_compare | 0.018 | 0.001 | 0.019 | |
| read_qza | 0 | 0 | 0 | |
| show-methods | 0.000 | 0.000 | 0.001 | |
| split_data | 0.004 | 0.002 | 0.005 | |
| split_str_to_list | 0 | 0 | 0 | |
| theme_taxbar | 0 | 0 | 0 | |