| Back to Multiple platform build/check report for BioC 3.15 |
|
This page was generated on 2022-03-18 11:08:02 -0400 (Fri, 18 Mar 2022).
| Hostname | OS | Arch (*) | R version | Installed pkgs |
|---|---|---|---|---|
| nebbiolo1 | Linux (Ubuntu 20.04.4 LTS) | x86_64 | R Under development (unstable) (2022-02-17 r81757) -- "Unsuffered Consequences" | 4334 |
| riesling1 | Windows Server 2019 Standard | x64 | R Under development (unstable) (2021-11-21 r81221) -- "Unsuffered Consequences" | 4097 |
| palomino3 | Windows Server 2022 Datacenter | x64 | R Under development (unstable) (2022-02-17 r81757 ucrt) -- "Unsuffered Consequences" | 4083 |
| merida1 | macOS 10.14.6 Mojave | x86_64 | R Under development (unstable) (2022-03-02 r81842) -- "Unsuffered Consequences" | 4134 |
| Click on any hostname to see more info about the system (e.g. compilers) (*) as reported by 'uname -p', except on Windows and Mac OS X | ||||
|
To the developers/maintainers of the MiPP package: - Please allow up to 24 hours (and sometimes 48 hours) for your latest push to git@git.bioconductor.org:packages/MiPP.git to reflect on this report. See How and When does the builder pull? When will my changes propagate? here for more information. - Make sure to use the following settings in order to reproduce any error or warning you see on this page. |
| Package 1163/2090 | Hostname | OS / Arch | INSTALL | BUILD | CHECK | BUILD BIN | ||||||||
| MiPP 1.67.0 (landing page) Sukwoo Kim
| nebbiolo1 | Linux (Ubuntu 20.04.4 LTS) / x86_64 | OK | OK | OK | |||||||||
| riesling1 | Windows Server 2019 Standard / x64 | OK | OK | OK | OK | |||||||||
| palomino3 | Windows Server 2022 Datacenter / x64 | OK | OK | OK | OK | |||||||||
| merida1 | macOS 10.14.6 Mojave / x86_64 | OK | OK | OK | OK | |||||||||
| Package: MiPP |
| Version: 1.67.0 |
| Command: rm -rf MiPP.buildbin-libdir && mkdir MiPP.buildbin-libdir && D:\biocbuild\bbs-3.15-bioc\R\bin\R.exe CMD INSTALL --build --library=MiPP.buildbin-libdir MiPP_1.67.0.tar.gz |
| StartedAt: 2022-03-17 21:21:22 -0400 (Thu, 17 Mar 2022) |
| EndedAt: 2022-03-17 21:22:56 -0400 (Thu, 17 Mar 2022) |
| EllapsedTime: 93.3 seconds |
| RetCode: 0 |
| Status: OK |
| PackageFile: MiPP_1.67.0.zip |
| PackageFileSize: 394 KiB |
##############################################################################
##############################################################################
###
### Running command:
###
### rm -rf MiPP.buildbin-libdir && mkdir MiPP.buildbin-libdir && D:\biocbuild\bbs-3.15-bioc\R\bin\R.exe CMD INSTALL --build --library=MiPP.buildbin-libdir MiPP_1.67.0.tar.gz
###
##############################################################################
##############################################################################
* installing *source* package 'MiPP' ...
** using staged installation
** R
** data
** inst
** byte-compile and prepare package for lazy loading
** help
*** installing help indices
converting help for package 'MiPP'
finding HTML links ... done
colon html
cv.mipp.rule html
get.mipp html
get.mipp.lda html
get.mipp.logistic html
get.mipp.qda html
get.mipp.svm.linear html
get.mipp.svm.rbf html
leuk1 html
leuk2 html
leukemia html
linearkernel.decision.function html
mipp html
mipp.preproc html
mipp.rule html
mipp.seq html
pre.select html
quant.normal html
quant.normal2 html
rbfkernel.decision.function html
** building package indices
** installing vignettes
** testing if installed package can be loaded from temporary location
** testing if installed package can be loaded from final location
** testing if installed package keeps a record of temporary installation path
* MD5 sums
packaged installation of 'MiPP' as MiPP_1.67.0.zip
* DONE (MiPP)