| Back to Multiple platform build/check report for BioC 3.15 |
|
This page was generated on 2022-03-18 11:07:59 -0400 (Fri, 18 Mar 2022).
| Hostname | OS | Arch (*) | R version | Installed pkgs |
|---|---|---|---|---|
| nebbiolo1 | Linux (Ubuntu 20.04.4 LTS) | x86_64 | R Under development (unstable) (2022-02-17 r81757) -- "Unsuffered Consequences" | 4334 |
| riesling1 | Windows Server 2019 Standard | x64 | R Under development (unstable) (2021-11-21 r81221) -- "Unsuffered Consequences" | 4097 |
| palomino3 | Windows Server 2022 Datacenter | x64 | R Under development (unstable) (2022-02-17 r81757 ucrt) -- "Unsuffered Consequences" | 4083 |
| merida1 | macOS 10.14.6 Mojave | x86_64 | R Under development (unstable) (2022-03-02 r81842) -- "Unsuffered Consequences" | 4134 |
| Click on any hostname to see more info about the system (e.g. compilers) (*) as reported by 'uname -p', except on Windows and Mac OS X | ||||
|
To the developers/maintainers of the MethReg package: - Please allow up to 24 hours (and sometimes 48 hours) for your latest push to git@git.bioconductor.org:packages/MethReg.git to reflect on this report. See How and When does the builder pull? When will my changes propagate? here for more information. - Make sure to use the following settings in order to reproduce any error or warning you see on this page. |
| Package 1119/2090 | Hostname | OS / Arch | INSTALL | BUILD | CHECK | BUILD BIN | ||||||||
| MethReg 1.5.3 (landing page) Tiago Silva
| nebbiolo1 | Linux (Ubuntu 20.04.4 LTS) / x86_64 | OK | ERROR | skipped | |||||||||
| riesling1 | Windows Server 2019 Standard / x64 | OK | ERROR | skipped | skipped | |||||||||
| palomino3 | Windows Server 2022 Datacenter / x64 | OK | ERROR | skipped | skipped | |||||||||
| merida1 | macOS 10.14.6 Mojave / x86_64 | OK | ERROR | skipped | skipped | |||||||||
| Package: MethReg |
| Version: 1.5.3 |
| Command: D:\biocbuild\bbs-3.15-bioc\R\bin\R.exe CMD INSTALL MethReg |
| StartedAt: 2022-03-17 16:02:50 -0400 (Thu, 17 Mar 2022) |
| EndedAt: 2022-03-17 16:03:57 -0400 (Thu, 17 Mar 2022) |
| EllapsedTime: 66.8 seconds |
| RetCode: 0 |
| Status: OK |
##############################################################################
##############################################################################
###
### Running command:
###
### D:\biocbuild\bbs-3.15-bioc\R\bin\R.exe CMD INSTALL MethReg
###
##############################################################################
##############################################################################
* installing to library 'D:/biocbuild/bbs-3.15-bioc/R/library'
* installing *source* package 'MethReg' ...
** using staged installation
** R
** data
*** moving datasets to lazyload DB
** inst
** byte-compile and prepare package for lazy loading
** help
*** installing help indices
converting help for package 'MethReg'
finding HTML links ... done
MethReg html
clinical html
cor_dnam_target_gene html
cor_tf_target_gene html
create_triplet_distance_based html
create_triplet_regulon_based html
dna.met.chr21 html
filter_dnam_by_quant_diff html
filter_exp_by_quant_mean_FC html
filter_genes_zero_expression html
gene.exp.chr21.log2 html
get_human_tfs html
get_met_probes_info html
get_promoter_avg html
get_region_target_gene html
get_residuals html
get_tf_ES html
get_tf_in_region html
interaction_model html
make_dnam_se html
make_exp_se html
make_granges_from_names html
make_names_from_granges html
plot_interaction_model html
plot_stratified_model html
stratified_model html
** building package indices
** installing vignettes
** testing if installed package can be loaded from temporary location
** testing if installed package can be loaded from final location
** testing if installed package keeps a record of temporary installation path
* DONE (MethReg)
Making 'packages.html' ... done