| Back to Multiple platform build/check report for BioC 3.15 |
|
This page was generated on 2022-03-18 11:07:59 -0400 (Fri, 18 Mar 2022).
| Hostname | OS | Arch (*) | R version | Installed pkgs |
|---|---|---|---|---|
| nebbiolo1 | Linux (Ubuntu 20.04.4 LTS) | x86_64 | R Under development (unstable) (2022-02-17 r81757) -- "Unsuffered Consequences" | 4334 |
| riesling1 | Windows Server 2019 Standard | x64 | R Under development (unstable) (2021-11-21 r81221) -- "Unsuffered Consequences" | 4097 |
| palomino3 | Windows Server 2022 Datacenter | x64 | R Under development (unstable) (2022-02-17 r81757 ucrt) -- "Unsuffered Consequences" | 4083 |
| merida1 | macOS 10.14.6 Mojave | x86_64 | R Under development (unstable) (2022-03-02 r81842) -- "Unsuffered Consequences" | 4134 |
| Click on any hostname to see more info about the system (e.g. compilers) (*) as reported by 'uname -p', except on Windows and Mac OS X | ||||
|
To the developers/maintainers of the MetCirc package: - Please allow up to 24 hours (and sometimes 48 hours) for your latest push to git@git.bioconductor.org:packages/MetCirc.git to reflect on this report. See How and When does the builder pull? When will my changes propagate? here for more information. - Make sure to use the following settings in order to reproduce any error or warning you see on this page. |
| Package 1114/2090 | Hostname | OS / Arch | INSTALL | BUILD | CHECK | BUILD BIN | ||||||||
| MetCirc 1.25.1 (landing page) Thomas Naake
| nebbiolo1 | Linux (Ubuntu 20.04.4 LTS) / x86_64 | OK | OK | OK | |||||||||
| riesling1 | Windows Server 2019 Standard / x64 | OK | OK | OK | OK | |||||||||
| palomino3 | Windows Server 2022 Datacenter / x64 | OK | OK | OK | OK | |||||||||
| merida1 | macOS 10.14.6 Mojave / x86_64 | OK | OK | OK | OK | |||||||||
| Package: MetCirc |
| Version: 1.25.1 |
| Command: rm -rf MetCirc.buildbin-libdir && mkdir MetCirc.buildbin-libdir && D:\biocbuild\bbs-3.15-bioc\R\bin\R.exe CMD INSTALL --build --library=MetCirc.buildbin-libdir MetCirc_1.25.1.tar.gz |
| StartedAt: 2022-03-17 21:20:13 -0400 (Thu, 17 Mar 2022) |
| EndedAt: 2022-03-17 21:21:26 -0400 (Thu, 17 Mar 2022) |
| EllapsedTime: 72.9 seconds |
| RetCode: 0 |
| Status: OK |
| PackageFile: MetCirc_1.25.1.zip |
| PackageFileSize: 1.977 MiB |
##############################################################################
##############################################################################
###
### Running command:
###
### rm -rf MetCirc.buildbin-libdir && mkdir MetCirc.buildbin-libdir && D:\biocbuild\bbs-3.15-bioc\R\bin\R.exe CMD INSTALL --build --library=MetCirc.buildbin-libdir MetCirc_1.25.1.tar.gz
###
##############################################################################
##############################################################################
* installing *source* package 'MetCirc' ...
** using staged installation
** R
** data
** inst
** byte-compile and prepare package for lazy loading
** help
*** installing help indices
converting help for package 'MetCirc'
finding HTML links ... done
cart2Polar html
circosLegend html
compare_Spectra html
compartmentTissue html
convertExampleDF html
convertMsp2Spectra html
createLink0df html
createLinkDf html
cutLinkDf html
getLinkDfIndices html
highlight html
minFragCart2Polar html
msp2spectra html
neutralloss html
normalizeddotproduct html
orderSimilarityMatrix html
plotCircos html
plotSpectra html
printInformationSelect html
recordPlotFill_degreeFeatures html
recordPlotHighlight html
replayPlotAdd html
replayPlotOrder html
sd01_outputXCMS html
sd02_deconvoluted html
select html
shinyCircos html
similarityMat html
spectraCond html
spectra_tissue html
thresholdLinkDf html
tissue html
typeMatch_link0 html
** building package indices
** installing vignettes
** testing if installed package can be loaded from temporary location
** testing if installed package can be loaded from final location
** testing if installed package keeps a record of temporary installation path
* MD5 sums
packaged installation of 'MetCirc' as MetCirc_1.25.1.zip
* DONE (MetCirc)