| Back to Multiple platform build/check report for BioC 3.15 |
|
This page was generated on 2022-03-18 11:08:07 -0400 (Fri, 18 Mar 2022).
| Hostname | OS | Arch (*) | R version | Installed pkgs |
|---|---|---|---|---|
| nebbiolo1 | Linux (Ubuntu 20.04.4 LTS) | x86_64 | R Under development (unstable) (2022-02-17 r81757) -- "Unsuffered Consequences" | 4334 |
| riesling1 | Windows Server 2019 Standard | x64 | R Under development (unstable) (2021-11-21 r81221) -- "Unsuffered Consequences" | 4097 |
| palomino3 | Windows Server 2022 Datacenter | x64 | R Under development (unstable) (2022-02-17 r81757 ucrt) -- "Unsuffered Consequences" | 4083 |
| merida1 | macOS 10.14.6 Mojave | x86_64 | R Under development (unstable) (2022-03-02 r81842) -- "Unsuffered Consequences" | 4134 |
| Click on any hostname to see more info about the system (e.g. compilers) (*) as reported by 'uname -p', except on Windows and Mac OS X | ||||
|
To the developers/maintainers of the MSstatsLiP package: - Please allow up to 24 hours (and sometimes 48 hours) for your latest push to git@git.bioconductor.org:packages/MSstatsLiP.git to reflect on this report. See How and When does the builder pull? When will my changes propagate? here for more information. - Make sure to use the following settings in order to reproduce any error or warning you see on this page. |
| Package 1235/2090 | Hostname | OS / Arch | INSTALL | BUILD | CHECK | BUILD BIN | ||||||||
| MSstatsLiP 1.1.0 (landing page) Devon Kohler
| nebbiolo1 | Linux (Ubuntu 20.04.4 LTS) / x86_64 | OK | OK | OK | |||||||||
| riesling1 | Windows Server 2019 Standard / x64 | OK | OK | OK | OK | |||||||||
| palomino3 | Windows Server 2022 Datacenter / x64 | OK | OK | OK | OK | |||||||||
| merida1 | macOS 10.14.6 Mojave / x86_64 | OK | OK | OK | OK | |||||||||
| Package: MSstatsLiP |
| Version: 1.1.0 |
| Command: rm -rf MSstatsLiP.buildbin-libdir && mkdir MSstatsLiP.buildbin-libdir && D:\biocbuild\bbs-3.15-bioc\R\bin\R.exe CMD INSTALL --build --library=MSstatsLiP.buildbin-libdir MSstatsLiP_1.1.0.tar.gz |
| StartedAt: 2022-03-17 21:23:21 -0400 (Thu, 17 Mar 2022) |
| EndedAt: 2022-03-17 21:24:55 -0400 (Thu, 17 Mar 2022) |
| EllapsedTime: 94.0 seconds |
| RetCode: 0 |
| Status: OK |
| PackageFile: MSstatsLiP_1.1.0.zip |
| PackageFileSize: 909.1 KiB |
##############################################################################
##############################################################################
###
### Running command:
###
### rm -rf MSstatsLiP.buildbin-libdir && mkdir MSstatsLiP.buildbin-libdir && D:\biocbuild\bbs-3.15-bioc\R\bin\R.exe CMD INSTALL --build --library=MSstatsLiP.buildbin-libdir MSstatsLiP_1.1.0.tar.gz
###
##############################################################################
##############################################################################
* installing *source* package 'MSstatsLiP' ...
** using staged installation
** libs
"C:/rtools40/mingw64/bin/"g++ -std=gnu++11 -I"D:/biocbuild/bbs-3.15-bioc/R/include" -DNDEBUG -I'D:/biocbuild/bbs-3.15-bioc/R/library/Rcpp/include' -I"C:/extsoft/include" -O2 -Wall -mfpmath=sse -msse2 -mstackrealign -fno-reorder-blocks-and-partition -c RcppExports.cpp -o RcppExports.o
"C:/rtools40/mingw64/bin/"g++ -std=gnu++11 -I"D:/biocbuild/bbs-3.15-bioc/R/include" -DNDEBUG -I'D:/biocbuild/bbs-3.15-bioc/R/library/Rcpp/include' -I"C:/extsoft/include" -O2 -Wall -mfpmath=sse -msse2 -mstackrealign -fno-reorder-blocks-and-partition -c model_adjustment.cpp -o model_adjustment.o
C:/rtools40/mingw64/bin/g++ -std=gnu++11 -shared -s -static-libgcc -o MSstatsLiP.dll tmp.def RcppExports.o model_adjustment.o -LC:/extsoft/lib/x64 -LC:/extsoft/lib -LD:/biocbuild/bbs-3.15-bioc/R/bin/x64 -lR
installing to D:/biocbuild/bbs-3.15-bioc/meat/MSstatsLiP.buildbin-libdir/00LOCK-MSstatsLiP/00new/MSstatsLiP/libs/x64
** R
** data
*** moving datasets to lazyload DB
** inst
** byte-compile and prepare package for lazy loading
** help
*** installing help indices
converting help for package 'MSstatsLiP'
finding HTML links ... done
BarcodePlotLiP html
LiPRawData html
MSstatsLiP html
MSstatsLiP_Summarized html
MSstatsLiP_data html
MSstatsLiP_model html
PCAPlotLiP html
SkylineTest html
SkylinetoMSstatsLiPFormat html
SpectronauttoMSstatsLiPFormat html
TrPRawData html
annotSite html
calculateTrypticity html
correlationPlotLiP html
dataProcessPlotsLiP html
dataSummarizationLiP html
groupComparisonLiP html
groupComparisonPlotsLiP html
locateMod html
locatePTM html
tidyFasta html
trypticHistogramLiP html
** building package indices
** installing vignettes
** testing if installed package can be loaded from temporary location
** testing if installed package can be loaded from final location
** testing if installed package keeps a record of temporary installation path
* MD5 sums
packaged installation of 'MSstatsLiP' as MSstatsLiP_1.1.0.zip
* DONE (MSstatsLiP)