| Back to Multiple platform build/check report for BioC 3.15 |
|
This page was generated on 2022-03-18 11:08:04 -0400 (Fri, 18 Mar 2022).
| Hostname | OS | Arch (*) | R version | Installed pkgs |
|---|---|---|---|---|
| nebbiolo1 | Linux (Ubuntu 20.04.4 LTS) | x86_64 | R Under development (unstable) (2022-02-17 r81757) -- "Unsuffered Consequences" | 4334 |
| riesling1 | Windows Server 2019 Standard | x64 | R Under development (unstable) (2021-11-21 r81221) -- "Unsuffered Consequences" | 4097 |
| palomino3 | Windows Server 2022 Datacenter | x64 | R Under development (unstable) (2022-02-17 r81757 ucrt) -- "Unsuffered Consequences" | 4083 |
| merida1 | macOS 10.14.6 Mojave | x86_64 | R Under development (unstable) (2022-03-02 r81842) -- "Unsuffered Consequences" | 4134 |
| Click on any hostname to see more info about the system (e.g. compilers) (*) as reported by 'uname -p', except on Windows and Mac OS X | ||||
|
To the developers/maintainers of the MOMA package: - Please allow up to 24 hours (and sometimes 48 hours) for your latest push to git@git.bioconductor.org:packages/MOMA.git to reflect on this report. See How and When does the builder pull? When will my changes propagate? here for more information. - Make sure to use the following settings in order to reproduce any error or warning you see on this page. |
| Package 1198/2090 | Hostname | OS / Arch | INSTALL | BUILD | CHECK | BUILD BIN | ||||||||
| MOMA 1.7.0 (landing page) Sunny Jones
| nebbiolo1 | Linux (Ubuntu 20.04.4 LTS) / x86_64 | OK | OK | OK | |||||||||
| riesling1 | Windows Server 2019 Standard / x64 | OK | OK | OK | OK | |||||||||
| palomino3 | Windows Server 2022 Datacenter / x64 | OK | OK | OK | OK | |||||||||
| merida1 | macOS 10.14.6 Mojave / x86_64 | OK | OK | OK | OK | |||||||||
| Package: MOMA |
| Version: 1.7.0 |
| Command: rm -rf MOMA.buildbin-libdir && mkdir MOMA.buildbin-libdir && D:\biocbuild\bbs-3.15-bioc\R\bin\R.exe CMD INSTALL --build --library=MOMA.buildbin-libdir MOMA_1.7.0.tar.gz |
| StartedAt: 2022-03-17 21:22:26 -0400 (Thu, 17 Mar 2022) |
| EndedAt: 2022-03-17 21:23:41 -0400 (Thu, 17 Mar 2022) |
| EllapsedTime: 74.4 seconds |
| RetCode: 0 |
| Status: OK |
| PackageFile: MOMA_1.7.0.zip |
| PackageFileSize: 5.3 MiB |
##############################################################################
##############################################################################
###
### Running command:
###
### rm -rf MOMA.buildbin-libdir && mkdir MOMA.buildbin-libdir && D:\biocbuild\bbs-3.15-bioc\R\bin\R.exe CMD INSTALL --build --library=MOMA.buildbin-libdir MOMA_1.7.0.tar.gz
###
##############################################################################
##############################################################################
* installing *source* package 'MOMA' ...
** using staged installation
** R
** data
*** moving datasets to lazyload DB
** inst
** byte-compile and prepare package for lazy loading
** help
*** installing help indices
converting help for package 'MOMA'
finding HTML links ... done
Moma-class html
areaEnrich html
associateEvents html
checkGeneMap html
checkList html
checkMAE html
checkPathways html
clusterRange html
clusterReliability html
cnvScoreStouffer html
conditionalModel html
conditionalP html
empiricalP html
example.gbm.mae html
fitCurvePercent html
gbm.pathways html
gene.map html
genomicPlotSmall html
getCoverage html
getDataFrame html
getDiggitEmpiricalQvalues html
getEmpiricalQvals html
getPvalsMatrix html
getSubtypeEventTables html
integrateFunction html
integrateTZ html
makeCoverageDf html
makeSaturationPlots html
mapEntrez html
mapHugo html
mapScoresCnvBand html
mergeData html
mergeDataBySubtype html
mergeGenomicSaturation html
mergeLists html
momaConstructor html
mutSig html
oncoprintPlot html
pathwayDiggitIntersect html
plotEvents html
rea html
reaNULL html
sREA html
sampleNameFilter html
sampleOverlap html
sigInteractorsDIGGIT html
stoufferIntegrate html
stoufferIntegrateDiggit html
subsetListInteractions html
validDiggitInteractions html
viperGetSigTFS html
viperGetTFScores html
** building package indices
** installing vignettes
** testing if installed package can be loaded from temporary location
** testing if installed package can be loaded from final location
** testing if installed package keeps a record of temporary installation path
* MD5 sums
packaged installation of 'MOMA' as MOMA_1.7.0.zip
* DONE (MOMA)