| Back to Multiple platform build/check report for BioC 3.15 |
|
This page was generated on 2022-10-19 13:23:13 -0400 (Wed, 19 Oct 2022).
| Hostname | OS | Arch (*) | R version | Installed pkgs |
|---|---|---|---|---|
| nebbiolo1 | Linux (Ubuntu 20.04.5 LTS) | x86_64 | 4.2.1 (2022-06-23) -- "Funny-Looking Kid" | 4386 |
| palomino3 | Windows Server 2022 Datacenter | x64 | 4.2.1 (2022-06-23 ucrt) -- "Funny-Looking Kid" | 4138 |
| merida1 | macOS 10.14.6 Mojave | x86_64 | 4.2.1 (2022-06-23) -- "Funny-Looking Kid" | 4205 |
| Click on any hostname to see more info about the system (e.g. compilers) (*) as reported by 'uname -p', except on Windows and Mac OS X | ||||
|
To the developers/maintainers of the MBECS package: - Please allow up to 24 hours (and sometimes 48 hours) for your latest push to git@git.bioconductor.org:packages/MBECS.git to reflect on this report. See How and When does the builder pull? When will my changes propagate? for more information. - Make sure to use the following settings in order to reproduce any error or warning you see on this page. |
| Package 1091/2140 | Hostname | OS / Arch | INSTALL | BUILD | CHECK | BUILD BIN | ||||||||
| MBECS 1.0.0 (landing page) Michael Olbrich
| nebbiolo1 | Linux (Ubuntu 20.04.5 LTS) / x86_64 | OK | OK | OK | |||||||||
| palomino3 | Windows Server 2022 Datacenter / x64 | OK | OK | OK | OK | |||||||||
| merida1 | macOS 10.14.6 Mojave / x86_64 | OK | OK | OK | OK | |||||||||
| Package: MBECS |
| Version: 1.0.0 |
| Command: /Library/Frameworks/R.framework/Resources/bin/R CMD check --install=check:MBECS.install-out.txt --library=/Library/Frameworks/R.framework/Resources/library --no-vignettes --timings MBECS_1.0.0.tar.gz |
| StartedAt: 2022-10-19 04:15:39 -0400 (Wed, 19 Oct 2022) |
| EndedAt: 2022-10-19 04:24:44 -0400 (Wed, 19 Oct 2022) |
| EllapsedTime: 545.5 seconds |
| RetCode: 0 |
| Status: OK |
| CheckDir: MBECS.Rcheck |
| Warnings: 0 |
##############################################################################
##############################################################################
###
### Running command:
###
### /Library/Frameworks/R.framework/Resources/bin/R CMD check --install=check:MBECS.install-out.txt --library=/Library/Frameworks/R.framework/Resources/library --no-vignettes --timings MBECS_1.0.0.tar.gz
###
##############################################################################
##############################################################################
* using log directory ‘/Users/biocbuild/bbs-3.15-bioc/meat/MBECS.Rcheck’
* using R version 4.2.1 (2022-06-23)
* using platform: x86_64-apple-darwin17.0 (64-bit)
* using session charset: UTF-8
* using option ‘--no-vignettes’
* checking for file ‘MBECS/DESCRIPTION’ ... OK
* this is package ‘MBECS’ version ‘1.0.0’
* package encoding: UTF-8
* checking package namespace information ... OK
* checking package dependencies ... OK
* checking if this is a source package ... OK
* checking if there is a namespace ... OK
* checking for hidden files and directories ... OK
* checking for portable file names ... OK
* checking for sufficient/correct file permissions ... OK
* checking whether package ‘MBECS’ can be installed ... OK
* checking installed package size ... OK
* checking package directory ... OK
* checking ‘build’ directory ... OK
* checking DESCRIPTION meta-information ... OK
* checking top-level files ... OK
* checking for left-over files ... OK
* checking index information ... OK
* checking package subdirectories ... OK
* checking R files for non-ASCII characters ... OK
* checking R files for syntax errors ... OK
* checking whether the package can be loaded ... OK
* checking whether the package can be loaded with stated dependencies ... OK
* checking whether the package can be unloaded cleanly ... OK
* checking whether the namespace can be loaded with stated dependencies ... OK
* checking whether the namespace can be unloaded cleanly ... OK
* checking dependencies in R code ... OK
* checking S3 generic/method consistency ... OK
* checking replacement functions ... OK
* checking foreign function calls ... OK
* checking R code for possible problems ... OK
* checking Rd files ... OK
* checking Rd metadata ... OK
* checking Rd cross-references ... OK
* checking for missing documentation entries ... OK
* checking for code/documentation mismatches ... OK
* checking Rd \usage sections ... OK
* checking Rd contents ... OK
* checking for unstated dependencies in examples ... OK
* checking contents of ‘data’ directory ... OK
* checking data for non-ASCII characters ... OK
* checking data for ASCII and uncompressed saves ... OK
* checking files in ‘vignettes’ ... OK
* checking examples ... OK
Examples with CPU (user + system) or elapsed time > 5s
user system elapsed
mbecReportPost 95.820 0.369 96.359
mbecModelVariance 12.392 0.047 12.456
mbecVarianceStatsPlot 10.480 0.029 10.522
mbecCorrection 7.664 0.213 7.907
* checking for unstated dependencies in ‘tests’ ... OK
* checking tests ...
Running ‘testthat.R’
OK
* checking for unstated dependencies in vignettes ... OK
* checking package vignettes in ‘inst/doc’ ... OK
* checking running R code from vignettes ... SKIPPED
* checking re-building of vignette outputs ... SKIPPED
* checking PDF version of manual ... OK
* DONE
Status: OK
MBECS.Rcheck/00install.out
############################################################################## ############################################################################## ### ### Running command: ### ### /Library/Frameworks/R.framework/Resources/bin/R CMD INSTALL MBECS ### ############################################################################## ############################################################################## * installing to library ‘/Library/Frameworks/R.framework/Versions/4.2/Resources/library’ * installing *source* package ‘MBECS’ ... ** using staged installation ** R ** data ** inst ** byte-compile and prepare package for lazy loading ** help *** installing help indices ** building package indices ** installing vignettes ** testing if installed package can be loaded from temporary location ** testing if installed package can be loaded from final location ** testing if installed package keeps a record of temporary installation path * DONE (MBECS)
MBECS.Rcheck/tests/testthat.Rout
R version 4.2.1 (2022-06-23) -- "Funny-Looking Kid"
Copyright (C) 2022 The R Foundation for Statistical Computing
Platform: x86_64-apple-darwin17.0 (64-bit)
R is free software and comes with ABSOLUTELY NO WARRANTY.
You are welcome to redistribute it under certain conditions.
Type 'license()' or 'licence()' for distribution details.
R is a collaborative project with many contributors.
Type 'contributors()' for more information and
'citation()' on how to cite R or R packages in publications.
Type 'demo()' for some demos, 'help()' for on-line help, or
'help.start()' for an HTML browser interface to help.
Type 'q()' to quit R.
> library(testthat)
> library(MBECS)
>
> test_check("MBECS")
Set tss-transformed counts.
Found zeros, function will add a small pseudo-count
(1/#features) for log-ratio transformation.
Set tss-transformed counts.
Found zeros, function will add a small pseudo-count
(1/#features) for log-ratio transformation.
Set tss-transformed counts.
Found zeros, function will add a small pseudo-count
(1/#features) for log-ratio transformation.
Set tss-transformed counts.
Found zeros, function will add a small pseudo-count
(1/#features) for log-ratio transformation.
Set tss-transformed counts.
Found zeros, function will add a small pseudo-count
(1/#features) for log-ratio transformation.
No negative control features provided.
Using pseudo-negative controls.
Applying Remove Unwanted Variantion v3 (RUV-III).
No 'sID' column present, creating from rownames now.
No 'sID' column present, creating from rownames now.
Set tss-transformed counts.
No 'sID' column present, creating from rownames now.
Set tss-transformed counts.
Construct lm-formula from covariates.
Construct lm-formula from covariates.
There is a problem with the estimatibility of your model.
Check out covariate: 'sIDS40'
Set tss-transformed counts.
Found zeros, function will add a small pseudo-count
(1/#features) for log-ratio transformation.
Set tss-transformed counts.
Found zeros, function will add a small pseudo-count
(1/#features) for log-ratio transformation.
Set tss-transformed counts.
Found zeros, function will add a small pseudo-count
(1/#features) for log-ratio transformation.
Calculating RLE for group: A
Calculating RLE for group: B
Fitting linear model to every feature and extract proportion of
variance explained by covariates.
Construct formula from covariates.
|
| | 0%
|
|==== | 5%
|
|======== | 10%
|
|============ | 15%
|
|================ | 20%
|
|==================== | 25%
|
|======================== | 30%
|
|============================ | 35%
|
|================================ | 40%
|
|==================================== | 45%
|
|======================================== | 50%
|
|============================================ | 55%
|
|================================================ | 60%
|
|==================================================== | 65%
|
|======================================================== | 70%
|
|============================================================ | 75%
|
|================================================================ | 80%
|
|==================================================================== | 85%
|
|======================================================================== | 90%
|
|============================================================================ | 95%
|
|================================================================================| 100%
Fitting linear-mixed model to every feature and extract proportion
of variance explained by covariates.
Construct formula from covariates.
|
| | 0%boundary (singular) fit: see help('isSingular')
|
|==== | 5%boundary (singular) fit: see help('isSingular')
|
|======== | 10%
|
|============ | 15%boundary (singular) fit: see help('isSingular')
|
|================ | 20%
|
|==================== | 25%
|
|======================== | 30%boundary (singular) fit: see help('isSingular')
|
|============================ | 35%
|
|================================ | 40%
|
|==================================== | 45%boundary (singular) fit: see help('isSingular')
|
|======================================== | 50%boundary (singular) fit: see help('isSingular')
|
|============================================ | 55%boundary (singular) fit: see help('isSingular')
|
|================================================ | 60%boundary (singular) fit: see help('isSingular')
|
|==================================================== | 65%boundary (singular) fit: see help('isSingular')
|
|======================================================== | 70%boundary (singular) fit: see help('isSingular')
|
|============================================================ | 75%boundary (singular) fit: see help('isSingular')
|
|================================================================ | 80%boundary (singular) fit: see help('isSingular')
|
|==================================================================== | 85%
|
|======================================================================== | 90%boundary (singular) fit: see help('isSingular')
|
|============================================================================ | 95%boundary (singular) fit: see help('isSingular')
|
|================================================================================| 100%
|
| | 0%
|
|======================================== | 50%
|
|================================================================================| 100%
boundary (singular) fit: see help('isSingular')
boundary (singular) fit: see help('isSingular')
boundary (singular) fit: see help('isSingular')
boundary (singular) fit: see help('isSingular')
boundary (singular) fit: see help('isSingular')
boundary (singular) fit: see help('isSingular')
[1] "batch"
[1] "group"
Set tss-transformed counts.
Found zeros, function will add a small pseudo-count
(1/#features) for log-ratio transformation.
Applying ComBat (sva) for batch-correction.
Found2batches
Adjusting for1covariate(s) or covariate level(s)
Standardizing Data across genes
Fitting L/S model and finding priors
Finding nonparametric adjustments
Adjusting the Data
[ FAIL 0 | WARN 0 | SKIP 0 | PASS 265 ]
>
> proc.time()
user system elapsed
105.748 1.400 107.365
MBECS.Rcheck/MBECS-Ex.timings
| name | user | system | elapsed | |
| MbecData | 0.243 | 0.008 | 0.251 | |
| colinScore | 1.213 | 0.014 | 1.228 | |
| dot-mbecGetData | 0.048 | 0.004 | 0.052 | |
| dot-mbecGetPhyloseq | 0.070 | 0.003 | 0.073 | |
| dot-mbecSetData | 0.077 | 0.005 | 0.081 | |
| dummy.list | 0.008 | 0.002 | 0.010 | |
| dummy.mbec | 0.040 | 0.002 | 0.041 | |
| dummy.ps | 0.008 | 0.002 | 0.010 | |
| mbecBox | 3.752 | 0.077 | 3.834 | |
| mbecBoxPlot | 3.160 | 0.017 | 3.181 | |
| mbecCorrection | 7.664 | 0.213 | 7.907 | |
| mbecDummy | 0.252 | 0.026 | 0.279 | |
| mbecGetData-MbecData-method | 0.050 | 0.006 | 0.056 | |
| mbecGetData | 0.156 | 0.005 | 0.162 | |
| mbecGetPhyloseq-MbecData-method | 0.077 | 0.003 | 0.081 | |
| mbecGetPhyloseq | 0.073 | 0.004 | 0.077 | |
| mbecHeat | 0.326 | 0.008 | 0.335 | |
| mbecHeatPlot | 0.266 | 0.007 | 0.275 | |
| mbecLM | 1.895 | 0.051 | 1.948 | |
| mbecMixedVariance | 0.073 | 0.003 | 0.077 | |
| mbecModelVariance | 12.392 | 0.047 | 12.456 | |
| mbecMosaic | 1.540 | 0.008 | 1.550 | |
| mbecMosaicPlot | 1.364 | 0.008 | 1.373 | |
| mbecPCA-MbecData-method | 1.619 | 0.016 | 1.637 | |
| mbecPCA | 1.598 | 0.012 | 1.613 | |
| mbecPCAPlot | 1.378 | 0.013 | 1.392 | |
| mbecPVCAStatsPlot | 2.158 | 0.013 | 2.176 | |
| mbecProcessInput-MbecData-method | 0.042 | 0.003 | 0.045 | |
| mbecProcessInput-list-method | 0.042 | 0.003 | 0.045 | |
| mbecProcessInput-phyloseq-method | 0.055 | 0.001 | 0.057 | |
| mbecProcessInput | 0.043 | 0.004 | 0.047 | |
| mbecRDAStatsPlot | 0.170 | 0.005 | 0.175 | |
| mbecRLE | 0.523 | 0.007 | 0.531 | |
| mbecRLEPlot | 0.266 | 0.004 | 0.271 | |
| mbecReportPost | 95.820 | 0.369 | 96.359 | |
| mbecReportPrelim | 3.509 | 0.015 | 3.530 | |
| mbecRunCorrections | 3.396 | 0.044 | 3.450 | |
| mbecSCOEFStatsPlot | 0.101 | 0.004 | 0.106 | |
| mbecSetData-MbecData-method | 0.079 | 0.005 | 0.084 | |
| mbecSetData | 0.079 | 0.005 | 0.085 | |
| mbecTestModel | 0.051 | 0.003 | 0.054 | |
| mbecTransform | 0.392 | 0.005 | 0.397 | |
| mbecValidateModel | 0.061 | 0.003 | 0.064 | |
| mbecVarianceStats | 0.032 | 0.002 | 0.034 | |
| mbecVarianceStatsPlot | 10.480 | 0.029 | 10.522 | |
| percentileNorm | 4.166 | 0.035 | 4.208 | |
| poscore | 0.000 | 0.000 | 0.001 | |