Back to Multiple platform build/check report for BioC 3.15 |
|
This page was generated on 2022-10-19 13:20:28 -0400 (Wed, 19 Oct 2022).
Hostname | OS | Arch (*) | R version | Installed pkgs |
---|---|---|---|---|
nebbiolo1 | Linux (Ubuntu 20.04.5 LTS) | x86_64 | 4.2.1 (2022-06-23) -- "Funny-Looking Kid" | 4386 |
palomino3 | Windows Server 2022 Datacenter | x64 | 4.2.1 (2022-06-23 ucrt) -- "Funny-Looking Kid" | 4138 |
merida1 | macOS 10.14.6 Mojave | x86_64 | 4.2.1 (2022-06-23) -- "Funny-Looking Kid" | 4205 |
Click on any hostname to see more info about the system (e.g. compilers) (*) as reported by 'uname -p', except on Windows and Mac OS X |
To the developers/maintainers of the MAGeCKFlute package: - Please allow up to 24 hours (and sometimes 48 hours) for your latest push to git@git.bioconductor.org:packages/MAGeCKFlute.git to reflect on this report. See How and When does the builder pull? When will my changes propagate? for more information. - Make sure to use the following settings in order to reproduce any error or warning you see on this page. |
Package 1063/2140 | Hostname | OS / Arch | INSTALL | BUILD | CHECK | BUILD BIN | ||||||||
MAGeCKFlute 2.0.0 (landing page) Wubing Zhang
| nebbiolo1 | Linux (Ubuntu 20.04.5 LTS) / x86_64 | OK | OK | OK | |||||||||
palomino3 | Windows Server 2022 Datacenter / x64 | OK | OK | OK | OK | |||||||||
merida1 | macOS 10.14.6 Mojave / x86_64 | OK | OK | OK | OK | |||||||||
Package: MAGeCKFlute |
Version: 2.0.0 |
Command: /home/biocbuild/bbs-3.15-bioc/R/bin/R CMD check --install=check:MAGeCKFlute.install-out.txt --library=/home/biocbuild/bbs-3.15-bioc/R/library --no-vignettes --timings MAGeCKFlute_2.0.0.tar.gz |
StartedAt: 2022-10-18 20:23:05 -0400 (Tue, 18 Oct 2022) |
EndedAt: 2022-10-18 20:27:09 -0400 (Tue, 18 Oct 2022) |
EllapsedTime: 244.7 seconds |
RetCode: 0 |
Status: OK |
CheckDir: MAGeCKFlute.Rcheck |
Warnings: 0 |
############################################################################## ############################################################################## ### ### Running command: ### ### /home/biocbuild/bbs-3.15-bioc/R/bin/R CMD check --install=check:MAGeCKFlute.install-out.txt --library=/home/biocbuild/bbs-3.15-bioc/R/library --no-vignettes --timings MAGeCKFlute_2.0.0.tar.gz ### ############################################################################## ############################################################################## * using log directory ‘/home/biocbuild/bbs-3.15-bioc/meat/MAGeCKFlute.Rcheck’ * using R version 4.2.1 (2022-06-23) * using platform: x86_64-pc-linux-gnu (64-bit) * using session charset: UTF-8 * using option ‘--no-vignettes’ * checking for file ‘MAGeCKFlute/DESCRIPTION’ ... OK * checking extension type ... Package * this is package ‘MAGeCKFlute’ version ‘2.0.0’ * package encoding: UTF-8 * checking package namespace information ... OK * checking package dependencies ... OK * checking if this is a source package ... OK * checking if there is a namespace ... OK * checking for hidden files and directories ... OK * checking for portable file names ... OK * checking for sufficient/correct file permissions ... OK * checking whether package ‘MAGeCKFlute’ can be installed ... OK * checking installed package size ... NOTE installed size is 18.3Mb sub-directories of 1Mb or more: extdata 17.8Mb * checking package directory ... OK * checking ‘build’ directory ... OK * checking DESCRIPTION meta-information ... OK * checking top-level files ... OK * checking for left-over files ... OK * checking index information ... OK * checking package subdirectories ... OK * checking R files for non-ASCII characters ... OK * checking R files for syntax errors ... OK * checking whether the package can be loaded ... OK * checking whether the package can be loaded with stated dependencies ... OK * checking whether the package can be unloaded cleanly ... OK * checking whether the namespace can be loaded with stated dependencies ... OK * checking whether the namespace can be unloaded cleanly ... OK * checking dependencies in R code ... OK * checking S3 generic/method consistency ... OK * checking replacement functions ... OK * checking foreign function calls ... OK * checking R code for possible problems ... OK * checking Rd files ... OK * checking Rd metadata ... OK * checking Rd cross-references ... OK * checking for missing documentation entries ... OK * checking for code/documentation mismatches ... OK * checking Rd \usage sections ... OK * checking Rd contents ... OK * checking for unstated dependencies in examples ... OK * checking files in ‘vignettes’ ... OK * checking examples ... OK Examples with CPU (user + system) or elapsed time > 5s user system elapsed MAView 10.443 0.16 10.603 * checking for unstated dependencies in vignettes ... OK * checking package vignettes in ‘inst/doc’ ... OK * checking running R code from vignettes ... SKIPPED * checking re-building of vignette outputs ... SKIPPED * checking PDF version of manual ... OK * DONE Status: 1 NOTE See ‘/home/biocbuild/bbs-3.15-bioc/meat/MAGeCKFlute.Rcheck/00check.log’ for details.
MAGeCKFlute.Rcheck/00install.out
############################################################################## ############################################################################## ### ### Running command: ### ### /home/biocbuild/bbs-3.15-bioc/R/bin/R CMD INSTALL MAGeCKFlute ### ############################################################################## ############################################################################## * installing to library ‘/home/biocbuild/bbs-3.15-bioc/R/library’ * installing *source* package ‘MAGeCKFlute’ ... ** using staged installation ** R ** inst ** byte-compile and prepare package for lazy loading snapshotDate(): 2022-04-26 ** help *** installing help indices ** building package indices ** installing vignettes ** testing if installed package can be loaded from temporary location snapshotDate(): 2022-04-26 ** testing if installed package can be loaded from final location snapshotDate(): 2022-04-26 ** testing if installed package keeps a record of temporary installation path * DONE (MAGeCKFlute)
MAGeCKFlute.Rcheck/MAGeCKFlute-Ex.timings
name | user | system | elapsed | |
BarView | 0.712 | 0.092 | 0.803 | |
BatchRemove | 1.986 | 0.114 | 2.114 | |
ConsistencyView | 0.922 | 0.068 | 0.992 | |
CutoffCalling | 0.000 | 0.004 | 0.003 | |
DensityDiffView | 0.892 | 0.028 | 0.920 | |
DensityView | 0.630 | 0.008 | 0.638 | |
EnrichAnalyzer | 0.008 | 0.003 | 0.011 | |
EnrichedFilter | 0.009 | 0.000 | 0.009 | |
EnrichedGeneView | 0.008 | 0.000 | 0.009 | |
EnrichedView | 0.009 | 0.000 | 0.008 | |
FluteMLE | 0.000 | 0.000 | 0.001 | |
FluteRRA | 0.001 | 0.000 | 0.001 | |
HeatmapView | 0.298 | 0.012 | 0.310 | |
IdentBarView | 0.102 | 0.004 | 0.106 | |
IncorporateDepmap | 0.143 | 0.012 | 0.157 | |
MAView | 10.443 | 0.160 | 10.603 | |
MapRatesView | 0.40 | 0.02 | 0.42 | |
NormalizeBeta | 0.891 | 0.012 | 0.903 | |
OmitCommonEssential | 0.000 | 0.000 | 0.001 | |
RankView | 0.665 | 0.015 | 0.680 | |
ReadBeta | 0.270 | 0.008 | 0.278 | |
ReadRRA | 0.174 | 0.004 | 0.177 | |
ReadsgRRA | 0.010 | 0.000 | 0.012 | |
ResembleDepmap | 0.148 | 0.000 | 0.149 | |
ScatterView | 3.087 | 0.036 | 3.123 | |
Selector | 0.544 | 0.004 | 0.547 | |
SquareView | 1.187 | 0.008 | 1.194 | |
TransGeneID | 1.599 | 0.008 | 1.610 | |
ViolinView | 1.135 | 0.004 | 1.139 | |
VolcanoView | 1.821 | 0.008 | 1.829 | |
arrangePathview | 0.306 | 0.000 | 0.306 | |
enrich.GSE | 0.005 | 0.004 | 0.009 | |
enrich.HGT | 2.312 | 0.107 | 2.420 | |
enrich.ORT | 4.412 | 0.049 | 4.462 | |
getCols | 0.001 | 0.004 | 0.006 | |
getGeneAnn | 0 | 0 | 0 | |
getOrg | 0.001 | 0.000 | 0.001 | |
getOrtAnn | 0 | 0 | 0 | |
gsGetter | 0.213 | 0.000 | 0.215 | |
hclustView | 0.416 | 0.004 | 0.420 | |
loadDepmap | 0 | 0 | 0 | |
normalize.loess | 1.002 | 0.000 | 1.002 | |
sgRankView | 0.127 | 0.000 | 0.126 | |
writeGMT | 0.026 | 0.000 | 0.026 | |