Back to Multiple platform build/check report for BioC 3.15 |
|
This page was generated on 2022-10-19 13:21:43 -0400 (Wed, 19 Oct 2022).
Hostname | OS | Arch (*) | R version | Installed pkgs |
---|---|---|---|---|
nebbiolo1 | Linux (Ubuntu 20.04.5 LTS) | x86_64 | 4.2.1 (2022-06-23) -- "Funny-Looking Kid" | 4386 |
palomino3 | Windows Server 2022 Datacenter | x64 | 4.2.1 (2022-06-23 ucrt) -- "Funny-Looking Kid" | 4138 |
merida1 | macOS 10.14.6 Mojave | x86_64 | 4.2.1 (2022-06-23) -- "Funny-Looking Kid" | 4205 |
Click on any hostname to see more info about the system (e.g. compilers) (*) as reported by 'uname -p', except on Windows and Mac OS X |
To the developers/maintainers of the LinkHD package: - Please allow up to 24 hours (and sometimes 48 hours) for your latest push to git@git.bioconductor.org:packages/LinkHD.git to reflect on this report. See How and When does the builder pull? When will my changes propagate? for more information. - Make sure to use the following settings in order to reproduce any error or warning you see on this page. |
Package 1025/2140 | Hostname | OS / Arch | INSTALL | BUILD | CHECK | BUILD BIN | ||||||||
LinkHD 1.10.0 (landing page) "Laura M Zingaretti"
| nebbiolo1 | Linux (Ubuntu 20.04.5 LTS) / x86_64 | OK | OK | OK | |||||||||
palomino3 | Windows Server 2022 Datacenter / x64 | OK | OK | OK | OK | |||||||||
merida1 | macOS 10.14.6 Mojave / x86_64 | OK | OK | OK | OK | |||||||||
Package: LinkHD |
Version: 1.10.0 |
Command: F:\biocbuild\bbs-3.15-bioc\R\bin\R.exe CMD check --no-multiarch --install=check:LinkHD.install-out.txt --library=F:\biocbuild\bbs-3.15-bioc\R\library --no-vignettes --timings LinkHD_1.10.0.tar.gz |
StartedAt: 2022-10-19 01:22:47 -0400 (Wed, 19 Oct 2022) |
EndedAt: 2022-10-19 01:26:18 -0400 (Wed, 19 Oct 2022) |
EllapsedTime: 211.3 seconds |
RetCode: 0 |
Status: OK |
CheckDir: LinkHD.Rcheck |
Warnings: 0 |
############################################################################## ############################################################################## ### ### Running command: ### ### F:\biocbuild\bbs-3.15-bioc\R\bin\R.exe CMD check --no-multiarch --install=check:LinkHD.install-out.txt --library=F:\biocbuild\bbs-3.15-bioc\R\library --no-vignettes --timings LinkHD_1.10.0.tar.gz ### ############################################################################## ############################################################################## * using log directory 'F:/biocbuild/bbs-3.15-bioc/meat/LinkHD.Rcheck' * using R version 4.2.1 (2022-06-23 ucrt) * using platform: x86_64-w64-mingw32 (64-bit) * using session charset: UTF-8 * using option '--no-vignettes' * checking for file 'LinkHD/DESCRIPTION' ... OK * checking extension type ... Package * this is package 'LinkHD' version '1.10.0' * package encoding: UTF-8 * checking package namespace information ... OK * checking package dependencies ... OK * checking if this is a source package ... OK * checking if there is a namespace ... OK * checking for hidden files and directories ... OK * checking for portable file names ... OK * checking whether package 'LinkHD' can be installed ... OK * checking installed package size ... OK * checking package directory ... OK * checking 'build' directory ... OK * checking DESCRIPTION meta-information ... OK * checking top-level files ... OK * checking for left-over files ... OK * checking index information ... OK * checking package subdirectories ... OK * checking R files for non-ASCII characters ... OK * checking R files for syntax errors ... OK * checking whether the package can be loaded ... OK * checking whether the package can be loaded with stated dependencies ... OK * checking whether the package can be unloaded cleanly ... OK * checking whether the namespace can be loaded with stated dependencies ... OK * checking whether the namespace can be unloaded cleanly ... OK * checking dependencies in R code ... OK * checking S3 generic/method consistency ... OK * checking replacement functions ... OK * checking foreign function calls ... OK * checking R code for possible problems ... OK * checking Rd files ... OK * checking Rd metadata ... OK * checking Rd cross-references ... OK * checking for missing documentation entries ... OK * checking for code/documentation mismatches ... OK * checking Rd \usage sections ... OK * checking Rd contents ... OK * checking for unstated dependencies in examples ... OK * checking contents of 'data' directory ... OK * checking data for non-ASCII characters ... OK * checking LazyData ... OK * checking data for ASCII and uncompressed saves ... OK * checking files in 'vignettes' ... OK * checking examples ... OK * checking for unstated dependencies in vignettes ... OK * checking package vignettes in 'inst/doc' ... OK * checking running R code from vignettes ... SKIPPED * checking re-building of vignette outputs ... SKIPPED * checking PDF version of manual ... OK * DONE Status: OK
LinkHD.Rcheck/00install.out
############################################################################## ############################################################################## ### ### Running command: ### ### F:\biocbuild\bbs-3.15-bioc\R\bin\R.exe CMD INSTALL LinkHD ### ############################################################################## ############################################################################## * installing to library 'F:/biocbuild/bbs-3.15-bioc/R/library' * installing *source* package 'LinkHD' ... ** using staged installation ** R ** data *** moving datasets to lazyload DB ** byte-compile and prepare package for lazy loading ** help *** installing help indices ** building package indices ** installing vignettes ** testing if installed package can be loaded from temporary location ** testing if installed package can be loaded from final location ** testing if installed package keeps a record of temporary installation path * DONE (LinkHD)
LinkHD.Rcheck/LinkHD-Ex.timings
name | user | system | elapsed | |
Compromise_matrix-methods | 1.23 | 0.05 | 1.28 | |
DataProcessing | 0.00 | 0.01 | 0.01 | |
DistStatis-Class | 0 | 0 | 0 | |
DistStatis-CompromisePlot | 0.54 | 0.00 | 0.55 | |
DistStatis-CorrelationPlot | 0.66 | 0.02 | 0.67 | |
DistStatis-GlobalPlot | 1.47 | 0.07 | 1.54 | |
Euclid_Im-methods | 0.50 | 0.04 | 0.54 | |
Inertia_RV-methods | 0.45 | 0.00 | 0.45 | |
Inertia_comp-methods | 0.48 | 0.00 | 0.48 | |
LinkData-LinkData | 0.36 | 0.01 | 0.38 | |
OTU2Taxa-OTU2Taxa | 3.00 | 0.11 | 3.11 | |
RQO-methods | 0.46 | 0.02 | 0.47 | |
Read_Data | 0 | 0 | 0 | |
Ruminotypes | 0 | 0 | 0 | |
Taraoceans | 0 | 0 | 0 | |
Trajectories-methods | 1.75 | 0.25 | 2.00 | |
VarSelection-Class | 0 | 0 | 0 | |
VarSelection | 2.11 | 0.04 | 2.15 | |
VarTable-methods | 1.89 | 0.05 | 1.94 | |
Var_coordinates-methods | 1.86 | 0.02 | 1.87 | |
Variables-methods | 2.09 | 0.04 | 2.15 | |
compromise_coords-methods | 0.45 | 0.03 | 0.48 | |
correl-methods | 0.5 | 0.0 | 0.5 | |
dAB-dAB | 0.97 | 0.04 | 1.00 | |
sign_values-methods | 2.16 | 0.01 | 2.17 | |