Back to Multiple platform build/check report for BioC 3.15 |
|
This page was generated on 2022-10-19 13:21:42 -0400 (Wed, 19 Oct 2022).
Hostname | OS | Arch (*) | R version | Installed pkgs |
---|---|---|---|---|
nebbiolo1 | Linux (Ubuntu 20.04.5 LTS) | x86_64 | 4.2.1 (2022-06-23) -- "Funny-Looking Kid" | 4386 |
palomino3 | Windows Server 2022 Datacenter | x64 | 4.2.1 (2022-06-23 ucrt) -- "Funny-Looking Kid" | 4138 |
merida1 | macOS 10.14.6 Mojave | x86_64 | 4.2.1 (2022-06-23) -- "Funny-Looking Kid" | 4205 |
Click on any hostname to see more info about the system (e.g. compilers) (*) as reported by 'uname -p', except on Windows and Mac OS X |
To the developers/maintainers of the KEGGlincs package: - Please allow up to 24 hours (and sometimes 48 hours) for your latest push to git@git.bioconductor.org:packages/KEGGlincs.git to reflect on this report. See How and When does the builder pull? When will my changes propagate? for more information. - Make sure to use the following settings in order to reproduce any error or warning you see on this page. |
Package 1005/2140 | Hostname | OS / Arch | INSTALL | BUILD | CHECK | BUILD BIN | ||||||||
KEGGlincs 1.22.0 (landing page) Shana White
| nebbiolo1 | Linux (Ubuntu 20.04.5 LTS) / x86_64 | OK | OK | OK | |||||||||
palomino3 | Windows Server 2022 Datacenter / x64 | OK | OK | OK | OK | |||||||||
merida1 | macOS 10.14.6 Mojave / x86_64 | OK | OK | OK | OK | |||||||||
Package: KEGGlincs |
Version: 1.22.0 |
Command: F:\biocbuild\bbs-3.15-bioc\R\bin\R.exe CMD check --no-multiarch --install=check:KEGGlincs.install-out.txt --library=F:\biocbuild\bbs-3.15-bioc\R\library --no-vignettes --timings KEGGlincs_1.22.0.tar.gz |
StartedAt: 2022-10-19 01:18:57 -0400 (Wed, 19 Oct 2022) |
EndedAt: 2022-10-19 01:22:35 -0400 (Wed, 19 Oct 2022) |
EllapsedTime: 217.5 seconds |
RetCode: 0 |
Status: OK |
CheckDir: KEGGlincs.Rcheck |
Warnings: 0 |
############################################################################## ############################################################################## ### ### Running command: ### ### F:\biocbuild\bbs-3.15-bioc\R\bin\R.exe CMD check --no-multiarch --install=check:KEGGlincs.install-out.txt --library=F:\biocbuild\bbs-3.15-bioc\R\library --no-vignettes --timings KEGGlincs_1.22.0.tar.gz ### ############################################################################## ############################################################################## * using log directory 'F:/biocbuild/bbs-3.15-bioc/meat/KEGGlincs.Rcheck' * using R version 4.2.1 (2022-06-23 ucrt) * using platform: x86_64-w64-mingw32 (64-bit) * using session charset: UTF-8 * using option '--no-vignettes' * checking for file 'KEGGlincs/DESCRIPTION' ... OK * checking extension type ... Package * this is package 'KEGGlincs' version '1.22.0' * checking package namespace information ... OK * checking package dependencies ... OK * checking if this is a source package ... OK * checking if there is a namespace ... OK * checking for hidden files and directories ... OK * checking for portable file names ... OK * checking whether package 'KEGGlincs' can be installed ... OK * checking installed package size ... OK * checking package directory ... OK * checking 'build' directory ... OK * checking DESCRIPTION meta-information ... OK * checking top-level files ... OK * checking for left-over files ... OK * checking index information ... OK * checking package subdirectories ... OK * checking R files for non-ASCII characters ... OK * checking R files for syntax errors ... OK * checking whether the package can be loaded ... OK * checking whether the package can be loaded with stated dependencies ... OK * checking whether the package can be unloaded cleanly ... OK * checking whether the namespace can be loaded with stated dependencies ... OK * checking whether the namespace can be unloaded cleanly ... OK * checking dependencies in R code ... NOTE Namespace in Imports field not imported from: 'XML' All declared Imports should be used. * checking S3 generic/method consistency ... OK * checking replacement functions ... OK * checking foreign function calls ... OK * checking R code for possible problems ... OK * checking Rd files ... OK * checking Rd metadata ... OK * checking Rd cross-references ... OK * checking for missing documentation entries ... OK * checking for code/documentation mismatches ... OK * checking Rd \usage sections ... OK * checking Rd contents ... OK * checking for unstated dependencies in examples ... OK * checking files in 'vignettes' ... OK * checking examples ... OK Examples with CPU (user + system) or elapsed time > 5s user system elapsed overlap_info 18.38 1.37 19.95 add_edge_data 15.92 1.59 20.36 edge_mapping_info 10.80 0.56 11.56 path_genes_by_cell_type 10.48 0.49 11.19 refine_mappings 8.98 0.55 9.78 get_graph_object 7.59 0.31 8.11 * checking for unstated dependencies in vignettes ... OK * checking package vignettes in 'inst/doc' ... OK * checking running R code from vignettes ... SKIPPED * checking re-building of vignette outputs ... SKIPPED * checking PDF version of manual ... OK * DONE Status: 1 NOTE See 'F:/biocbuild/bbs-3.15-bioc/meat/KEGGlincs.Rcheck/00check.log' for details.
KEGGlincs.Rcheck/00install.out
############################################################################## ############################################################################## ### ### Running command: ### ### F:\biocbuild\bbs-3.15-bioc\R\bin\R.exe CMD INSTALL KEGGlincs ### ############################################################################## ############################################################################## * installing to library 'F:/biocbuild/bbs-3.15-bioc/R/library' * installing *source* package 'KEGGlincs' ... ** using staged installation ** R ** inst ** byte-compile and prepare package for lazy loading ** help *** installing help indices ** building package indices ** installing vignettes ** testing if installed package can be loaded from temporary location ** testing if installed package can be loaded from final location ** testing if installed package keeps a record of temporary installation path * DONE (KEGGlincs)
KEGGlincs.Rcheck/KEGGlincs-Ex.timings
name | user | system | elapsed | |
KEGG_lincs | 0 | 0 | 0 | |
KL_compare | 0 | 0 | 0 | |
add_edge_data | 15.92 | 1.59 | 20.36 | |
cyto_vis | 0.31 | 0.00 | 0.67 | |
edge_mapping_info | 10.80 | 0.56 | 11.56 | |
expand_KEGG_edges | 0.22 | 0.00 | 0.42 | |
expand_KEGG_mappings | 0.31 | 0.02 | 0.52 | |
generate_mappings | 0 | 0 | 0 | |
get_KGML | 0.23 | 0.00 | 0.98 | |
get_fisher_info | 0.02 | 0.00 | 0.02 | |
get_graph_object | 7.59 | 0.31 | 8.11 | |
keggerize_edges | 0 | 0 | 0 | |
node_mapping_info | 0.19 | 0.00 | 0.37 | |
overlap_info | 18.38 | 1.37 | 19.95 | |
path_genes_by_cell_type | 10.48 | 0.49 | 11.19 | |
refine_mappings | 8.98 | 0.55 | 9.78 | |
tidy_edge | 0 | 0 | 0 | |