| Back to Multiple platform build/check report for BioC 3.15 |
|
This page was generated on 2022-03-18 11:07:51 -0400 (Fri, 18 Mar 2022).
| Hostname | OS | Arch (*) | R version | Installed pkgs |
|---|---|---|---|---|
| nebbiolo1 | Linux (Ubuntu 20.04.4 LTS) | x86_64 | R Under development (unstable) (2022-02-17 r81757) -- "Unsuffered Consequences" | 4334 |
| riesling1 | Windows Server 2019 Standard | x64 | R Under development (unstable) (2021-11-21 r81221) -- "Unsuffered Consequences" | 4097 |
| palomino3 | Windows Server 2022 Datacenter | x64 | R Under development (unstable) (2022-02-17 r81757 ucrt) -- "Unsuffered Consequences" | 4083 |
| merida1 | macOS 10.14.6 Mojave | x86_64 | R Under development (unstable) (2022-03-02 r81842) -- "Unsuffered Consequences" | 4134 |
| Click on any hostname to see more info about the system (e.g. compilers) (*) as reported by 'uname -p', except on Windows and Mac OS X | ||||
|
To the developers/maintainers of the KEGGgraph package: - Please allow up to 24 hours (and sometimes 48 hours) for your latest push to git@git.bioconductor.org:packages/KEGGgraph.git to reflect on this report. See How and When does the builder pull? When will my changes propagate? here for more information. - Make sure to use the following settings in order to reproduce any error or warning you see on this page. |
| Package 982/2090 | Hostname | OS / Arch | INSTALL | BUILD | CHECK | BUILD BIN | ||||||||
| KEGGgraph 1.55.0 (landing page) Jitao David Zhang
| nebbiolo1 | Linux (Ubuntu 20.04.4 LTS) / x86_64 | OK | OK | OK | |||||||||
| riesling1 | Windows Server 2019 Standard / x64 | OK | OK | OK | OK | |||||||||
| palomino3 | Windows Server 2022 Datacenter / x64 | OK | OK | OK | OK | |||||||||
| merida1 | macOS 10.14.6 Mojave / x86_64 | OK | OK | OK | OK | |||||||||
| Package: KEGGgraph |
| Version: 1.55.0 |
| Command: rm -rf KEGGgraph.buildbin-libdir && mkdir KEGGgraph.buildbin-libdir && D:\biocbuild\bbs-3.15-bioc\R\bin\R.exe CMD INSTALL --build --library=KEGGgraph.buildbin-libdir KEGGgraph_1.55.0.tar.gz |
| StartedAt: 2022-03-17 21:16:59 -0400 (Thu, 17 Mar 2022) |
| EndedAt: 2022-03-17 21:18:15 -0400 (Thu, 17 Mar 2022) |
| EllapsedTime: 76.3 seconds |
| RetCode: 0 |
| Status: OK |
| PackageFile: KEGGgraph_1.55.0.zip |
| PackageFileSize: 1.804 MiB |
##############################################################################
##############################################################################
###
### Running command:
###
### rm -rf KEGGgraph.buildbin-libdir && mkdir KEGGgraph.buildbin-libdir && D:\biocbuild\bbs-3.15-bioc\R\bin\R.exe CMD INSTALL --build --library=KEGGgraph.buildbin-libdir KEGGgraph_1.55.0.tar.gz
###
##############################################################################
##############################################################################
* installing *source* package 'KEGGgraph' ...
** using staged installation
** R
** data
*** moving datasets to lazyload DB
** inst
** byte-compile and prepare package for lazy loading
** help
*** installing help indices
converting help for package 'KEGGgraph'
finding HTML links ... done
KEGGEdge-class html
KEGGEdgeSubType-class html
KEGGEdgeSubtype html
KEGGEdgeType html
KEGGGraphics-class html
KEGGGroup-class html
KEGGNode-class html
KEGGNodeType html
KEGGPATHID2NAME html
KEGGPathway-class html
KEGGPathwayInfo-class html
KEGGReaction-class html
KEGGpathway2Graph html
KEGGpathway2reactionGraph html
expandKEGGNode html
expandKEGGPathway html
getDisplayName-methods html
getEntryID-methods html
getKEGGID-methods html
getKEGGgeneLink-methods html
getKEGGnodeData html
getKGMLurl html
getName-methods html
REDIRECT:topic Previous alias or file overwritten by alias: D:/biocbuild/bbs-3.15-bioc/meat/KEGGgraph.buildbin-libdir/00LOCK-KEGGgraph/00new/KEGGgraph/help/getName+2CKEGGEdgeSubtype-method.html
getNamedElement html
getPathwayInfo-methods html
getReactions-methods html
getRgraphvizEdgeNames html
getSubtype-methods html
getTitle-methods html
getType-methods html
getValue-methods html
REDIRECT:topic Previous alias or file overwritten by alias: D:/biocbuild/bbs-3.15-bioc/meat/KEGGgraph.buildbin-libdir/00LOCK-KEGGgraph/00new/KEGGgraph/help/getValue+2CKEGGEdgeSubtype-method.html
graphDensity html
isHomoList html
kgmlFileName2PathwayName html
mergeGraphs html
mergeKEGGgraphs html
neighborhood html
parseEntry html
parseGraphics html
parseKGML html
parseKGML2DataFrame html
parseKGML2Graph html
parseKGMLexpandMaps html
parsePathwayInfo html
parseReaction html
parseRelation html
parseSubType html
plotKEGGgraph html
pvalue2asterisk html
queryKEGGsubgraph html
randomSubGraph html
splitKEGGgroup html
subGraphByNodeType html
subKEGGgraph html
subtypeDisplay-methods html
top html
translateKEGGID2GeneID html
translateKEGGgraph html
** building package indices
** installing vignettes
** testing if installed package can be loaded from temporary location
** testing if installed package can be loaded from final location
** testing if installed package keeps a record of temporary installation path
* MD5 sums
packaged installation of 'KEGGgraph' as KEGGgraph_1.55.0.zip
* DONE (KEGGgraph)