| Back to Multiple platform build/check report for BioC 3.15 |
|
This page was generated on 2022-10-19 13:23:08 -0400 (Wed, 19 Oct 2022).
| Hostname | OS | Arch (*) | R version | Installed pkgs |
|---|---|---|---|---|
| nebbiolo1 | Linux (Ubuntu 20.04.5 LTS) | x86_64 | 4.2.1 (2022-06-23) -- "Funny-Looking Kid" | 4386 |
| palomino3 | Windows Server 2022 Datacenter | x64 | 4.2.1 (2022-06-23 ucrt) -- "Funny-Looking Kid" | 4138 |
| merida1 | macOS 10.14.6 Mojave | x86_64 | 4.2.1 (2022-06-23) -- "Funny-Looking Kid" | 4205 |
| Click on any hostname to see more info about the system (e.g. compilers) (*) as reported by 'uname -p', except on Windows and Mac OS X | ||||
|
To the developers/maintainers of the IntEREst package: - Please allow up to 24 hours (and sometimes 48 hours) for your latest push to git@git.bioconductor.org:packages/IntEREst.git to reflect on this report. See How and When does the builder pull? When will my changes propagate? for more information. - Make sure to use the following settings in order to reproduce any error or warning you see on this page. |
| Package 970/2140 | Hostname | OS / Arch | INSTALL | BUILD | CHECK | BUILD BIN | ||||||||
| IntEREst 1.20.0 (landing page) Ali Oghabian
| nebbiolo1 | Linux (Ubuntu 20.04.5 LTS) / x86_64 | OK | OK | OK | |||||||||
| palomino3 | Windows Server 2022 Datacenter / x64 | OK | OK | OK | OK | |||||||||
| merida1 | macOS 10.14.6 Mojave / x86_64 | OK | OK | OK | OK | |||||||||
| Package: IntEREst |
| Version: 1.20.0 |
| Command: /Library/Frameworks/R.framework/Resources/bin/R CMD check --install=check:IntEREst.install-out.txt --library=/Library/Frameworks/R.framework/Resources/library --no-vignettes --timings IntEREst_1.20.0.tar.gz |
| StartedAt: 2022-10-19 03:43:23 -0400 (Wed, 19 Oct 2022) |
| EndedAt: 2022-10-19 03:52:42 -0400 (Wed, 19 Oct 2022) |
| EllapsedTime: 559.2 seconds |
| RetCode: 0 |
| Status: OK |
| CheckDir: IntEREst.Rcheck |
| Warnings: 0 |
##############################################################################
##############################################################################
###
### Running command:
###
### /Library/Frameworks/R.framework/Resources/bin/R CMD check --install=check:IntEREst.install-out.txt --library=/Library/Frameworks/R.framework/Resources/library --no-vignettes --timings IntEREst_1.20.0.tar.gz
###
##############################################################################
##############################################################################
* using log directory ‘/Users/biocbuild/bbs-3.15-bioc/meat/IntEREst.Rcheck’
* using R version 4.2.1 (2022-06-23)
* using platform: x86_64-apple-darwin17.0 (64-bit)
* using session charset: UTF-8
* using option ‘--no-vignettes’
* checking for file ‘IntEREst/DESCRIPTION’ ... OK
* this is package ‘IntEREst’ version ‘1.20.0’
* checking package namespace information ... OK
* checking package dependencies ... OK
* checking if this is a source package ... OK
* checking if there is a namespace ... OK
* checking for hidden files and directories ... OK
* checking for portable file names ... OK
* checking for sufficient/correct file permissions ... OK
* checking whether package ‘IntEREst’ can be installed ... OK
* checking installed package size ... OK
* checking package directory ... OK
* checking ‘build’ directory ... OK
* checking DESCRIPTION meta-information ... OK
* checking top-level files ... OK
* checking for left-over files ... OK
* checking index information ... OK
* checking package subdirectories ... OK
* checking R files for non-ASCII characters ... OK
* checking R files for syntax errors ... OK
* checking whether the package can be loaded ... OK
* checking whether the package can be loaded with stated dependencies ... OK
* checking whether the package can be unloaded cleanly ... OK
* checking whether the namespace can be loaded with stated dependencies ... OK
* checking whether the namespace can be unloaded cleanly ... OK
* checking dependencies in R code ... OK
* checking S3 generic/method consistency ... OK
* checking replacement functions ... OK
* checking foreign function calls ... OK
* checking R code for possible problems ... OK
* checking Rd files ... OK
* checking Rd metadata ... OK
* checking Rd cross-references ... OK
* checking for missing documentation entries ... OK
* checking for code/documentation mismatches ... OK
* checking Rd \usage sections ... OK
* checking Rd contents ... OK
* checking for unstated dependencies in examples ... OK
* checking contents of ‘data’ directory ... OK
* checking data for non-ASCII characters ... OK
* checking LazyData ... OK
* checking data for ASCII and uncompressed saves ... OK
* checking files in ‘vignettes’ ... OK
* checking examples ... OK
Examples with CPU (user + system) or elapsed time > 5s
user system elapsed
DEXSeqIntEREst 42.328 0.345 42.767
deseqInterest 10.126 0.088 10.271
* checking for unstated dependencies in vignettes ... OK
* checking package vignettes in ‘inst/doc’ ... OK
* checking running R code from vignettes ... SKIPPED
* checking re-building of vignette outputs ... SKIPPED
* checking PDF version of manual ... OK
* DONE
Status: OK
IntEREst.Rcheck/00install.out
############################################################################## ############################################################################## ### ### Running command: ### ### /Library/Frameworks/R.framework/Resources/bin/R CMD INSTALL IntEREst ### ############################################################################## ############################################################################## * installing to library ‘/Library/Frameworks/R.framework/Versions/4.2/Resources/library’ * installing *source* package ‘IntEREst’ ... ** using staged installation ** R ** data *** moving datasets to lazyload DB ** inst ** byte-compile and prepare package for lazy loading ** help *** installing help indices ** building package indices ** installing vignettes ** testing if installed package can be loaded from temporary location ** testing if installed package can be loaded from final location ** testing if installed package keeps a record of temporary installation path * DONE (IntEREst)
IntEREst.Rcheck/IntEREst-Ex.timings
| name | user | system | elapsed | |
| DEXSeqIntEREst | 42.328 | 0.345 | 42.767 | |
| addAnnotation | 0.052 | 0.001 | 0.052 | |
| annotateU12 | 4.845 | 0.097 | 4.950 | |
| applyOverlap | 0.327 | 0.001 | 0.329 | |
| attributes | 0.058 | 0.001 | 0.060 | |
| boxplot-method | 0.096 | 0.002 | 0.097 | |
| buildSsTypePwms | 0 | 0 | 0 | |
| counts-method | 0.053 | 0.002 | 0.055 | |
| deseqInterest | 10.126 | 0.088 | 10.271 | |
| exactTestInterest | 0.175 | 0.002 | 0.178 | |
| getRepeatTable | 0.000 | 0.000 | 0.001 | |
| glmInterest | 0.209 | 0.002 | 0.212 | |
| interest | 3.908 | 0.023 | 3.937 | |
| interest.sequential | 3.697 | 0.014 | 3.716 | |
| interestResult | 0.034 | 0.001 | 0.035 | |
| interestResultIntEx | 0.322 | 0.001 | 0.324 | |
| intexIndex | 0.005 | 0.000 | 0.004 | |
| lfc | 0.355 | 0.007 | 0.364 | |
| mergeInterestResult | 0.118 | 0.001 | 0.120 | |
| plot-method | 0.642 | 0.007 | 0.650 | |
| psi | 1.509 | 0.004 | 1.515 | |
| qlfInterest | 0.247 | 0.004 | 0.251 | |
| readInterestResults | 0.053 | 0.004 | 0.058 | |
| referencePrepare | 2.016 | 0.009 | 2.028 | |
| subInterestResult | 0.061 | 0.001 | 0.062 | |
| treatInterest | 0.210 | 0.003 | 0.213 | |
| u12Boxplot | 0.100 | 0.001 | 0.100 | |
| u12BoxplotNb | 0.128 | 0.001 | 0.129 | |
| u12DensityPlot | 0.387 | 0.007 | 0.394 | |
| u12Index | 0.009 | 0.000 | 0.008 | |
| u12NbIndex | 0.081 | 0.001 | 0.082 | |
| unionRefTr | 0.025 | 0.001 | 0.026 | |
| updateRowDataCol | 0.084 | 0.001 | 0.085 | |