Back to Multiple platform build/check report for BioC 3.15 |
|
This page was generated on 2022-10-19 13:20:25 -0400 (Wed, 19 Oct 2022).
Hostname | OS | Arch (*) | R version | Installed pkgs |
---|---|---|---|---|
nebbiolo1 | Linux (Ubuntu 20.04.5 LTS) | x86_64 | 4.2.1 (2022-06-23) -- "Funny-Looking Kid" | 4386 |
palomino3 | Windows Server 2022 Datacenter | x64 | 4.2.1 (2022-06-23 ucrt) -- "Funny-Looking Kid" | 4138 |
merida1 | macOS 10.14.6 Mojave | x86_64 | 4.2.1 (2022-06-23) -- "Funny-Looking Kid" | 4205 |
Click on any hostname to see more info about the system (e.g. compilers) (*) as reported by 'uname -p', except on Windows and Mac OS X |
To the developers/maintainers of the IRISFGM package: - Please allow up to 24 hours (and sometimes 48 hours) for your latest push to git@git.bioconductor.org:packages/IRISFGM.git to reflect on this report. See How and When does the builder pull? When will my changes propagate? for more information. - Make sure to use the following settings in order to reproduce any error or warning you see on this page. |
Package 980/2140 | Hostname | OS / Arch | INSTALL | BUILD | CHECK | BUILD BIN | ||||||||
IRISFGM 1.4.0 (landing page) Yuzhou Chang
| nebbiolo1 | Linux (Ubuntu 20.04.5 LTS) / x86_64 | OK | OK | OK | |||||||||
palomino3 | Windows Server 2022 Datacenter / x64 | OK | OK | OK | OK | |||||||||
merida1 | macOS 10.14.6 Mojave / x86_64 | OK | OK | OK | OK | |||||||||
Package: IRISFGM |
Version: 1.4.0 |
Command: /home/biocbuild/bbs-3.15-bioc/R/bin/R CMD check --install=check:IRISFGM.install-out.txt --library=/home/biocbuild/bbs-3.15-bioc/R/library --no-vignettes --timings IRISFGM_1.4.0.tar.gz |
StartedAt: 2022-10-18 20:14:53 -0400 (Tue, 18 Oct 2022) |
EndedAt: 2022-10-18 20:20:40 -0400 (Tue, 18 Oct 2022) |
EllapsedTime: 347.6 seconds |
RetCode: 0 |
Status: OK |
CheckDir: IRISFGM.Rcheck |
Warnings: 0 |
############################################################################## ############################################################################## ### ### Running command: ### ### /home/biocbuild/bbs-3.15-bioc/R/bin/R CMD check --install=check:IRISFGM.install-out.txt --library=/home/biocbuild/bbs-3.15-bioc/R/library --no-vignettes --timings IRISFGM_1.4.0.tar.gz ### ############################################################################## ############################################################################## * using log directory ‘/home/biocbuild/bbs-3.15-bioc/meat/IRISFGM.Rcheck’ * using R version 4.2.1 (2022-06-23) * using platform: x86_64-pc-linux-gnu (64-bit) * using session charset: UTF-8 * using option ‘--no-vignettes’ * checking for file ‘IRISFGM/DESCRIPTION’ ... OK * checking extension type ... Package * this is package ‘IRISFGM’ version ‘1.4.0’ * package encoding: UTF-8 * checking package namespace information ... OK * checking package dependencies ... OK * checking if this is a source package ... OK * checking if there is a namespace ... OK * checking for hidden files and directories ... OK * checking for portable file names ... OK * checking for sufficient/correct file permissions ... OK * checking whether package ‘IRISFGM’ can be installed ... OK * checking installed package size ... OK * checking package directory ... OK * checking ‘build’ directory ... OK * checking DESCRIPTION meta-information ... OK * checking top-level files ... OK * checking for left-over files ... OK * checking index information ... OK * checking package subdirectories ... OK * checking R files for non-ASCII characters ... OK * checking R files for syntax errors ... OK * checking whether the package can be loaded ... OK * checking whether the package can be loaded with stated dependencies ... OK * checking whether the package can be unloaded cleanly ... OK * checking whether the namespace can be loaded with stated dependencies ... OK * checking whether the namespace can be unloaded cleanly ... OK * checking dependencies in R code ... OK * checking S3 generic/method consistency ... OK * checking replacement functions ... OK * checking foreign function calls ... OK * checking R code for possible problems ... OK * checking Rd files ... OK * checking Rd metadata ... OK * checking Rd cross-references ... OK * checking for missing documentation entries ... OK * checking for code/documentation mismatches ... OK * checking Rd \usage sections ... OK * checking Rd contents ... OK * checking for unstated dependencies in examples ... OK * checking contents of ‘data’ directory ... OK * checking data for non-ASCII characters ... OK * checking data for ASCII and uncompressed saves ... OK * checking line endings in C/C++/Fortran sources/headers ... OK * checking line endings in Makefiles ... OK * checking compilation flags in Makevars ... OK * checking for GNU extensions in Makefiles ... OK * checking for portable use of $(BLAS_LIBS) and $(LAPACK_LIBS) ... OK * checking use of PKG_*FLAGS in Makefiles ... OK * checking compiled code ... NOTE Note: information on .o files is not available * checking files in ‘vignettes’ ... OK * checking examples ... OK * checking for unstated dependencies in vignettes ... OK * checking package vignettes in ‘inst/doc’ ... OK * checking running R code from vignettes ... SKIPPED * checking re-building of vignette outputs ... SKIPPED * checking PDF version of manual ... OK * DONE Status: 1 NOTE See ‘/home/biocbuild/bbs-3.15-bioc/meat/IRISFGM.Rcheck/00check.log’ for details.
IRISFGM.Rcheck/00install.out
############################################################################## ############################################################################## ### ### Running command: ### ### /home/biocbuild/bbs-3.15-bioc/R/bin/R CMD INSTALL IRISFGM ### ############################################################################## ############################################################################## * installing to library ‘/home/biocbuild/bbs-3.15-bioc/R/library’ * installing *source* package ‘IRISFGM’ ... ** using staged installation ** libs g++ -std=gnu++11 -I"/home/biocbuild/bbs-3.15-bioc/R/include" -DNDEBUG -I'/home/biocbuild/bbs-3.15-bioc/R/library/Rcpp/include' -I/usr/local/include -fopenmp -DVER=2.08 -fpic -g -O2 -Wall -c RcppExports.cpp -o RcppExports.o g++ -std=gnu++11 -I"/home/biocbuild/bbs-3.15-bioc/R/include" -DNDEBUG -I'/home/biocbuild/bbs-3.15-bioc/R/library/Rcpp/include' -I/usr/local/include -fopenmp -DVER=2.08 -fpic -g -O2 -Wall -c cluster.cpp -o cluster.o g++ -std=gnu++11 -I"/home/biocbuild/bbs-3.15-bioc/R/include" -DNDEBUG -I'/home/biocbuild/bbs-3.15-bioc/R/library/Rcpp/include' -I/usr/local/include -fopenmp -DVER=2.08 -fpic -g -O2 -Wall -c expand.cpp -o expand.o g++ -std=gnu++11 -I"/home/biocbuild/bbs-3.15-bioc/R/include" -DNDEBUG -I'/home/biocbuild/bbs-3.15-bioc/R/library/Rcpp/include' -I/usr/local/include -fopenmp -DVER=2.08 -fpic -g -O2 -Wall -c get_options.cpp -o get_options.o gcc -I"/home/biocbuild/bbs-3.15-bioc/R/include" -DNDEBUG -I'/home/biocbuild/bbs-3.15-bioc/R/library/Rcpp/include' -I/usr/local/include -fpic -g -O2 -Wall -c getline.c -o getline.o g++ -std=gnu++11 -I"/home/biocbuild/bbs-3.15-bioc/R/include" -DNDEBUG -I'/home/biocbuild/bbs-3.15-bioc/R/library/Rcpp/include' -I/usr/local/include -fopenmp -DVER=2.08 -fpic -g -O2 -Wall -c main.cpp -o main.o g++ -std=gnu++11 -I"/home/biocbuild/bbs-3.15-bioc/R/include" -DNDEBUG -I'/home/biocbuild/bbs-3.15-bioc/R/library/Rcpp/include' -I/usr/local/include -fopenmp -DVER=2.08 -fpic -g -O2 -Wall -c make_graph.cpp -o make_graph.o g++ -std=gnu++11 -I"/home/biocbuild/bbs-3.15-bioc/R/include" -DNDEBUG -I'/home/biocbuild/bbs-3.15-bioc/R/library/Rcpp/include' -I/usr/local/include -fopenmp -DVER=2.08 -fpic -g -O2 -Wall -c rcpp_irisfgm.cpp -o rcpp_irisfgm.o g++ -std=gnu++11 -I"/home/biocbuild/bbs-3.15-bioc/R/include" -DNDEBUG -I'/home/biocbuild/bbs-3.15-bioc/R/library/Rcpp/include' -I/usr/local/include -fopenmp -DVER=2.08 -fpic -g -O2 -Wall -c read_array.cpp -o read_array.o read_array.cpp: In function ‘void discretize_new(const char*)’: read_array.cpp:882:26: warning: format ‘%d’ expects argument of type ‘int’, but argument 4 has type ‘__gnu_cxx::__alloc_traits<std::allocator<long unsigned int>, long unsigned int>::value_type’ {aka ‘long unsigned int’} [-Wformat=] 882 | fprintf(F2, "%s_%d", genes_n[id], eflags[id][i]); | ~^ | | | int | %ld read_array.cpp:883:35: warning: comparison of integer expressions of different signedness: ‘std::size_t’ {aka ‘long unsigned int’} and ‘int’ [-Wsign-compare] 883 | for (std::size_t j = 0; j < cols; j++) { | ~~^~~~~~ read_array.cpp: In function ‘void discretize_rpkm(const char*)’: read_array.cpp:1376:26: warning: format ‘%d’ expects argument of type ‘int’, but argument 4 has type ‘__gnu_cxx::__alloc_traits<std::allocator<long unsigned int>, long unsigned int>::value_type’ {aka ‘long unsigned int’} [-Wformat=] 1376 | fprintf(F2, "%s_%d", genes_n[id], eflags[id][i]); | ~^ | | | int | %ld read_array.cpp:1377:35: warning: comparison of integer expressions of different signedness: ‘std::size_t’ {aka ‘long unsigned int’} and ‘int’ [-Wsign-compare] 1377 | for (std::size_t j = 0; j < cols; j++) { | ~~^~~~~~ g++ -std=gnu++11 -I"/home/biocbuild/bbs-3.15-bioc/R/include" -DNDEBUG -I'/home/biocbuild/bbs-3.15-bioc/R/library/Rcpp/include' -I/usr/local/include -fopenmp -DVER=2.08 -fpic -g -O2 -Wall -c struct.cpp -o struct.o struct.cpp: In function ‘void uglyTime(const char*, ...)’: struct.cpp:75:15: warning: variable ‘lastTime’ set but not used [-Wunused-but-set-variable] 75 | static long lastTime = 0; | ^~~~~~~~ g++ -std=gnu++11 -I"/home/biocbuild/bbs-3.15-bioc/R/include" -DNDEBUG -I'/home/biocbuild/bbs-3.15-bioc/R/library/Rcpp/include' -I/usr/local/include -fopenmp -DVER=2.08 -fpic -g -O2 -Wall -c write_block.cpp -o write_block.o g++ -std=gnu++11 -shared -L/home/biocbuild/bbs-3.15-bioc/R/lib -L/usr/local/lib -o IRISFGM.so RcppExports.o cluster.o expand.o get_options.o getline.o main.o make_graph.o rcpp_irisfgm.o read_array.o struct.o write_block.o -fopenmp -L/home/biocbuild/bbs-3.15-bioc/R/lib -lR installing to /home/biocbuild/bbs-3.15-bioc/R/library/00LOCK-IRISFGM/00new/IRISFGM/libs ** R ** data ** byte-compile and prepare package for lazy loading Creating a generic function from function ‘ReadFrom10X_h5’ in package ‘IRISFGM’ Creating a generic function from function ‘ReadFrom10X_folder’ in package ‘IRISFGM’ ** help *** installing help indices ** building package indices ** installing vignettes ** testing if installed package can be loaded from temporary location ** checking absolute paths in shared objects and dynamic libraries ** testing if installed package can be loaded from final location ** testing if installed package keeps a record of temporary installation path * DONE (IRISFGM)
IRISFGM.Rcheck/IRISFGM-Ex.timings
name | user | system | elapsed | |
AddMeta | 0.005 | 0.000 | 0.005 | |
CalBinaryMultiSignal | 0.338 | 0.004 | 0.342 | |
CalBinarySingleSignal | 0.318 | 0.004 | 0.322 | |
CreateIRISFGMObject | 0.000 | 0.002 | 0.002 | |
DotPlotPathway | 0.210 | 0.005 | 0.215 | |
FindClassBasedOnMC | 3.678 | 0.124 | 3.802 | |
FindGlobalMarkers | 0.854 | 0.004 | 0.857 | |
FindMarker | 0.230 | 0.008 | 0.238 | |
GetBinaryMultiSignal | 0.257 | 0.008 | 0.265 | |
GetBinarySingleSignal | 0.209 | 0.000 | 0.209 | |
GetLTMGmatrix | 0.221 | 0.000 | 0.221 | |
PlotDimension | 0.401 | 0.000 | 0.400 | |
PlotHeatmap | 0.331 | 0.016 | 0.346 | |
PlotMarkerHeatmap | 0.679 | 0.008 | 0.687 | |
PlotMeta | 1.450 | 0.072 | 1.522 | |
PlotModuleNetwork | 1.226 | 0.028 | 1.254 | |
PlotNetwork | 0.63 | 0.08 | 0.71 | |
ProcessData | 0.197 | 0.008 | 0.204 | |
RunBicluster | 2.989 | 0.096 | 3.085 | |
RunClassification | 0.466 | 0.012 | 0.478 | |
RunDimensionReduction | 4.905 | 0.088 | 4.993 | |
RunDiscretization | 0.200 | 0.008 | 0.208 | |
RunLTMG | 2.811 | 0.052 | 2.862 | |
RunPathway | 0.209 | 0.000 | 0.209 | |
SubsetData | 0.195 | 0.004 | 0.200 | |
getMeta | 0.197 | 0.008 | 0.206 | |