| Back to Multiple platform build/check report for BioC 3.15 |
|
This page was generated on 2022-03-18 11:07:43 -0400 (Fri, 18 Mar 2022).
| Hostname | OS | Arch (*) | R version | Installed pkgs |
|---|---|---|---|---|
| nebbiolo1 | Linux (Ubuntu 20.04.4 LTS) | x86_64 | R Under development (unstable) (2022-02-17 r81757) -- "Unsuffered Consequences" | 4334 |
| riesling1 | Windows Server 2019 Standard | x64 | R Under development (unstable) (2021-11-21 r81221) -- "Unsuffered Consequences" | 4097 |
| palomino3 | Windows Server 2022 Datacenter | x64 | R Under development (unstable) (2022-02-17 r81757 ucrt) -- "Unsuffered Consequences" | 4083 |
| merida1 | macOS 10.14.6 Mojave | x86_64 | R Under development (unstable) (2022-03-02 r81842) -- "Unsuffered Consequences" | 4134 |
| Click on any hostname to see more info about the system (e.g. compilers) (*) as reported by 'uname -p', except on Windows and Mac OS X | ||||
|
To the developers/maintainers of the HELP package: - Please allow up to 24 hours (and sometimes 48 hours) for your latest push to git@git.bioconductor.org:packages/HELP.git to reflect on this report. See How and When does the builder pull? When will my changes propagate? here for more information. - Make sure to use the following settings in order to reproduce any error or warning you see on this page. |
| Package 862/2090 | Hostname | OS / Arch | INSTALL | BUILD | CHECK | BUILD BIN | ||||||||
| HELP 1.53.0 (landing page) Reid F. Thompson
| nebbiolo1 | Linux (Ubuntu 20.04.4 LTS) / x86_64 | OK | OK | OK | |||||||||
| riesling1 | Windows Server 2019 Standard / x64 | OK | OK | OK | OK | |||||||||
| palomino3 | Windows Server 2022 Datacenter / x64 | OK | OK | OK | OK | |||||||||
| merida1 | macOS 10.14.6 Mojave / x86_64 | OK | OK | OK | OK | |||||||||
| Package: HELP |
| Version: 1.53.0 |
| Command: rm -rf HELP.buildbin-libdir && mkdir HELP.buildbin-libdir && D:\biocbuild\bbs-3.15-bioc\R\bin\R.exe CMD INSTALL --build --library=HELP.buildbin-libdir HELP_1.53.0.tar.gz |
| StartedAt: 2022-03-17 21:13:52 -0400 (Thu, 17 Mar 2022) |
| EndedAt: 2022-03-17 21:15:08 -0400 (Thu, 17 Mar 2022) |
| EllapsedTime: 75.7 seconds |
| RetCode: 0 |
| Status: OK |
| PackageFile: HELP_1.53.0.zip |
| PackageFileSize: 1.093 MiB |
##############################################################################
##############################################################################
###
### Running command:
###
### rm -rf HELP.buildbin-libdir && mkdir HELP.buildbin-libdir && D:\biocbuild\bbs-3.15-bioc\R\bin\R.exe CMD INSTALL --build --library=HELP.buildbin-libdir HELP_1.53.0.tar.gz
###
##############################################################################
##############################################################################
* installing *source* package 'HELP' ...
** using staged installation
** R
** data
** demo
** inst
** byte-compile and prepare package for lazy loading
** help
*** installing help indices
converting help for package 'HELP'
finding HTML links ... done
base.stacking.thermodynamics html
calcGC-methods html
calcGC html
calcPrototype-methods html
calcPrototype html
calcTm-methods html
calcTm html
combineData-methods html
combineData html
createWiggle-methods html
createWiggle html
exprs2-methods html
exprs2 html
fuzzyMatches-methods html
fuzzyMatches html
getFeatures-methods html
getFeatures html
getSamples-methods html
getSamples html
plotBins-methods html
plotBins html
plotChip-methods html
plotChip html
plotFeature-methods html
plotFeature html
plotPairs-methods html
plotPairs html
quantileNormalize-methods html
quantileNormalize html
readDesign-methods html
readDesign html
readPairs-methods html
readPairs html
readSampleKey html
** building package indices
** installing vignettes
** testing if installed package can be loaded from temporary location
** testing if installed package can be loaded from final location
** testing if installed package keeps a record of temporary installation path
* MD5 sums
packaged installation of 'HELP' as HELP_1.53.0.zip
* DONE (HELP)