| Back to Multiple platform build/check report for BioC 3.15 | 
  | 
This page was generated on 2022-03-17 11:07:55 -0400 (Thu, 17 Mar 2022).
| Hostname | OS | Arch (*) | R version | Installed pkgs | 
|---|---|---|---|---|
| nebbiolo1 | Linux (Ubuntu 20.04.4 LTS) | x86_64 | R Under development (unstable) (2022-02-17 r81757) -- "Unsuffered Consequences" | 4334 | 
| riesling1 | Windows Server 2019 Standard | x64 | R Under development (unstable) (2021-11-21 r81221) -- "Unsuffered Consequences" | 4060 | 
| palomino3 | Windows Server 2022 Datacenter | x64 | R Under development (unstable) (2022-02-17 r81757 ucrt) -- "Unsuffered Consequences" | 4083 | 
| merida1 | macOS 10.14.6 Mojave | x86_64 | R Under development (unstable) (2022-03-02 r81842) -- "Unsuffered Consequences" | 4134 | 
| Click on any hostname to see more info about the system (e.g. compilers) (*) as reported by 'uname -p', except on Windows and Mac OS X | ||||
| 
To the developers/maintainers of the Gviz package: - Please allow up to 24 hours (and sometimes 48 hours) for your latest push to git@git.bioconductor.org:packages/Gviz.git to reflect on this report. See How and When does the builder pull? When will my changes propagate? here for more information. - Make sure to use the following settings in order to reproduce any error or warning you see on this page.  | 
| Package 846/2090 | Hostname | OS / Arch | INSTALL | BUILD | CHECK | BUILD BIN | ||||||||
| Gviz 1.39.5  (landing page) Robert Ivanek 
  | nebbiolo1 | Linux (Ubuntu 20.04.4 LTS) / x86_64 | OK | OK | OK | |||||||||
| riesling1 | Windows Server 2019 Standard / x64 | OK | OK | OK | OK | |||||||||
| palomino3 | Windows Server 2022 Datacenter / x64 | OK | OK | OK | OK | |||||||||
| merida1 | macOS 10.14.6 Mojave / x86_64 | OK | OK | OK | OK | |||||||||
| Package: Gviz | 
| Version: 1.39.5 | 
| Command: rm -rf Gviz.buildbin-libdir && mkdir Gviz.buildbin-libdir && D:\biocbuild\bbs-3.15-bioc\R\bin\R.exe CMD INSTALL --build --library=Gviz.buildbin-libdir Gviz_1.39.5.tar.gz | 
| StartedAt: 2022-03-16 21:05:34 -0400 (Wed, 16 Mar 2022) | 
| EndedAt: 2022-03-16 21:06:44 -0400 (Wed, 16 Mar 2022) | 
| EllapsedTime: 70.3 seconds | 
| RetCode: 0 | 
| Status: OK | 
| PackageFile: Gviz_1.39.5.zip | 
| PackageFileSize: 6.073 MiB | 
##############################################################################
##############################################################################
###
### Running command:
###
###   rm -rf Gviz.buildbin-libdir && mkdir Gviz.buildbin-libdir && D:\biocbuild\bbs-3.15-bioc\R\bin\R.exe CMD INSTALL --build --library=Gviz.buildbin-libdir Gviz_1.39.5.tar.gz
###
##############################################################################
##############################################################################
* installing *source* package 'Gviz' ...
** using staged installation
** R
** data
** inst
** byte-compile and prepare package for lazy loading
** help
*** installing help indices
  converting help for package 'Gviz'
    finding HTML links ... done
    AlignmentsTrack-class                   html  
    finding level-2 HTML links ... done
    AnnotationTrack-class                   html  
    BiomartGeneRegionTrack-class            html  
    CustomTrack-class                       html  
    DataTrack-class                         html  
    DisplayPars-class                       html  
REDIRECT:topic	 Previous alias or file overwritten by alias: D:/biocbuild/bbs-3.15-bioc/meat/Gviz.buildbin-libdir/00LOCK-Gviz/00new/Gviz/help/displayPars.html
    GdObject-class                          html  
    GeneRegionTrack-class                   html  
    GenomeAxisTrack-class                   html  
    Gviz-defunct                            html  
    Gviz-deprecated                         html  
    HighlightTrack-class                    html  
    IdeogramTrack-class                     html  
    ImageMap-class                          html  
    NumericTrack-class                      html  
    OverlayTrack-class                      html  
    RangeTrack-class                        html  
    ReferenceTrack-class                    html  
    SequenceTrack-class                     html  
    StackedTrack-class                      html  
    UcscTrack                               html  
    collapsing                              html  
    datasets                                html  
REDIRECT:topic	 Previous alias or file overwritten by alias: D:/biocbuild/bbs-3.15-bioc/meat/Gviz.buildbin-libdir/00LOCK-Gviz/00new/Gviz/help/itrack.html
    exportTracks                            html  
    grouping                                html  
    plotTracks                              html  
    settings                                html  
** building package indices
** installing vignettes
** testing if installed package can be loaded from temporary location
** testing if installed package can be loaded from final location
** testing if installed package keeps a record of temporary installation path
* MD5 sums
packaged installation of 'Gviz' as Gviz_1.39.5.zip
* DONE (Gviz)