Back to Multiple platform build/check report for BioC 3.15 |
|
This page was generated on 2022-03-18 11:07:38 -0400 (Fri, 18 Mar 2022).
Hostname | OS | Arch (*) | R version | Installed pkgs |
---|---|---|---|---|
nebbiolo1 | Linux (Ubuntu 20.04.4 LTS) | x86_64 | R Under development (unstable) (2022-02-17 r81757) -- "Unsuffered Consequences" | 4334 |
riesling1 | Windows Server 2019 Standard | x64 | R Under development (unstable) (2021-11-21 r81221) -- "Unsuffered Consequences" | 4097 |
palomino3 | Windows Server 2022 Datacenter | x64 | R Under development (unstable) (2022-02-17 r81757 ucrt) -- "Unsuffered Consequences" | 4083 |
merida1 | macOS 10.14.6 Mojave | x86_64 | R Under development (unstable) (2022-03-02 r81842) -- "Unsuffered Consequences" | 4134 |
Click on any hostname to see more info about the system (e.g. compilers) (*) as reported by 'uname -p', except on Windows and Mac OS X |
To the developers/maintainers of the GeoDiff package: - Please allow up to 24 hours (and sometimes 48 hours) for your latest push to git@git.bioconductor.org:packages/GeoDiff.git to reflect on this report. See How and When does the builder pull? When will my changes propagate? here for more information. - Make sure to use the following settings in order to reproduce any error or warning you see on this page. |
Package 765/2090 | Hostname | OS / Arch | INSTALL | BUILD | CHECK | BUILD BIN | ||||||||
GeoDiff 1.1.2 (landing page) Nicole Ortogero
| nebbiolo1 | Linux (Ubuntu 20.04.4 LTS) / x86_64 | OK | OK | OK | |||||||||
riesling1 | Windows Server 2019 Standard / x64 | OK | OK | OK | OK | |||||||||
palomino3 | Windows Server 2022 Datacenter / x64 | OK | OK | OK | OK | |||||||||
merida1 | macOS 10.14.6 Mojave / x86_64 | OK | OK | OK | OK | |||||||||
Package: GeoDiff |
Version: 1.1.2 |
Command: D:\biocbuild\bbs-3.15-bioc\R\bin\R.exe CMD check --no-multiarch --install=check:GeoDiff.install-out.txt --library=D:\biocbuild\bbs-3.15-bioc\R\library --no-vignettes --timings GeoDiff_1.1.2.tar.gz |
StartedAt: 2022-03-17 19:11:39 -0400 (Thu, 17 Mar 2022) |
EndedAt: 2022-03-17 19:15:52 -0400 (Thu, 17 Mar 2022) |
EllapsedTime: 253.4 seconds |
RetCode: 0 |
Status: OK |
CheckDir: GeoDiff.Rcheck |
Warnings: 0 |
############################################################################## ############################################################################## ### ### Running command: ### ### D:\biocbuild\bbs-3.15-bioc\R\bin\R.exe CMD check --no-multiarch --install=check:GeoDiff.install-out.txt --library=D:\biocbuild\bbs-3.15-bioc\R\library --no-vignettes --timings GeoDiff_1.1.2.tar.gz ### ############################################################################## ############################################################################## * using log directory 'D:/biocbuild/bbs-3.15-bioc/meat/GeoDiff.Rcheck' * using R Under development (unstable) (2021-11-21 r81221) * using platform: x86_64-w64-mingw32 (64-bit) * using session charset: ISO8859-1 * using option '--no-vignettes' * checking for file 'GeoDiff/DESCRIPTION' ... OK * checking extension type ... Package * this is package 'GeoDiff' version '1.1.2' * package encoding: UTF-8 * checking package namespace information ... OK * checking package dependencies ... OK * checking if this is a source package ... OK * checking if there is a namespace ... OK * checking for hidden files and directories ... OK * checking for portable file names ... OK * checking whether package 'GeoDiff' can be installed ... OK * checking installed package size ... NOTE installed size is 6.0Mb sub-directories of 1Mb or more: data 4.2Mb libs 1.4Mb * checking package directory ... OK * checking 'build' directory ... OK * checking DESCRIPTION meta-information ... OK * checking top-level files ... OK * checking for left-over files ... OK * checking index information ... OK * checking package subdirectories ... OK * checking R files for non-ASCII characters ... OK * checking R files for syntax errors ... OK * checking whether the package can be loaded ... OK * checking whether the package can be loaded with stated dependencies ... OK * checking whether the package can be unloaded cleanly ... OK * checking whether the namespace can be loaded with stated dependencies ... OK * checking whether the namespace can be unloaded cleanly ... OK * checking dependencies in R code ... OK * checking S3 generic/method consistency ... OK * checking replacement functions ... OK * checking foreign function calls ... OK * checking R code for possible problems ... OK * checking Rd files ... OK * checking Rd metadata ... OK * checking Rd cross-references ... OK * checking for missing documentation entries ... OK * checking for code/documentation mismatches ... OK * checking Rd \usage sections ... OK * checking Rd contents ... OK * checking for unstated dependencies in examples ... OK * checking contents of 'data' directory ... OK * checking data for non-ASCII characters ... OK * checking data for ASCII and uncompressed saves ... OK * checking line endings in C/C++/Fortran sources/headers ... OK * checking line endings in Makefiles ... OK * checking compilation flags in Makevars ... OK * checking for GNU extensions in Makefiles ... OK * checking for portable use of $(BLAS_LIBS) and $(LAPACK_LIBS) ... OK * checking use of PKG_*FLAGS in Makefiles ... OK * checking compiled code ... NOTE Note: information on .o files for x64 is not available File 'D:/biocbuild/bbs-3.15-bioc/R/library/GeoDiff/libs/x64/GeoDiff.dll': Found '_exit', possibly from '_exit' (C) Found 'abort', possibly from 'abort' (C), 'runtime' (Fortran) Found 'exit', possibly from 'exit' (C), 'stop' (Fortran) Found 'printf', possibly from 'printf' (C) Compiled code should not call entry points which might terminate R nor write to stdout/stderr instead of to the console, nor use Fortran I/O nor system RNGs. The detected symbols are linked into the code but might come from libraries and not actually be called. See 'Writing portable packages' in the 'Writing R Extensions' manual. * checking files in 'vignettes' ... OK * checking examples ... OK Examples with CPU (user + system) or elapsed time > 5s user system elapsed fitPoisthNorm-methods 46.95 0.48 47.43 fitNBthmDE-methods 13.61 0.36 13.97 fitNBthDE-methods 11.77 0.28 12.05 fitNBth-methods 8.62 0.29 8.92 QuanRange-methods 5.16 1.15 6.31 * checking for unstated dependencies in 'tests' ... OK * checking tests ... Running 'testthat.R' OK * checking for unstated dependencies in vignettes ... OK * checking package vignettes in 'inst/doc' ... OK * checking running R code from vignettes ... SKIPPED * checking re-building of vignette outputs ... SKIPPED * checking PDF version of manual ... OK * DONE Status: 2 NOTEs See 'D:/biocbuild/bbs-3.15-bioc/meat/GeoDiff.Rcheck/00check.log' for details.
GeoDiff.Rcheck/00install.out
############################################################################## ############################################################################## ### ### Running command: ### ### D:\biocbuild\bbs-3.15-bioc\R\bin\R.exe CMD INSTALL GeoDiff ### ############################################################################## ############################################################################## * installing to library 'D:/biocbuild/bbs-3.15-bioc/R/library' * installing *source* package 'GeoDiff' ... ** using staged installation ** libs "C:/rtools40/mingw64/bin/"g++ -std=gnu++11 -I"D:/biocbuild/bbs-3.15-bioc/R/include" -DNDEBUG -I'D:/biocbuild/bbs-3.15-bioc/R/library/Rcpp/include' -I'D:/biocbuild/bbs-3.15-bioc/R/library/RcppArmadillo/include' -I'D:/biocbuild/bbs-3.15-bioc/R/library/roptim/include' -I"C:/extsoft/include" -fopenmp -O2 -Wall -mfpmath=sse -msse2 -mstackrealign -fno-reorder-blocks-and-partition -c NBthDEOptPara.cpp -o NBthDEOptPara.o NBthDEOptPara.cpp: In member function 'virtual double NBthDE_paranll::operator()(const vec&)': NBthDEOptPara.cpp:34:9: warning: unused variable 'm' [-Wunused-variable] int m = y.n_elem; ^ NBthDEOptPara.cpp: In member function 'virtual void NBthDE_paranll::Gradient(const vec&, arma::vec&)': NBthDEOptPara.cpp:85:22: warning: comparison of integer expressions of different signedness: 'int' and 'const uword' {aka 'const unsigned int'} [-Wsign-compare] for(int k = 0; k < y.n_elem; k++){ ~~^~~~~~~~~~ NBthDEOptPara.cpp:58:9: warning: unused variable 'm' [-Wunused-variable] int m = y.n_elem; ^ "C:/rtools40/mingw64/bin/"g++ -std=gnu++11 -I"D:/biocbuild/bbs-3.15-bioc/R/include" -DNDEBUG -I'D:/biocbuild/bbs-3.15-bioc/R/library/Rcpp/include' -I'D:/biocbuild/bbs-3.15-bioc/R/library/RcppArmadillo/include' -I'D:/biocbuild/bbs-3.15-bioc/R/library/roptim/include' -I"C:/extsoft/include" -fopenmp -O2 -Wall -mfpmath=sse -msse2 -mstackrealign -fno-reorder-blocks-and-partition -c NBthmDEGrad.cpp -o NBthmDEGrad.o NBthmDEGrad.cpp: In function 'arma::vec NBthmDE_grad(arma::vec&, arma::mat&, arma::mat&, arma::vec&, arma::vec&, arma::vec&, arma::vec&, arma::mat&, double, double)': NBthmDEGrad.cpp:34:20: warning: comparison of integer expressions of different signedness: 'int' and 'const uword' {aka 'const unsigned int'} [-Wsign-compare] for(int i = 0; i < y.n_elem; i++){ ~~^~~~~~~~~~ NBthmDEGrad.cpp: In function 'arma::mat NBthmDE_gradM(arma::vec&, arma::mat&, arma::mat&, arma::vec&, arma::mat&, arma::vec&, arma::vec&, arma::mat&, double, double)': NBthmDEGrad.cpp:90:24: warning: comparison of integer expressions of different signedness: 'int' and 'const uword' {aka 'const unsigned int'} [-Wsign-compare] for(int k = 0; k < y.n_elem; k++){ ~~^~~~~~~~~~ "C:/rtools40/mingw64/bin/"g++ -std=gnu++11 -I"D:/biocbuild/bbs-3.15-bioc/R/include" -DNDEBUG -I'D:/biocbuild/bbs-3.15-bioc/R/library/Rcpp/include' -I'D:/biocbuild/bbs-3.15-bioc/R/library/RcppArmadillo/include' -I'D:/biocbuild/bbs-3.15-bioc/R/library/roptim/include' -I"C:/extsoft/include" -fopenmp -O2 -Wall -mfpmath=sse -msse2 -mstackrealign -fno-reorder-blocks-and-partition -c NBthmDEMH.cpp -o NBthmDEMH.o "C:/rtools40/mingw64/bin/"g++ -std=gnu++11 -I"D:/biocbuild/bbs-3.15-bioc/R/include" -DNDEBUG -I'D:/biocbuild/bbs-3.15-bioc/R/library/Rcpp/include' -I'D:/biocbuild/bbs-3.15-bioc/R/library/RcppArmadillo/include' -I'D:/biocbuild/bbs-3.15-bioc/R/library/roptim/include' -I"C:/extsoft/include" -fopenmp -O2 -Wall -mfpmath=sse -msse2 -mstackrealign -fno-reorder-blocks-and-partition -c NBthmDEOptPara.cpp -o NBthmDEOptPara.o NBthmDEOptPara.cpp: In member function 'virtual void NBthmDE_fparanll::Gradient(const vec&, arma::vec&)': NBthmDEOptPara.cpp:107:24: warning: comparison of integer expressions of different signedness: 'int' and 'const uword' {aka 'const unsigned int'} [-Wsign-compare] for(int k = 0; k < y.n_elem; k++){ ~~^~~~~~~~~~ "C:/rtools40/mingw64/bin/"g++ -std=gnu++11 -I"D:/biocbuild/bbs-3.15-bioc/R/include" -DNDEBUG -I'D:/biocbuild/bbs-3.15-bioc/R/library/Rcpp/include' -I'D:/biocbuild/bbs-3.15-bioc/R/library/RcppArmadillo/include' -I'D:/biocbuild/bbs-3.15-bioc/R/library/roptim/include' -I"C:/extsoft/include" -fopenmp -O2 -Wall -mfpmath=sse -msse2 -mstackrealign -fno-reorder-blocks-and-partition -c NBthmDEOptU.cpp -o NBthmDEOptU.o "C:/rtools40/mingw64/bin/"g++ -std=gnu++11 -I"D:/biocbuild/bbs-3.15-bioc/R/include" -DNDEBUG -I'D:/biocbuild/bbs-3.15-bioc/R/library/Rcpp/include' -I'D:/biocbuild/bbs-3.15-bioc/R/library/RcppArmadillo/include' -I'D:/biocbuild/bbs-3.15-bioc/R/library/roptim/include' -I"C:/extsoft/include" -fopenmp -O2 -Wall -mfpmath=sse -msse2 -mstackrealign -fno-reorder-blocks-and-partition -c PoisthNormOptPara.cpp -o PoisthNormOptPara.o "C:/rtools40/mingw64/bin/"g++ -std=gnu++11 -I"D:/biocbuild/bbs-3.15-bioc/R/include" -DNDEBUG -I'D:/biocbuild/bbs-3.15-bioc/R/library/Rcpp/include' -I'D:/biocbuild/bbs-3.15-bioc/R/library/RcppArmadillo/include' -I'D:/biocbuild/bbs-3.15-bioc/R/library/roptim/include' -I"C:/extsoft/include" -fopenmp -O2 -Wall -mfpmath=sse -msse2 -mstackrealign -fno-reorder-blocks-and-partition -c RcppExports.cpp -o RcppExports.o "C:/rtools40/mingw64/bin/"g++ -std=gnu++11 -I"D:/biocbuild/bbs-3.15-bioc/R/include" -DNDEBUG -I'D:/biocbuild/bbs-3.15-bioc/R/library/Rcpp/include' -I'D:/biocbuild/bbs-3.15-bioc/R/library/RcppArmadillo/include' -I'D:/biocbuild/bbs-3.15-bioc/R/library/roptim/include' -I"C:/extsoft/include" -fopenmp -O2 -Wall -mfpmath=sse -msse2 -mstackrealign -fno-reorder-blocks-and-partition -c dnbinom_mu_vec.cpp -o dnbinom_mu_vec.o C:/rtools40/mingw64/bin/g++ -shared -s -static-libgcc -o GeoDiff.dll tmp.def NBthDEOptPara.o NBthmDEGrad.o NBthmDEMH.o NBthmDEOptPara.o NBthmDEOptU.o PoisthNormOptPara.o RcppExports.o dnbinom_mu_vec.o -fopenmp -LD:/biocbuild/bbs-3.15-bioc/R/bin/x64 -lRlapack -LD:/biocbuild/bbs-3.15-bioc/R/bin/x64 -lRblas -lgfortran -lm -lquadmath -LC:/extsoft/lib/x64 -LC:/extsoft/lib -LD:/biocbuild/bbs-3.15-bioc/R/bin/x64 -lR installing to D:/biocbuild/bbs-3.15-bioc/R/library/00LOCK-GeoDiff/00new/GeoDiff/libs/x64 ** R ** data ** byte-compile and prepare package for lazy loading ** help *** installing help indices converting help for package 'GeoDiff' finding HTML links ... done BGScoreTest-methods html BGScoreTest_sp-methods html DENBth-methods html NBthDEmod2 html NBthmDEmod2 html NBthmDEmod2slope html QuanRange-methods html aggreprobe-methods html coefNBth-methods html contrastNBth-methods html demoData html diagPoisBG-methods html fitNBth-methods html fitNBthDE-methods html fitNBthmDE-methods html fitPoisBG-methods html fitPoisBG_sp-methods html fitPoisthNorm-methods html fitPoisthNorm_sp-methods html kidney html ** building package indices ** installing vignettes ** testing if installed package can be loaded from temporary location ** testing if installed package can be loaded from final location ** testing if installed package keeps a record of temporary installation path * DONE (GeoDiff) Making 'packages.html' ...Warning in packageDescription(i, lib.loc = lib, fields = "Title", encoding = "UTF-8") : DESCRIPTION file of package 'kebabs' is missing or broken Warning in packageDescription(i, lib.loc = lib, fields = "Title", encoding = "UTF-8") : DESCRIPTION file of package 'Rmagpie' is missing or broken done
GeoDiff.Rcheck/tests/testthat.Rout
R Under development (unstable) (2021-11-21 r81221) -- "Unsuffered Consequences" Copyright (C) 2021 The R Foundation for Statistical Computing Platform: x86_64-w64-mingw32/x64 (64-bit) R is free software and comes with ABSOLUTELY NO WARRANTY. You are welcome to redistribute it under certain conditions. Type 'license()' or 'licence()' for distribution details. R is a collaborative project with many contributors. Type 'contributors()' for more information and 'citation()' on how to cite R or R packages in publications. Type 'demo()' for some demos, 'help()' for on-line help, or 'help.start()' for an HTML browser interface to help. Type 'q()' to quit R. > library(testthat) > library(GeoDiff) Loading required package: Biobase Loading required package: BiocGenerics Attaching package: 'BiocGenerics' The following objects are masked from 'package:stats': IQR, mad, sd, var, xtabs The following objects are masked from 'package:base': Filter, Find, Map, Position, Reduce, anyDuplicated, append, as.data.frame, basename, cbind, colnames, dirname, do.call, duplicated, eval, evalq, get, grep, grepl, intersect, is.unsorted, lapply, mapply, match, mget, order, paste, pmax, pmax.int, pmin, pmin.int, rank, rbind, rownames, sapply, setdiff, sort, table, tapply, union, unique, unsplit, which.max, which.min Welcome to Bioconductor Vignettes contain introductory material; view with 'browseVignettes()'. To cite Bioconductor, see 'citation("Biobase")', and for packages 'citation("pkgname")'. > library(Biobase) > > proc.time() user system elapsed 5.62 0.39 6.00
GeoDiff.Rcheck/GeoDiff-Ex.timings
name | user | system | elapsed | |
BGScoreTest-methods | 3.64 | 0.42 | 4.06 | |
DENBth-methods | 0.01 | 0.00 | 0.02 | |
NBthDEmod2 | 0.03 | 0.05 | 0.08 | |
NBthmDEmod2 | 0.02 | 0.00 | 0.02 | |
NBthmDEmod2slope | 0.01 | 0.02 | 0.03 | |
QuanRange-methods | 5.16 | 1.15 | 6.31 | |
aggreprobe-methods | 1.34 | 0.25 | 1.59 | |
coefNBth-methods | 0.02 | 0.00 | 0.02 | |
contrastNBth-methods | 0.00 | 0.02 | 0.02 | |
demoData | 0.23 | 0.05 | 0.28 | |
diagPoisBG-methods | 1.10 | 0.11 | 1.20 | |
fitNBth-methods | 8.62 | 0.29 | 8.92 | |
fitNBthDE-methods | 11.77 | 0.28 | 12.05 | |
fitNBthmDE-methods | 13.61 | 0.36 | 13.97 | |
fitPoisBG-methods | 0.51 | 0.10 | 0.61 | |
fitPoisthNorm-methods | 46.95 | 0.48 | 47.43 | |
kidney | 0.32 | 0.13 | 0.44 | |