| Back to Multiple platform build/check report for BioC 3.15 |
|
This page was generated on 2022-03-18 11:07:37 -0400 (Fri, 18 Mar 2022).
| Hostname | OS | Arch (*) | R version | Installed pkgs |
|---|---|---|---|---|
| nebbiolo1 | Linux (Ubuntu 20.04.4 LTS) | x86_64 | R Under development (unstable) (2022-02-17 r81757) -- "Unsuffered Consequences" | 4334 |
| riesling1 | Windows Server 2019 Standard | x64 | R Under development (unstable) (2021-11-21 r81221) -- "Unsuffered Consequences" | 4097 |
| palomino3 | Windows Server 2022 Datacenter | x64 | R Under development (unstable) (2022-02-17 r81757 ucrt) -- "Unsuffered Consequences" | 4083 |
| merida1 | macOS 10.14.6 Mojave | x86_64 | R Under development (unstable) (2022-03-02 r81842) -- "Unsuffered Consequences" | 4134 |
| Click on any hostname to see more info about the system (e.g. compilers) (*) as reported by 'uname -p', except on Windows and Mac OS X | ||||
|
To the developers/maintainers of the GenVisR package: - Please allow up to 24 hours (and sometimes 48 hours) for your latest push to git@git.bioconductor.org:packages/GenVisR.git to reflect on this report. See How and When does the builder pull? When will my changes propagate? here for more information. - Make sure to use the following settings in order to reproduce any error or warning you see on this page. |
| Package 764/2090 | Hostname | OS / Arch | INSTALL | BUILD | CHECK | BUILD BIN | ||||||||
| GenVisR 1.27.1 (landing page) Zachary Skidmore
| nebbiolo1 | Linux (Ubuntu 20.04.4 LTS) / x86_64 | OK | OK | OK | |||||||||
| riesling1 | Windows Server 2019 Standard / x64 | OK | OK | OK | OK | |||||||||
| palomino3 | Windows Server 2022 Datacenter / x64 | OK | OK | OK | OK | |||||||||
| merida1 | macOS 10.14.6 Mojave / x86_64 | OK | OK | OK | OK | |||||||||
| Package: GenVisR |
| Version: 1.27.1 |
| Command: rm -rf GenVisR.buildbin-libdir && mkdir GenVisR.buildbin-libdir && D:\biocbuild\bbs-3.15-bioc\R\bin\R.exe CMD INSTALL --build --library=GenVisR.buildbin-libdir GenVisR_1.27.1.tar.gz |
| StartedAt: 2022-03-17 21:11:10 -0400 (Thu, 17 Mar 2022) |
| EndedAt: 2022-03-17 21:13:44 -0400 (Thu, 17 Mar 2022) |
| EllapsedTime: 153.7 seconds |
| RetCode: 0 |
| Status: OK |
| PackageFile: GenVisR_1.27.1.zip |
| PackageFileSize: 4.703 MiB |
##############################################################################
##############################################################################
###
### Running command:
###
### rm -rf GenVisR.buildbin-libdir && mkdir GenVisR.buildbin-libdir && D:\biocbuild\bbs-3.15-bioc\R\bin\R.exe CMD INSTALL --build --library=GenVisR.buildbin-libdir GenVisR_1.27.1.tar.gz
###
##############################################################################
##############################################################################
* installing *source* package 'GenVisR' ...
** using staged installation
** R
** data
*** moving datasets to lazyload DB
** inst
** byte-compile and prepare package for lazy loading
** help
*** installing help indices
converting help for package 'GenVisR'
finding HTML links ... done
Clinical-class html
GMS-class html
GMS_Virtual-class html
GMS_v4-class html
GenVisR html
HCC1395_Germline html
HCC1395_N html
HCC1395_T html
Lolliplot-class html
LucCNseg html
MutSpectra-class html
MutationAnnotationFormat-class html
MutationAnnotationFormat_Virtual-class
html
MutationAnnotationFormat_v1.0-class html
MutationAnnotationFormat_v2.0-class html
MutationAnnotationFormat_v2.1-class html
MutationAnnotationFormat_v2.2-class html
MutationAnnotationFormat_v2.3-class html
MutationAnnotationFormat_v2.4-class html
PIK3CA html
Rainfall-class html
SNPloci html
TvTi html
VEP-class html
VEP_Virtual-class html
VEP_v88-class html
Waterfall-class html
brcaMAF html
cnFreq html
cnSpec html
cnView html
compIdent html
covBars html
cytoGeno html
drawPlot-methods html
genCov html
geneViz html
getData-methods html
getDescription-methods html
getGrob-methods html
getHeader-methods html
getMeta-methods html
getMutation-methods html
getPath-methods html
getPosition-methods html
getSample-methods html
getVersion-methods html
hg19chr html
ideoView html
lohSpec html
lohView html
lolliplot html
REDIRECT:topic Previous alias or file overwritten by alias: D:/biocbuild/bbs-3.15-bioc/meat/GenVisR.buildbin-libdir/00LOCK-GenVisR/00new/GenVisR/help/lolliplot.html
lolliplot_AA2sidechain html
lolliplot_buildMain html
waterfall html
REDIRECT:topic Previous alias or file overwritten by alias: D:/biocbuild/bbs-3.15-bioc/meat/GenVisR.buildbin-libdir/00LOCK-GenVisR/00new/GenVisR/help/waterfall.html
writeData-methods html
** building package indices
** installing vignettes
** testing if installed package can be loaded from temporary location
** testing if installed package can be loaded from final location
** testing if installed package keeps a record of temporary installation path
* MD5 sums
packaged installation of 'GenVisR' as GenVisR_1.27.1.zip
* DONE (GenVisR)