| Back to Multiple platform build/check report for BioC 3.15 |
|
This page was generated on 2022-10-19 13:23:00 -0400 (Wed, 19 Oct 2022).
| Hostname | OS | Arch (*) | R version | Installed pkgs |
|---|---|---|---|---|
| nebbiolo1 | Linux (Ubuntu 20.04.5 LTS) | x86_64 | 4.2.1 (2022-06-23) -- "Funny-Looking Kid" | 4386 |
| palomino3 | Windows Server 2022 Datacenter | x64 | 4.2.1 (2022-06-23 ucrt) -- "Funny-Looking Kid" | 4138 |
| merida1 | macOS 10.14.6 Mojave | x86_64 | 4.2.1 (2022-06-23) -- "Funny-Looking Kid" | 4205 |
| Click on any hostname to see more info about the system (e.g. compilers) (*) as reported by 'uname -p', except on Windows and Mac OS X | ||||
|
To the developers/maintainers of the GenProSeq package: - Please allow up to 24 hours (and sometimes 48 hours) for your latest push to git@git.bioconductor.org:packages/GenProSeq.git to reflect on this report. See How and When does the builder pull? When will my changes propagate? for more information. - Make sure to use the following settings in order to reproduce any error or warning you see on this page. |
| Package 784/2140 | Hostname | OS / Arch | INSTALL | BUILD | CHECK | BUILD BIN | ||||||||
| GenProSeq 1.0.0 (landing page) Dongmin Jung
| nebbiolo1 | Linux (Ubuntu 20.04.5 LTS) / x86_64 | OK | OK | OK | |||||||||
| palomino3 | Windows Server 2022 Datacenter / x64 | OK | OK | OK | OK | |||||||||
| merida1 | macOS 10.14.6 Mojave / x86_64 | OK | OK | OK | OK | |||||||||
| Package: GenProSeq |
| Version: 1.0.0 |
| Command: /Library/Frameworks/R.framework/Resources/bin/R CMD check --install=check:GenProSeq.install-out.txt --library=/Library/Frameworks/R.framework/Resources/library --no-vignettes --timings GenProSeq_1.0.0.tar.gz |
| StartedAt: 2022-10-19 02:53:36 -0400 (Wed, 19 Oct 2022) |
| EndedAt: 2022-10-19 02:59:30 -0400 (Wed, 19 Oct 2022) |
| EllapsedTime: 353.3 seconds |
| RetCode: 0 |
| Status: OK |
| CheckDir: GenProSeq.Rcheck |
| Warnings: 0 |
##############################################################################
##############################################################################
###
### Running command:
###
### /Library/Frameworks/R.framework/Resources/bin/R CMD check --install=check:GenProSeq.install-out.txt --library=/Library/Frameworks/R.framework/Resources/library --no-vignettes --timings GenProSeq_1.0.0.tar.gz
###
##############################################################################
##############################################################################
* using log directory ‘/Users/biocbuild/bbs-3.15-bioc/meat/GenProSeq.Rcheck’
* using R version 4.2.1 (2022-06-23)
* using platform: x86_64-apple-darwin17.0 (64-bit)
* using session charset: UTF-8
* using option ‘--no-vignettes’
* checking for file ‘GenProSeq/DESCRIPTION’ ... OK
* checking extension type ... Package
* this is package ‘GenProSeq’ version ‘1.0.0’
* checking package namespace information ... OK
* checking package dependencies ... OK
* checking if this is a source package ... OK
* checking if there is a namespace ... OK
* checking for hidden files and directories ... NOTE
Found the following hidden files and directories:
.BBSoptions
These were most likely included in error. See section ‘Package
structure’ in the ‘Writing R Extensions’ manual.
* checking for portable file names ... OK
* checking for sufficient/correct file permissions ... OK
* checking whether package ‘GenProSeq’ can be installed ... OK
* checking installed package size ... OK
* checking package directory ... OK
* checking ‘build’ directory ... OK
* checking DESCRIPTION meta-information ... OK
* checking top-level files ... OK
* checking for left-over files ... OK
* checking index information ... OK
* checking package subdirectories ... OK
* checking R files for non-ASCII characters ... OK
* checking R files for syntax errors ... OK
* checking whether the package can be loaded ... OK
* checking whether the package can be loaded with stated dependencies ... OK
* checking whether the package can be unloaded cleanly ... OK
* checking whether the namespace can be loaded with stated dependencies ... OK
* checking whether the namespace can be unloaded cleanly ... OK
* checking dependencies in R code ... OK
* checking S3 generic/method consistency ... OK
* checking replacement functions ... OK
* checking foreign function calls ... OK
* checking R code for possible problems ... NOTE
fit_VAE: no visible binding for global variable ‘z_mean’
fit_VAE: no visible binding for global variable ‘z_log_stddev’
fit_VAE : vae_loss: no visible binding for global variable
‘z_log_stddev’
fit_VAE : vae_loss: no visible binding for global variable ‘z_mean’
layer_embedding_token_position : <anonymous>: no visible global
function definition for ‘super’
layer_embedding_token_position : <anonymous>: no visible binding for
global variable ‘self’
layer_transformer_encoder : <anonymous>: no visible global function
definition for ‘super’
layer_transformer_encoder : <anonymous>: no visible binding for global
variable ‘self’
Undefined global functions or variables:
self super z_log_stddev z_mean
* checking Rd files ... OK
* checking Rd metadata ... OK
* checking Rd cross-references ... OK
* checking for missing documentation entries ... OK
* checking for code/documentation mismatches ... OK
* checking Rd \usage sections ... OK
* checking Rd contents ... OK
* checking for unstated dependencies in examples ... OK
* checking contents of ‘data’ directory ... OK
* checking data for non-ASCII characters ... OK
* checking data for ASCII and uncompressed saves ... OK
* checking files in ‘vignettes’ ... OK
* checking examples ... OK
Examples with CPU (user + system) or elapsed time > 5s
user system elapsed
ART 86.249 3.160 88.221
VAE 77.144 3.896 74.565
GAN 32.012 1.827 30.144
* checking for unstated dependencies in ‘tests’ ... OK
* checking tests ...
Running ‘testthat.R’
OK
* checking for unstated dependencies in vignettes ... OK
* checking package vignettes in ‘inst/doc’ ... OK
* checking running R code from vignettes ... SKIPPED
* checking re-building of vignette outputs ... SKIPPED
* checking PDF version of manual ... OK
* DONE
Status: 2 NOTEs
See
‘/Users/biocbuild/bbs-3.15-bioc/meat/GenProSeq.Rcheck/00check.log’
for details.
GenProSeq.Rcheck/00install.out
############################################################################## ############################################################################## ### ### Running command: ### ### /Library/Frameworks/R.framework/Resources/bin/R CMD INSTALL GenProSeq ### ############################################################################## ############################################################################## * installing to library ‘/Library/Frameworks/R.framework/Versions/4.2/Resources/library’ * installing *source* package ‘GenProSeq’ ... ** using staged installation ** R ** data ** inst ** byte-compile and prepare package for lazy loading ** help *** installing help indices ** building package indices ** installing vignettes ** testing if installed package can be loaded from temporary location ** testing if installed package can be loaded from final location ** testing if installed package keeps a record of temporary installation path * DONE (GenProSeq)
GenProSeq.Rcheck/tests/testthat.Rout
R version 4.2.1 (2022-06-23) -- "Funny-Looking Kid"
Copyright (C) 2022 The R Foundation for Statistical Computing
Platform: x86_64-apple-darwin17.0 (64-bit)
R is free software and comes with ABSOLUTELY NO WARRANTY.
You are welcome to redistribute it under certain conditions.
Type 'license()' or 'licence()' for distribution details.
R is a collaborative project with many contributors.
Type 'contributors()' for more information and
'citation()' on how to cite R or R packages in publications.
Type 'demo()' for some demos, 'help()' for on-line help, or
'help.start()' for an HTML browser interface to help.
Type 'q()' to quit R.
> library(testthat)
> library(GenProSeq)
Loading required package: keras
Loading required package: mclust
Package 'mclust' version 5.4.10
Type 'citation("mclust")' for citing this R package in publications.
>
> test_check("GenProSeq")
[ FAIL 0 | WARN 14 | SKIP 0 | PASS 26 ]
[ FAIL 0 | WARN 14 | SKIP 0 | PASS 26 ]
>
> proc.time()
user system elapsed
14.673 1.365 16.825
GenProSeq.Rcheck/GenProSeq-Ex.timings
| name | user | system | elapsed | |
| ART | 86.249 | 3.160 | 88.221 | |
| GAN | 32.012 | 1.827 | 30.144 | |
| VAE | 77.144 | 3.896 | 74.565 | |
| prot_seq_check | 0.038 | 0.004 | 0.047 | |
| prot_vec | 0.941 | 0.013 | 1.034 | |
| transformer | 1.698 | 0.019 | 1.790 | |