| Back to Multiple platform build/check report for BioC 3.15 |
|
This page was generated on 2022-03-18 11:07:43 -0400 (Fri, 18 Mar 2022).
| Hostname | OS | Arch (*) | R version | Installed pkgs |
|---|---|---|---|---|
| nebbiolo1 | Linux (Ubuntu 20.04.4 LTS) | x86_64 | R Under development (unstable) (2022-02-17 r81757) -- "Unsuffered Consequences" | 4334 |
| riesling1 | Windows Server 2019 Standard | x64 | R Under development (unstable) (2021-11-21 r81221) -- "Unsuffered Consequences" | 4097 |
| palomino3 | Windows Server 2022 Datacenter | x64 | R Under development (unstable) (2022-02-17 r81757 ucrt) -- "Unsuffered Consequences" | 4083 |
| merida1 | macOS 10.14.6 Mojave | x86_64 | R Under development (unstable) (2022-03-02 r81842) -- "Unsuffered Consequences" | 4134 |
| Click on any hostname to see more info about the system (e.g. compilers) (*) as reported by 'uname -p', except on Windows and Mac OS X | ||||
|
To the developers/maintainers of the GWENA package: - Please allow up to 24 hours (and sometimes 48 hours) for your latest push to git@git.bioconductor.org:packages/GWENA.git to reflect on this report. See How and When does the builder pull? When will my changes propagate? here for more information. - Make sure to use the following settings in order to reproduce any error or warning you see on this page. |
| Package 851/2090 | Hostname | OS / Arch | INSTALL | BUILD | CHECK | BUILD BIN | ||||||||
| GWENA 1.5.0 (landing page) Gwenaƫlle Lemoine
| nebbiolo1 | Linux (Ubuntu 20.04.4 LTS) / x86_64 | OK | OK | OK | |||||||||
| riesling1 | Windows Server 2019 Standard / x64 | OK | OK | OK | OK | |||||||||
| palomino3 | Windows Server 2022 Datacenter / x64 | OK | OK | OK | OK | |||||||||
| merida1 | macOS 10.14.6 Mojave / x86_64 | OK | OK | OK | OK | |||||||||
| Package: GWENA |
| Version: 1.5.0 |
| Command: rm -rf GWENA.buildbin-libdir && mkdir GWENA.buildbin-libdir && D:\biocbuild\bbs-3.15-bioc\R\bin\R.exe CMD INSTALL --build --library=GWENA.buildbin-libdir GWENA_1.5.0.tar.gz |
| StartedAt: 2022-03-17 21:13:40 -0400 (Thu, 17 Mar 2022) |
| EndedAt: 2022-03-17 21:14:56 -0400 (Thu, 17 Mar 2022) |
| EllapsedTime: 76.1 seconds |
| RetCode: 0 |
| Status: OK |
| PackageFile: GWENA_1.5.0.zip |
| PackageFileSize: 4.239 MiB |
##############################################################################
##############################################################################
###
### Running command:
###
### rm -rf GWENA.buildbin-libdir && mkdir GWENA.buildbin-libdir && D:\biocbuild\bbs-3.15-bioc\R\bin\R.exe CMD INSTALL --build --library=GWENA.buildbin-libdir GWENA_1.5.0.tar.gz
###
##############################################################################
##############################################################################
* installing *source* package 'GWENA' ...
** using staged installation
** R
** data
*** moving datasets to lazyload DB
** inst
** byte-compile and prepare package for lazy loading
** help
*** installing help indices
converting help for package 'GWENA'
finding HTML links ... done
associate_phenotype html
bio_enrich html
build_graph_from_sq_mat html
build_net html
finding level-2 HTML links ... done
compare_conditions html
detect_modules html
dot-check_data_expr html
dot-check_gost html
dot-check_module html
dot-check_network html
dot-contingencyTable html
dot-cor_func_match html
filter_RNA_seq html
filter_low_var html
get_fit.cor html
get_fit.expr html
get_hub_degree html
get_hub_genes html
get_hub_high_co html
get_hub_kleinberg html
get_sub_clusters html
gg_palette html
gtex_expr html
gtex_traits html
is_data_expr html
is_gost html
is_module html
is_network html
join_gost html
kuehne_expr html
kuehne_traits html
matchsub html
orderAsNumeric html
plot_comparison_stats html
plot_enrichment html
plot_expression_profiles html
plot_module html
plot_modules_merge html
plot_modules_phenotype html
quiet html
z_summary html
** building package indices
** installing vignettes
** testing if installed package can be loaded from temporary location
** testing if installed package can be loaded from final location
** testing if installed package keeps a record of temporary installation path
* MD5 sums
packaged installation of 'GWENA' as GWENA_1.5.0.zip
* DONE (GWENA)