| Back to Multiple platform build/check report for BioC 3.15 | 
 | 
This page was generated on 2022-10-19 13:20:22 -0400 (Wed, 19 Oct 2022).
| Hostname | OS | Arch (*) | R version | Installed pkgs | 
|---|---|---|---|---|
| nebbiolo1 | Linux (Ubuntu 20.04.5 LTS) | x86_64 | 4.2.1 (2022-06-23) -- "Funny-Looking Kid" | 4386 | 
| palomino3 | Windows Server 2022 Datacenter | x64 | 4.2.1 (2022-06-23 ucrt) -- "Funny-Looking Kid" | 4138 | 
| merida1 | macOS 10.14.6 Mojave | x86_64 | 4.2.1 (2022-06-23) -- "Funny-Looking Kid" | 4205 | 
| Click on any hostname to see more info about the system (e.g. compilers) (*) as reported by 'uname -p', except on Windows and Mac OS X | ||||
| To the developers/maintainers of the GUIDEseq package: - Please allow up to 24 hours (and sometimes 48 hours) for your latest push to git@git.bioconductor.org:packages/GUIDEseq.git to reflect on this report. See How and When does the builder pull? When will my changes propagate? for more information. - Make sure to use the following settings in order to reproduce any error or warning you see on this page. | 
| Package 866/2140 | Hostname | OS / Arch | INSTALL | BUILD | CHECK | BUILD BIN | ||||||||
| GUIDEseq 1.26.0  (landing page) Lihua Julie Zhu 
 | nebbiolo1 | Linux (Ubuntu 20.04.5 LTS) / x86_64 | OK | OK | OK |  | ||||||||
| palomino3 | Windows Server 2022 Datacenter / x64 | OK | OK | OK | OK |  | ||||||||
| merida1 | macOS 10.14.6 Mojave / x86_64 | OK | OK | OK | OK |  | ||||||||
| Package: GUIDEseq | 
| Version: 1.26.0 | 
| Command: /home/biocbuild/bbs-3.15-bioc/R/bin/R CMD check --install=check:GUIDEseq.install-out.txt --library=/home/biocbuild/bbs-3.15-bioc/R/library --no-vignettes --timings GUIDEseq_1.26.0.tar.gz | 
| StartedAt: 2022-10-18 20:03:31 -0400 (Tue, 18 Oct 2022) | 
| EndedAt: 2022-10-18 20:09:20 -0400 (Tue, 18 Oct 2022) | 
| EllapsedTime: 349.2 seconds | 
| RetCode: 0 | 
| Status: OK | 
| CheckDir: GUIDEseq.Rcheck | 
| Warnings: 0 | 
##############################################################################
##############################################################################
###
### Running command:
###
###   /home/biocbuild/bbs-3.15-bioc/R/bin/R CMD check --install=check:GUIDEseq.install-out.txt --library=/home/biocbuild/bbs-3.15-bioc/R/library --no-vignettes --timings GUIDEseq_1.26.0.tar.gz
###
##############################################################################
##############################################################################
* using log directory ‘/home/biocbuild/bbs-3.15-bioc/meat/GUIDEseq.Rcheck’
* using R version 4.2.1 (2022-06-23)
* using platform: x86_64-pc-linux-gnu (64-bit)
* using session charset: UTF-8
* using option ‘--no-vignettes’
* checking for file ‘GUIDEseq/DESCRIPTION’ ... OK
* checking extension type ... Package
* this is package ‘GUIDEseq’ version ‘1.26.0’
* package encoding: UTF-8
* checking package namespace information ... OK
* checking package dependencies ... OK
* checking if this is a source package ... OK
* checking if there is a namespace ... OK
* checking for hidden files and directories ... OK
* checking for portable file names ... OK
* checking for sufficient/correct file permissions ... OK
* checking whether package ‘GUIDEseq’ can be installed ... OK
* checking installed package size ... NOTE
  installed size is  6.4Mb
  sub-directories of 1Mb or more:
    extdata   6.0Mb
* checking package directory ... OK
* checking ‘build’ directory ... OK
* checking DESCRIPTION meta-information ... OK
* checking top-level files ... OK
* checking for left-over files ... OK
* checking index information ... OK
* checking package subdirectories ... OK
* checking R files for non-ASCII characters ... OK
* checking R files for syntax errors ... OK
* checking whether the package can be loaded ... OK
* checking whether the package can be loaded with stated dependencies ... OK
* checking whether the package can be unloaded cleanly ... OK
* checking whether the namespace can be loaded with stated dependencies ... OK
* checking whether the namespace can be unloaded cleanly ... OK
* checking dependencies in R code ... OK
* checking S3 generic/method consistency ... OK
* checking replacement functions ... OK
* checking foreign function calls ... OK
* checking R code for possible problems ... NOTE
annotateOffTargets: no visible binding for global variable
  'offTarget_Start'
annotateOffTargets: no visible global function definition for
  'seqlevelsStyle<-'
getPeaks: no visible binding for global variable 'adjusted.p.value'
getPeaks: no visible binding for global variable 'SNratio'
getPeaks.old: no visible global function definition for 'clusterExport'
getPeaks.old: no visible global function definition for 'parLapply'
getUniqueCleavageEvents: no visible binding for global variable
  'width.first'
getUniqueCleavageEvents: no visible binding for global variable
  'width.last'
getUniqueCleavageEvents: no visible binding for global variable
  'qwidth.last'
getUniqueCleavageEvents: no visible binding for global variable
  'strand.last'
getUniqueCleavageEvents: no visible binding for global variable
  'qwidth.first'
getUniqueCleavageEvents: no visible binding for global variable
  'strand.first'
getUniqueCleavageEvents: no visible binding for global variable
  'readName'
getUniqueCleavageEvents: no visible binding for global variable
  'seqnames.last'
getUniqueCleavageEvents: no visible binding for global variable
  'seqnames.first'
getUniqueCleavageEvents: no visible binding for global variable
  'start.last'
getUniqueCleavageEvents: no visible binding for global variable
  'end.first'
getUniqueCleavageEvents: no visible binding for global variable 'UMI'
getUniqueCleavageEvents: no visible binding for global variable 'n'
getUniqueCleavageEvents: no visible binding for global variable
  'end.last'
getUniqueCleavageEvents: no visible binding for global variable
  'start.first'
importBEDAlignments: no visible global function definition for
  'parLapply'
offTargetAnalysisOfPeakRegions: no visible binding for global variable
  'thePeak'
offTargetAnalysisOfPeakRegions: no visible global function definition
  for 'parLapply'
offTargetAnalysisOfPeakRegions: no visible binding for global variable
  'gRNAPlusPAM'
offTargetAnalysisOfPeakRegions: no visible binding for global variable
  'offTarget'
Undefined global functions or variables:
  SNratio UMI adjusted.p.value clusterExport end.first end.last
  gRNAPlusPAM n offTarget offTarget_Start parLapply qwidth.first
  qwidth.last readName seqlevelsStyle<- seqnames.first seqnames.last
  start.first start.last strand.first strand.last thePeak width.first
  width.last
* checking Rd files ... NOTE
prepare_Rd: annotateOffTargets.Rd:33-35: Dropping empty section \details
prepare_Rd: annotateOffTargets.Rd:43-45: Dropping empty section \references
prepare_Rd: createBarcodeFasta.Rd:42-43: Dropping empty section \value
prepare_Rd: createBarcodeFasta.Rd:44-46: Dropping empty section \references
prepare_Rd: getUsedBarcodes.Rd:39-41: Dropping empty section \references
* checking Rd metadata ... OK
* checking Rd cross-references ... OK
* checking for missing documentation entries ... OK
* checking for code/documentation mismatches ... OK
* checking Rd \usage sections ... OK
* checking Rd contents ... OK
* checking for unstated dependencies in examples ... OK
* checking contents of ‘data’ directory ... OK
* checking data for non-ASCII characters ... OK
* checking data for ASCII and uncompressed saves ... OK
* checking files in ‘vignettes’ ... OK
* checking examples ... OK
Examples with CPU (user + system) or elapsed time > 5s
                    user system elapsed
PEtagAnalysis      7.683  0.368   8.051
GUIDEseqAnalysis   6.214  0.332   6.549
annotateOffTargets 5.073  0.252   5.325
* checking for unstated dependencies in ‘tests’ ... OK
* checking tests ...
  Running ‘testthat.R’
 OK
* checking for unstated dependencies in vignettes ... OK
* checking package vignettes in ‘inst/doc’ ... OK
* checking running R code from vignettes ... SKIPPED
* checking re-building of vignette outputs ... SKIPPED
* checking PDF version of manual ... OK
* DONE
Status: 3 NOTEs
See
  ‘/home/biocbuild/bbs-3.15-bioc/meat/GUIDEseq.Rcheck/00check.log’
for details.
GUIDEseq.Rcheck/00install.out
############################################################################## ############################################################################## ### ### Running command: ### ### /home/biocbuild/bbs-3.15-bioc/R/bin/R CMD INSTALL GUIDEseq ### ############################################################################## ############################################################################## * installing to library ‘/home/biocbuild/bbs-3.15-bioc/R/library’ * installing *source* package ‘GUIDEseq’ ... ** using staged installation ** R ** data ** inst ** byte-compile and prepare package for lazy loading ** help *** installing help indices ** building package indices ** installing vignettes ** testing if installed package can be loaded from temporary location ** testing if installed package can be loaded from final location ** testing if installed package keeps a record of temporary installation path * DONE (GUIDEseq)
GUIDEseq.Rcheck/tests/testthat.Rout
R version 4.2.1 (2022-06-23) -- "Funny-Looking Kid"
Copyright (C) 2022 The R Foundation for Statistical Computing
Platform: x86_64-pc-linux-gnu (64-bit)
R is free software and comes with ABSOLUTELY NO WARRANTY.
You are welcome to redistribute it under certain conditions.
Type 'license()' or 'licence()' for distribution details.
R is a collaborative project with many contributors.
Type 'contributors()' for more information and
'citation()' on how to cite R or R packages in publications.
Type 'demo()' for some demos, 'help()' for on-line help, or
'help.start()' for an HTML browser interface to help.
Type 'q()' to quit R.
> library(testthat)
> library(GUIDEseq)
Loading required package: GenomicRanges
Loading required package: stats4
Loading required package: BiocGenerics
Attaching package: 'BiocGenerics'
The following objects are masked from 'package:stats':
    IQR, mad, sd, var, xtabs
The following objects are masked from 'package:base':
    Filter, Find, Map, Position, Reduce, anyDuplicated, append,
    as.data.frame, basename, cbind, colnames, dirname, do.call,
    duplicated, eval, evalq, get, grep, grepl, intersect, is.unsorted,
    lapply, mapply, match, mget, order, paste, pmax, pmax.int, pmin,
    pmin.int, rank, rbind, rownames, sapply, setdiff, sort, table,
    tapply, union, unique, unsplit, which.max, which.min
Loading required package: S4Vectors
Attaching package: 'S4Vectors'
The following objects are masked from 'package:base':
    I, expand.grid, unname
Loading required package: IRanges
Loading required package: GenomeInfoDb
> library("BSgenome.Hsapiens.UCSC.hg19")
Loading required package: BSgenome
Loading required package: Biostrings
Loading required package: XVector
Attaching package: 'Biostrings'
The following object is masked from 'package:base':
    strsplit
Loading required package: rtracklayer
> library(TxDb.Hsapiens.UCSC.hg19.knownGene)
Loading required package: GenomicFeatures
Loading required package: AnnotationDbi
Loading required package: Biobase
Welcome to Bioconductor
    Vignettes contain introductory material; view with
    'browseVignettes()'. To cite Bioconductor, see
    'citation("Biobase")', and for packages 'citation("pkgname")'.
> library(org.Hs.eg.db)
> 
> #test_check("GUIDEseq")
> 
> proc.time()
   user  system elapsed 
 14.723   0.815  15.524 
GUIDEseq.Rcheck/GUIDEseq-Ex.timings
| name | user | system | elapsed | |
| GUIDEseq-package | 0.001 | 0.000 | 0.001 | |
| GUIDEseqAnalysis | 6.214 | 0.332 | 6.549 | |
| PEtagAnalysis | 7.683 | 0.368 | 8.051 | |
| annotateOffTargets | 5.073 | 0.252 | 5.325 | |
| combineOfftargets | 0.024 | 0.000 | 0.025 | |
| createBarcodeFasta | 0.019 | 0.000 | 0.019 | |
| getPeaks | 0 | 0 | 0 | |
| getUniqueCleavageEvents | 0.000 | 0.001 | 0.000 | |
| getUsedBarcodes | 0.031 | 0.001 | 0.032 | |
| mergePlusMinusPeaks | 0 | 0 | 0 | |
| offTargetAnalysisOfPeakRegions | 0.001 | 0.000 | 0.001 | |
| peaks.gr | 0.026 | 0.000 | 0.026 | |
| uniqueCleavageEvents | 0.042 | 0.003 | 0.045 | |