Back to Multiple platform build/check report for BioC 3.15 |
|
This page was generated on 2022-10-19 13:20:21 -0400 (Wed, 19 Oct 2022).
Hostname | OS | Arch (*) | R version | Installed pkgs |
---|---|---|---|---|
nebbiolo1 | Linux (Ubuntu 20.04.5 LTS) | x86_64 | 4.2.1 (2022-06-23) -- "Funny-Looking Kid" | 4386 |
palomino3 | Windows Server 2022 Datacenter | x64 | 4.2.1 (2022-06-23 ucrt) -- "Funny-Looking Kid" | 4138 |
merida1 | macOS 10.14.6 Mojave | x86_64 | 4.2.1 (2022-06-23) -- "Funny-Looking Kid" | 4205 |
Click on any hostname to see more info about the system (e.g. compilers) (*) as reported by 'uname -p', except on Windows and Mac OS X |
To the developers/maintainers of the GSgalgoR package: - Please allow up to 24 hours (and sometimes 48 hours) for your latest push to git@git.bioconductor.org:packages/GSgalgoR.git to reflect on this report. See How and When does the builder pull? When will my changes propagate? for more information. - Make sure to use the following settings in order to reproduce any error or warning you see on this page. |
Package 861/2140 | Hostname | OS / Arch | INSTALL | BUILD | CHECK | BUILD BIN | ||||||||
GSgalgoR 1.6.0 (landing page) Carlos Catania
| nebbiolo1 | Linux (Ubuntu 20.04.5 LTS) / x86_64 | OK | OK | OK | ![]() | ||||||||
palomino3 | Windows Server 2022 Datacenter / x64 | OK | OK | OK | OK | ![]() | ||||||||
merida1 | macOS 10.14.6 Mojave / x86_64 | OK | OK | OK | OK | ![]() | ||||||||
Package: GSgalgoR |
Version: 1.6.0 |
Command: /home/biocbuild/bbs-3.15-bioc/R/bin/R CMD check --install=check:GSgalgoR.install-out.txt --library=/home/biocbuild/bbs-3.15-bioc/R/library --no-vignettes --timings GSgalgoR_1.6.0.tar.gz |
StartedAt: 2022-10-18 20:02:37 -0400 (Tue, 18 Oct 2022) |
EndedAt: 2022-10-18 20:05:43 -0400 (Tue, 18 Oct 2022) |
EllapsedTime: 185.6 seconds |
RetCode: 0 |
Status: OK |
CheckDir: GSgalgoR.Rcheck |
Warnings: 0 |
############################################################################## ############################################################################## ### ### Running command: ### ### /home/biocbuild/bbs-3.15-bioc/R/bin/R CMD check --install=check:GSgalgoR.install-out.txt --library=/home/biocbuild/bbs-3.15-bioc/R/library --no-vignettes --timings GSgalgoR_1.6.0.tar.gz ### ############################################################################## ############################################################################## * using log directory ‘/home/biocbuild/bbs-3.15-bioc/meat/GSgalgoR.Rcheck’ * using R version 4.2.1 (2022-06-23) * using platform: x86_64-pc-linux-gnu (64-bit) * using session charset: UTF-8 * using option ‘--no-vignettes’ * checking for file ‘GSgalgoR/DESCRIPTION’ ... OK * checking extension type ... Package * this is package ‘GSgalgoR’ version ‘1.6.0’ * package encoding: UTF-8 * checking package namespace information ... OK * checking package dependencies ... OK * checking if this is a source package ... OK * checking if there is a namespace ... OK * checking for hidden files and directories ... OK * checking for portable file names ... OK * checking for sufficient/correct file permissions ... OK * checking whether package ‘GSgalgoR’ can be installed ... OK * checking installed package size ... OK * checking package directory ... OK * checking ‘build’ directory ... OK * checking DESCRIPTION meta-information ... OK * checking top-level files ... OK * checking for left-over files ... OK * checking index information ... OK * checking package subdirectories ... OK * checking R files for non-ASCII characters ... OK * checking R files for syntax errors ... OK * checking whether the package can be loaded ... OK * checking whether the package can be loaded with stated dependencies ... OK * checking whether the package can be unloaded cleanly ... OK * checking whether the namespace can be loaded with stated dependencies ... OK * checking whether the namespace can be unloaded cleanly ... OK * checking dependencies in R code ... OK * checking S3 generic/method consistency ... OK * checking replacement functions ... OK * checking foreign function calls ... OK * checking R code for possible problems ... OK * checking Rd files ... OK * checking Rd metadata ... OK * checking Rd cross-references ... OK * checking for missing documentation entries ... OK * checking for code/documentation mismatches ... OK * checking Rd \usage sections ... OK * checking Rd contents ... OK * checking for unstated dependencies in examples ... OK * checking files in ‘vignettes’ ... OK * checking examples ... OK Examples with CPU (user + system) or elapsed time > 5s user system elapsed callback_base_report 2.617 0.176 8.320 plot_pareto 2.673 0.038 5.795 classify_multiple 2.419 0.196 8.053 to_list 2.280 0.080 5.622 callback_base_return_pop 1.914 0.320 8.394 to_dataframe 1.938 0.093 5.126 callback_no_report 1.839 0.190 7.949 callback_default 1.885 0.139 7.736 create_centroids 1.830 0.030 5.039 * checking for unstated dependencies in ‘tests’ ... OK * checking tests ... Running ‘testthat.R’ OK * checking for unstated dependencies in vignettes ... OK * checking package vignettes in ‘inst/doc’ ... OK * checking running R code from vignettes ... SKIPPED * checking re-building of vignette outputs ... SKIPPED * checking PDF version of manual ... OK * DONE Status: OK
GSgalgoR.Rcheck/00install.out
############################################################################## ############################################################################## ### ### Running command: ### ### /home/biocbuild/bbs-3.15-bioc/R/bin/R CMD INSTALL GSgalgoR ### ############################################################################## ############################################################################## * installing to library ‘/home/biocbuild/bbs-3.15-bioc/R/library’ * installing *source* package ‘GSgalgoR’ ... ** using staged installation ** R ** inst ** byte-compile and prepare package for lazy loading ** help *** installing help indices ** building package indices ** installing vignettes ** testing if installed package can be loaded from temporary location ** testing if installed package can be loaded from final location ** testing if installed package keeps a record of temporary installation path * DONE (GSgalgoR)
GSgalgoR.Rcheck/tests/testthat.Rout
R version 4.2.1 (2022-06-23) -- "Funny-Looking Kid" Copyright (C) 2022 The R Foundation for Statistical Computing Platform: x86_64-pc-linux-gnu (64-bit) R is free software and comes with ABSOLUTELY NO WARRANTY. You are welcome to redistribute it under certain conditions. Type 'license()' or 'licence()' for distribution details. R is a collaborative project with many contributors. Type 'contributors()' for more information and 'citation()' on how to cite R or R packages in publications. Type 'demo()' for some demos, 'help()' for on-line help, or 'help.start()' for an HTML browser interface to help. Type 'q()' to quit R. > library(testthat) > library(GSgalgoR) > > test_check("GSgalgoR") .......... k rnkIndex CrowD result.1 8 0.02212350 201.10126 1 Inf result.3 9 0.02402496 160.41638 1 1.37352 result.4 8 0.03651880 48.37265 1 Inf k rnkIndex CrowD result.1 8 0.02212350 201.10126 1 Inf result.3 2 0.11803624 30.01863 1 Inf result.4 4 0.04509859 173.43985 1 1.798893 ......[ FAIL 0 | WARN 0 | SKIP 0 | PASS 13 ] > > proc.time() user system elapsed 19.916 2.180 88.474
GSgalgoR.Rcheck/GSgalgoR-Ex.timings
name | user | system | elapsed | |
calculate_distance | 2.310 | 0.076 | 2.387 | |
callback_base_report | 2.617 | 0.176 | 8.320 | |
callback_base_return_pop | 1.914 | 0.320 | 8.394 | |
callback_default | 1.885 | 0.139 | 7.736 | |
callback_no_report | 1.839 | 0.190 | 7.949 | |
classify_multiple | 2.419 | 0.196 | 8.053 | |
cluster_algorithm | 1.097 | 0.015 | 1.113 | |
cluster_classify | 0.628 | 0.032 | 0.659 | |
cosine_similarity | 0 | 0 | 0 | |
create_centroids | 1.830 | 0.030 | 5.039 | |
galgo | 1.618 | 0.050 | 4.717 | |
k_centroids | 1.154 | 0.024 | 1.178 | |
non_dominated_summary | 1.832 | 0.052 | 4.893 | |
plot_pareto | 2.673 | 0.038 | 5.795 | |
surv_fitness | 0.583 | 0.016 | 0.599 | |
to_dataframe | 1.938 | 0.093 | 5.126 | |
to_list | 2.280 | 0.080 | 5.622 | |