| Back to Multiple platform build/check report for BioC 3.15 | 
  | 
This page was generated on 2022-03-18 11:07:36 -0400 (Fri, 18 Mar 2022).
| Hostname | OS | Arch (*) | R version | Installed pkgs | 
|---|---|---|---|---|
| nebbiolo1 | Linux (Ubuntu 20.04.4 LTS) | x86_64 | R Under development (unstable) (2022-02-17 r81757) -- "Unsuffered Consequences" | 4334 | 
| riesling1 | Windows Server 2019 Standard | x64 | R Under development (unstable) (2021-11-21 r81221) -- "Unsuffered Consequences" | 4097 | 
| palomino3 | Windows Server 2022 Datacenter | x64 | R Under development (unstable) (2022-02-17 r81757 ucrt) -- "Unsuffered Consequences" | 4083 | 
| merida1 | macOS 10.14.6 Mojave | x86_64 | R Under development (unstable) (2022-03-02 r81842) -- "Unsuffered Consequences" | 4134 | 
| Click on any hostname to see more info about the system (e.g. compilers) (*) as reported by 'uname -p', except on Windows and Mac OS X | ||||
| 
To the developers/maintainers of the GENESIS package: - Please allow up to 24 hours (and sometimes 48 hours) for your latest push to git@git.bioconductor.org:packages/GENESIS.git to reflect on this report. See How and When does the builder pull? When will my changes propagate? here for more information. - Make sure to use the following settings in order to reproduce any error or warning you see on this page.  | 
| Package 737/2090 | Hostname | OS / Arch | INSTALL | BUILD | CHECK | BUILD BIN | ||||||||
| GENESIS 2.25.4  (landing page) Stephanie M. Gogarten 
  | nebbiolo1 | Linux (Ubuntu 20.04.4 LTS) / x86_64 | OK | OK | OK | |||||||||
| riesling1 | Windows Server 2019 Standard / x64 | OK | OK | OK | OK | |||||||||
| palomino3 | Windows Server 2022 Datacenter / x64 | OK | OK | OK | OK | |||||||||
| merida1 | macOS 10.14.6 Mojave / x86_64 | OK | OK | OK | OK | |||||||||
| Package: GENESIS | 
| Version: 2.25.4 | 
| Command: rm -rf GENESIS.buildbin-libdir && mkdir GENESIS.buildbin-libdir && D:\biocbuild\bbs-3.15-bioc\R\bin\R.exe CMD INSTALL --build --library=GENESIS.buildbin-libdir GENESIS_2.25.4.tar.gz | 
| StartedAt: 2022-03-17 21:10:37 -0400 (Thu, 17 Mar 2022) | 
| EndedAt: 2022-03-17 21:12:00 -0400 (Thu, 17 Mar 2022) | 
| EllapsedTime: 82.4 seconds | 
| RetCode: 0 | 
| Status: OK | 
| PackageFile: GENESIS_2.25.4.zip | 
| PackageFileSize: 3.275 MiB | 
##############################################################################
##############################################################################
###
### Running command:
###
###   rm -rf GENESIS.buildbin-libdir && mkdir GENESIS.buildbin-libdir && D:\biocbuild\bbs-3.15-bioc\R\bin\R.exe CMD INSTALL --build --library=GENESIS.buildbin-libdir GENESIS_2.25.4.tar.gz
###
##############################################################################
##############################################################################
* installing *source* package 'GENESIS' ...
** using staged installation
** libs
"C:/rtools40/mingw64/bin/"gcc  -I"D:/biocbuild/bbs-3.15-bioc/R/include" -DNDEBUG     -I"C:/extsoft/include"     -O2 -Wall  -std=gnu99 -mfpmath=sse -msse2 -mstackrealign -fno-reorder-blocks-and-partition  -c fht.c -o fht.o
C:/rtools40/mingw64/bin/gcc -shared -s -static-libgcc -o GENESIS.dll tmp.def fht.o -LC:/extsoft/lib/x64 -LC:/extsoft/lib -LD:/biocbuild/bbs-3.15-bioc/R/bin/x64 -lR
installing to D:/biocbuild/bbs-3.15-bioc/meat/GENESIS.buildbin-libdir/00LOCK-GENESIS/00new/GENESIS/libs/x64
** R
** data
** inst
** byte-compile and prepare package for lazy loading
** help
*** installing help indices
  converting help for package 'GENESIS'
    finding HTML links ... done
    GENESIS-package                         html  
    HapMap_ASW_MXL_KINGmat                  html  
    admixMap                                html  
    finding level-2 HTML links ... done
    assocTestAggregate                      html  
    assocTestSingle                         html  
    computeVSIF                             html  
    defunct                                 html  
    effectAllele                            html  
    fitNullModel                            html  
    jointScoreTest                          html  
    kin2gds                                 html  
    kingToMatrix                            html  
    makeSparseMatrix                        html  
REDIRECT:topic	 Previous alias or file overwritten by alias: D:/biocbuild/bbs-3.15-bioc/meat/GENESIS.buildbin-libdir/00LOCK-GENESIS/00new/GENESIS/help/makeSparseMatrix+2CMatrix-method.html
    pcair                                   html  
    pcairPartition                          html  
    pcrelate                                html  
    pcrelateToMatrix                        html  
    plot.pcair                              html  
    print.pcair                             html  
    sample_annotation_1KG                   html  
    varCompCI                               html  
** building package indices
** installing vignettes
** testing if installed package can be loaded from temporary location
** testing if installed package can be loaded from final location
** testing if installed package keeps a record of temporary installation path
* MD5 sums
packaged installation of 'GENESIS' as GENESIS_2.25.4.zip
* DONE (GENESIS)