| Back to Multiple platform build/check report for BioC 3.15 | 
 | 
This page was generated on 2022-01-05 11:06:19 -0500 (Wed, 05 Jan 2022).
| Hostname | OS | Arch (*) | R version | Installed pkgs | 
|---|---|---|---|---|
| nebbiolo1 | Linux (Ubuntu 20.04.4 LTS) | x86_64 | R Under development (unstable) (2021-11-10 r81171) -- "Unsuffered Consequences" | 4308 | 
| riesling1 | Windows Server 2019 Standard | x64 | R Under development (unstable) (2021-11-21 r81221) -- "Unsuffered Consequences" | 4045 | 
| merida1 | macOS 10.14.6 Mojave | x86_64 | R Under development (unstable) (2021-11-01 r81125) -- "Unsuffered Consequences" | 4123 | 
| Click on any hostname to see more info about the system (e.g. compilers) (*) as reported by 'uname -p', except on Windows and Mac OS X | ||||
| To the developers/maintainers of the GAPGOM package: - Please allow up to 24 hours (and sometimes 48 hours) for your latest push to git@git.bioconductor.org:packages/GAPGOM.git to reflect on this report. See How and When does the builder pull? When will my changes propagate? here for more information. - Make sure to use the following settings in order to reproduce any error or warning you see on this page. | 
| Package 693/2072 | Hostname | OS / Arch | INSTALL | BUILD | CHECK | BUILD BIN | ||||||||
| GAPGOM 1.11.0  (landing page) Rezvan Ehsani 
 | nebbiolo1 | Linux (Ubuntu 20.04.4 LTS) / x86_64 | OK | OK | OK |  | ||||||||
| riesling1 | Windows Server 2019 Standard / x64 | OK | OK | OK | OK | |||||||||
| merida1 | macOS 10.14.6 Mojave / x86_64 | OK | OK | OK | OK |  | ||||||||
| Package: GAPGOM | 
| Version: 1.11.0 | 
| Command: rm -rf GAPGOM.buildbin-libdir && mkdir GAPGOM.buildbin-libdir && D:\biocbuild\bbs-3.15-bioc\R\bin\R.exe CMD INSTALL --build --library=GAPGOM.buildbin-libdir GAPGOM_1.11.0.tar.gz | 
| StartedAt: 2022-01-04 20:49:18 -0500 (Tue, 04 Jan 2022) | 
| EndedAt: 2022-01-04 20:50:21 -0500 (Tue, 04 Jan 2022) | 
| EllapsedTime: 62.7 seconds | 
| RetCode: 0 | 
| Status: OK | 
| PackageFile: GAPGOM_1.11.0.zip | 
| PackageFileSize: 2.226 MiB | 
##############################################################################
##############################################################################
###
### Running command:
###
###   rm -rf GAPGOM.buildbin-libdir && mkdir GAPGOM.buildbin-libdir && D:\biocbuild\bbs-3.15-bioc\R\bin\R.exe CMD INSTALL --build --library=GAPGOM.buildbin-libdir GAPGOM_1.11.0.tar.gz
###
##############################################################################
##############################################################################
* installing *source* package 'GAPGOM' ...
** using staged installation
** R
** data
*** moving datasets to lazyload DB
** inst
** byte-compile and prepare package for lazy loading
** help
*** installing help indices
  converting help for package 'GAPGOM'
    finding HTML links ... done
    ambiguous_functions                     html  
    dag_funcs                               html  
    dot-enrichment_analysis                 html  
    dot-entrezraw_to_entrez                 html  
    dot-ext_id_to_term_id                   html  
    dot-fantom_filter_entrez                html  
    dot-generate_translation_df             html  
    dot-get_package_version                 html  
    dot-go_ids_lookup                       html  
    dot-organism_to_species_lib             html  
    dot-prepare_score_df                    html  
    dot-prepare_score_matrix_topoicsim      html  
    dot-prepare_variables_topoicsim         html  
    dot-resolve_genes_unique_gos            html  
    dot-resolve_keys_col                    html  
    dot-set_identical_items                 html  
    dot-set_values                          html  
    dot-term_id_to_ext_id                   html  
    dot-topo_ic_sim_g1g2                    html  
    dot-topo_ic_sim_geneset                 html  
    dot-topo_ic_sim_titj                    html  
    dot-unique_combos                       html  
    expression_prediction                   html  
    expression_semantic_scoring             html  
    expset                                  html  
    fantom_download                         html  
    fantom_load_raw                         html  
    fantom_to_expset                        html  
    geometrical_measures                    html  
    glb_checks                              html  
    id_translation_df                       html  
    misc_functions                          html  
    set_go_data                             html  
    topo_ic_sim_genes                       html  
    topo_ic_sim_term                        html  
** building package indices
** installing vignettes
** testing if installed package can be loaded from temporary location
** testing if installed package can be loaded from final location
** testing if installed package keeps a record of temporary installation path
* MD5 sums
packaged installation of 'GAPGOM' as GAPGOM_1.11.0.zip
* DONE (GAPGOM)